BEGIN:VCALENDAR
VERSION:2.0
PRODID:-//HasGeek//NONSGML Funnel//EN
DESCRIPTION:Painless and effective collaboration
X-WR-CALDESC:Painless and effective collaboration
NAME:Principles of Project Management Flow
X-WR-CALNAME:Principles of Project Management Flow
REFRESH-INTERVAL;VALUE=DURATION:PT12H
SUMMARY:Principles of Project Management Flow
TIMEZONE-ID:Asia/Kolkata
X-PUBLISHED-TTL:PT12H
X-WR-TIMEZONE:Asia/Kolkata
BEGIN:VEVENT
SUMMARY:Principles of Project Management
DTSTART:20230518T113000Z
DTEND:20230518T125000Z
DTSTAMP:20260421T205143Z
UID:session/5wxTpMaibcdkW3svXzZ5uM@hasgeek.com
SEQUENCE:2
CREATED:20230520T043414Z
LAST-MODIFIED:20230520T043420Z
LOCATION:Online
ORGANIZER;CN=Rootconf:MAILTO:no-reply@hasgeek.com
BEGIN:VALARM
ACTION:display
DESCRIPTION:Principles of Project Management in 5 minutes
TRIGGER:-PT5M
END:VALARM
END:VEVENT
END:VCALENDAR
