BEGIN:VCALENDAR
VERSION:2.0
PRODID:-//HasGeek//NONSGML Funnel//EN
DESCRIPTION:Hands-on workshop
X-WR-CALDESC:Hands-on workshop
NAME:Networking demystified with Go: foundations\, HTTP & TLS
X-WR-CALNAME:Networking demystified with Go: foundations\, HTTP & TLS
REFRESH-INTERVAL;VALUE=DURATION:PT12H
SUMMARY:Networking demystified with Go: foundations\, HTTP & TLS
TIMEZONE-ID:Asia/Kolkata
X-PUBLISHED-TTL:PT12H
X-WR-TIMEZONE:Asia/Kolkata
BEGIN:VEVENT
SUMMARY:Check in
DTSTART:20251206T041500Z
DTEND:20251206T043000Z
DTSTAMP:20260420T061502Z
UID:session/WEpc3qdiXL5fnTkn359Q66@hasgeek.com
SEQUENCE:1
CREATED:20251201T130000Z
LAST-MODIFIED:20251201T130004Z
LOCATION:Bangalore
ORGANIZER;CN=Rootconf:MAILTO:no-reply@hasgeek.com
BEGIN:VALARM
ACTION:display
DESCRIPTION:Check in in 5 minutes
TRIGGER:-PT5M
END:VALARM
END:VEVENT
BEGIN:VEVENT
SUMMARY:Hands on session
DTSTART:20251206T043000Z
DTEND:20251206T052000Z
DTSTAMP:20260420T061502Z
UID:session/D4DoFmGEiUYZnE1eZ17eAo@hasgeek.com
SEQUENCE:2
CREATED:20251201T130017Z
LAST-MODIFIED:20251201T130022Z
LOCATION:Bangalore
ORGANIZER;CN=Rootconf:MAILTO:no-reply@hasgeek.com
BEGIN:VALARM
ACTION:display
DESCRIPTION:Hands on session in 5 minutes
TRIGGER:-PT5M
END:VALARM
END:VEVENT
BEGIN:VEVENT
SUMMARY:Break
DTSTART:20251206T052000Z
DTEND:20251206T053000Z
DTSTAMP:20260420T061502Z
UID:session/XiqBhC1iy6La8UgttMyeZ7@hasgeek.com
SEQUENCE:1
CREATED:20251201T130029Z
LAST-MODIFIED:20251201T130033Z
LOCATION:Bangalore
ORGANIZER;CN=Rootconf:MAILTO:no-reply@hasgeek.com
BEGIN:VALARM
ACTION:display
DESCRIPTION:Break in 5 minutes
TRIGGER:-PT5M
END:VALARM
END:VEVENT
BEGIN:VEVENT
SUMMARY:Hands on session
DTSTART:20251206T053000Z
DTEND:20251206T062000Z
DTSTAMP:20260420T061502Z
UID:session/P9N6VEWJqHbDvwEy24HNvx@hasgeek.com
SEQUENCE:2
CREATED:20251201T130046Z
LAST-MODIFIED:20251201T130052Z
LOCATION:Bangalore
ORGANIZER;CN=Rootconf:MAILTO:no-reply@hasgeek.com
BEGIN:VALARM
ACTION:display
DESCRIPTION:Hands on session in 5 minutes
TRIGGER:-PT5M
END:VALARM
END:VEVENT
BEGIN:VEVENT
SUMMARY:Break
DTSTART:20251206T062000Z
DTEND:20251206T063000Z
DTSTAMP:20260420T061502Z
UID:session/GpCjSuypR4rAkEivHv3hhz@hasgeek.com
SEQUENCE:1
CREATED:20251201T130102Z
LAST-MODIFIED:20251201T130105Z
LOCATION:Bangalore
ORGANIZER;CN=Rootconf:MAILTO:no-reply@hasgeek.com
BEGIN:VALARM
ACTION:display
DESCRIPTION:Break in 5 minutes
TRIGGER:-PT5M
END:VALARM
END:VEVENT
BEGIN:VEVENT
SUMMARY:Hands on session
DTSTART:20251206T063000Z
DTEND:20251206T073000Z
DTSTAMP:20260420T061502Z
UID:session/DDtozp7cb1CuCbwguvPCVR@hasgeek.com
SEQUENCE:3
CREATED:20251201T130120Z
LAST-MODIFIED:20251201T130127Z
LOCATION:Bangalore
ORGANIZER;CN=Rootconf:MAILTO:no-reply@hasgeek.com
BEGIN:VALARM
ACTION:display
DESCRIPTION:Hands on session in 5 minutes
TRIGGER:-PT5M
END:VALARM
END:VEVENT
BEGIN:VEVENT
SUMMARY:Q&A
DTSTART:20251206T073000Z
DTEND:20251206T080000Z
DTSTAMP:20260420T061502Z
UID:session/ERDQ9t55x2jn1ViPN2QJT7@hasgeek.com
SEQUENCE:3
CREATED:20251201T130149Z
LAST-MODIFIED:20251201T130155Z
LOCATION:Bangalore
ORGANIZER;CN=Rootconf:MAILTO:no-reply@hasgeek.com
BEGIN:VALARM
ACTION:display
DESCRIPTION:Q&A in 5 minutes
TRIGGER:-PT5M
END:VALARM
END:VEVENT
BEGIN:VEVENT
SUMMARY:Hands on session
DTSTART:20251206T080000Z
DTEND:20251206T083000Z
DTSTAMP:20260420T061502Z
UID:session/6b4PLksQ7PNyBXfrbALYw3@hasgeek.com
SEQUENCE:2
CREATED:20251201T141124Z
LAST-MODIFIED:20251201T141147Z
LOCATION:Bangalore
ORGANIZER;CN=Rootconf:MAILTO:no-reply@hasgeek.com
BEGIN:VALARM
ACTION:display
DESCRIPTION:Hands on session in 5 minutes
TRIGGER:-PT5M
END:VALARM
END:VEVENT
END:VCALENDAR
