BEGIN:VCALENDAR
VERSION:2.0
PRODID:-//HasGeek//NONSGML Funnel//EN
DESCRIPTION:Regulations\, community engagement and change.
X-WR-CALDESC:Regulations\, community engagement and change.
NAME:Navigating the CERT-In directions for business operations.
X-WR-CALNAME:Navigating the CERT-In directions for business operations.
REFRESH-INTERVAL;VALUE=DURATION:PT12H
SUMMARY:Navigating the CERT-In directions for business operations.
TIMEZONE-ID:Asia/Kolkata
X-PUBLISHED-TTL:PT12H
X-WR-TIMEZONE:Asia/Kolkata
BEGIN:VEVENT
SUMMARY:Navigating the CERT-In Directives for Business Operations
DTSTART:20220520T103000Z
DTEND:20220520T113000Z
DTSTAMP:20260421T083825Z
UID:session/VKZQ12mPndGc8ZWZJMfiUS@hasgeek.com
SEQUENCE:6
CREATED:20220513T062404Z
LAST-MODIFIED:20240123T121830Z
LOCATION:Bangalore and Online
ORGANIZER;CN=Rootconf:MAILTO:no-reply@hasgeek.com
BEGIN:VALARM
ACTION:display
DESCRIPTION:Navigating the CERT-In Directives for Business Operations in 5
  minutes
TRIGGER:-PT5M
END:VALARM
END:VEVENT
BEGIN:VEVENT
SUMMARY:Evaluating the technical\, risk and business feasibility of CERT-I
 n directives for SMEs
DTSTART:20220614T103000Z
DTEND:20220614T113000Z
DTSTAMP:20260421T083825Z
UID:session/8DBySKDJ4uQVmdya9qHs1d@hasgeek.com
SEQUENCE:4
CREATED:20220613T141706Z
DESCRIPTION:The following issues will be discussed:\n1. Logs\n2. Incident 
 reporting\n3. User verification/KYC\n\nFor each of these issues\, Rootconf
  community members will discuss the following three criteria:\n1. Technica
 l feasibility\n2. Risk teams reviewing the criteria\n3. Impact on business
 \n\nThe discussion will take place on a call in Rootconf's Telegram channe
 l - https://t.me/rootconf
LAST-MODIFIED:20230108T103046Z
LOCATION:Bangalore and Online
ORGANIZER;CN=Rootconf:MAILTO:no-reply@hasgeek.com
BEGIN:VALARM
ACTION:display
DESCRIPTION:Evaluating the technical\, risk and business feasibility of CE
 RT-In directives for SMEs in 5 minutes
TRIGGER:-PT5M
END:VALARM
END:VEVENT
END:VCALENDAR
