BEGIN:VCALENDAR
VERSION:2.0
PRODID:-//HasGeek//NONSGML Funnel//EN
DESCRIPTION:Rootconf Network Engineering talks
X-WR-CALDESC:Rootconf Network Engineering talks
NAME:Monitoring internet networks using RIPE Atlas probes
X-WR-CALNAME:Monitoring internet networks using RIPE Atlas probes
REFRESH-INTERVAL;VALUE=DURATION:PT12H
SUMMARY:Monitoring internet networks using RIPE Atlas probes
TIMEZONE-ID:Asia/Kolkata
X-PUBLISHED-TTL:PT12H
X-WR-TIMEZONE:Asia/Kolkata
BEGIN:VEVENT
SUMMARY:Introduction to the session and the speaker
DTSTART:20200908T123000Z
DTEND:20200908T123500Z
DTSTAMP:20260421T210506Z
UID:session/Am2GTFqJasjec3gQgAXzEL@hasgeek.com
SEQUENCE:0
CREATED:20200830T132720Z
DESCRIPTION:\n
LAST-MODIFIED:20200830T132720Z
LOCATION:Online
ORGANIZER;CN=Rootconf:MAILTO:no-reply@hasgeek.com
BEGIN:VALARM
ACTION:display
DESCRIPTION:Introduction to the session and the speaker in 5 minutes
TRIGGER:-PT5M
END:VALARM
END:VEVENT
BEGIN:VEVENT
SUMMARY:Monitoring internet networks using Ripe Atlas Probes
DTSTART:20200908T123500Z
DTEND:20200908T130000Z
DTSTAMP:20260421T210506Z
UID:session/PfktKPPq9PmyBk8gS4VbkQ@hasgeek.com
SEQUENCE:1
CREATED:20200830T132740Z
DESCRIPTION:\n
LAST-MODIFIED:20240123T123729Z
LOCATION:Online
ORGANIZER;CN=Rootconf:MAILTO:no-reply@hasgeek.com
BEGIN:VALARM
ACTION:display
DESCRIPTION:Monitoring internet networks using Ripe Atlas Probes in 5 minu
 tes
TRIGGER:-PT5M
END:VALARM
END:VEVENT
BEGIN:VEVENT
SUMMARY:Ripe Atlas Community
DTSTART:20200908T130000Z
DTEND:20200908T131500Z
DTSTAMP:20260421T210506Z
UID:session/RxqL1A5qwwveDwg88V7kKp@hasgeek.com
SEQUENCE:0
CREATED:20200922T071551Z
DESCRIPTION:\n
LAST-MODIFIED:20200922T072406Z
LOCATION:Online
ORGANIZER;CN=Rootconf:MAILTO:no-reply@hasgeek.com
BEGIN:VALARM
ACTION:display
DESCRIPTION:Ripe Atlas Community in 5 minutes
TRIGGER:-PT5M
END:VALARM
END:VEVENT
BEGIN:VEVENT
SUMMARY:Q&A session
DTSTART:20200908T131500Z
DTEND:20200908T133000Z
DTSTAMP:20260421T210506Z
UID:session/VR53DQH4KVBrkzD7BP3uZk@hasgeek.com
SEQUENCE:0
CREATED:20200830T132756Z
DESCRIPTION:\n
LAST-MODIFIED:20200922T071536Z
LOCATION:Online
ORGANIZER;CN=Rootconf:MAILTO:no-reply@hasgeek.com
BEGIN:VALARM
ACTION:display
DESCRIPTION:Q&A session in 5 minutes
TRIGGER:-PT5M
END:VALARM
END:VEVENT
BEGIN:VEVENT
SUMMARY:Conclusion
DTSTART:20200908T133000Z
DTEND:20200908T133500Z
DTSTAMP:20260421T210506Z
UID:session/RXz7f56fhHTTehdBBdYhu2@hasgeek.com
SEQUENCE:0
CREATED:20200830T132946Z
DESCRIPTION:\n
LAST-MODIFIED:20200830T132946Z
LOCATION:Online
ORGANIZER;CN=Rootconf:MAILTO:no-reply@hasgeek.com
BEGIN:VALARM
ACTION:display
DESCRIPTION:Conclusion in 5 minutes
TRIGGER:-PT5M
END:VALARM
END:VEVENT
END:VCALENDAR
