BEGIN:VCALENDAR
VERSION:2.0
PRODID:-//HasGeek//NONSGML Funnel//EN
DESCRIPTION:Technical review
X-WR-CALDESC:Technical review
NAME:Migrating distributed systems infrastructure: methodology and insight
 s
X-WR-CALNAME:Migrating distributed systems infrastructure: methodology and
  insights
REFRESH-INTERVAL;VALUE=DURATION:PT12H
SUMMARY:Migrating distributed systems infrastructure: methodology and insi
 ghts
TIMEZONE-ID:Asia/Kolkata
X-PUBLISHED-TTL:PT12H
X-WR-TIMEZONE:Asia/Kolkata
BEGIN:VEVENT
SUMMARY:Review of migrating distributed systems infrastructure
DTSTART:20250204T043000Z
DTEND:20250204T053000Z
DTSTAMP:20260420T032008Z
UID:session/CM8R8qtBWkkw2uT3VENiW9@hasgeek.com
SEQUENCE:9
CREATED:20250204T131712Z
LAST-MODIFIED:20250211T045317Z
LOCATION:Online
ORGANIZER;CN=Rootconf:MAILTO:no-reply@hasgeek.com
BEGIN:VALARM
ACTION:display
DESCRIPTION:Review of migrating distributed systems infrastructure in 5 mi
 nutes
TRIGGER:-PT5M
END:VALARM
END:VEVENT
END:VCALENDAR
