BEGIN:VCALENDAR
VERSION:2.0
PRODID:-//HasGeek//NONSGML Funnel//EN
DESCRIPTION:Hands-on workshop
X-WR-CALDESC:Hands-on workshop
NAME:Measuring the internet using RIPE Atlas
X-WR-CALNAME:Measuring the internet using RIPE Atlas
REFRESH-INTERVAL;VALUE=DURATION:PT12H
SUMMARY:Measuring the internet using RIPE Atlas
TIMEZONE-ID:Asia/Kolkata
X-PUBLISHED-TTL:PT12H
X-WR-TIMEZONE:Asia/Kolkata
BEGIN:VEVENT
SUMMARY:Introduction to the workshop agenda
DTSTART:20200912T043000Z
DTEND:20200912T044000Z
DTSTAMP:20260421T224655Z
UID:session/CFT5isJRnjBA2VJyHAbCjX@hasgeek.com
SEQUENCE:0
CREATED:20200830T115816Z
DESCRIPTION:\n
LAST-MODIFIED:20200830T115819Z
LOCATION:Online
ORGANIZER;CN=Rootconf:MAILTO:no-reply@hasgeek.com
BEGIN:VALARM
ACTION:display
DESCRIPTION:Introduction to the workshop agenda in 5 minutes
TRIGGER:-PT5M
END:VALARM
END:VEVENT
BEGIN:VEVENT
SUMMARY:Introduction to the RIPE Atlas project
DTSTART:20200912T044000Z
DTEND:20200912T053000Z
DTSTAMP:20260421T224655Z
UID:session/QjWk6PWrXBKSSyMYdenb5W@hasgeek.com
SEQUENCE:2
CREATED:20200830T115849Z
DESCRIPTION:The key take-ways of this workshop are\,\n1. Introduction to t
 he RIPE Atlas project\n2. Using the RIPE Atlas system\n3. Creating various
  measurements (ping\, traceroute\, DNS\, SSL/TLS\, NTP and HTTP)\n4. Use c
 ases\n\n### Speaker bio\n\nSwapneel is a network engineer\, developer\, re
 searcher with interests in Unix systems\, networking and security. In addi
 tion to being a RIPE Atlas Ambassador\, connecting probes on uncharted Aut
 onomous Systems\, he delivers workshops and talks on various topics such a
 s DNS/DNSSEC\, Network Security etc.\n
LAST-MODIFIED:20230810T072606Z
LOCATION:Online
ORGANIZER;CN=Rootconf:MAILTO:no-reply@hasgeek.com
BEGIN:VALARM
ACTION:display
DESCRIPTION:Introduction to the RIPE Atlas project in 5 minutes
TRIGGER:-PT5M
END:VALARM
END:VEVENT
BEGIN:VEVENT
SUMMARY:Break
DTSTART:20200912T053000Z
DTEND:20200912T054500Z
DTSTAMP:20260421T224655Z
UID:session/74ij2kTBXkq6rBsuoZ5JsA@hasgeek.com
SEQUENCE:0
CREATED:20200830T115902Z
DESCRIPTION:\n
LAST-MODIFIED:20200830T115905Z
LOCATION:Online
ORGANIZER;CN=Rootconf:MAILTO:no-reply@hasgeek.com
BEGIN:VALARM
ACTION:display
DESCRIPTION:Break in 5 minutes
TRIGGER:-PT5M
END:VALARM
END:VEVENT
BEGIN:VEVENT
SUMMARY:Creating various measurements (ping\, traceroute\, DNS\, SSL/TLS\,
  NTP and HTTP)
DTSTART:20200912T054500Z
DTEND:20200912T063000Z
DTSTAMP:20260421T224655Z
UID:session/AabSqXquTXs8cUsvy24Yvk@hasgeek.com
SEQUENCE:0
CREATED:20200830T115915Z
DESCRIPTION:\n
LAST-MODIFIED:20200910T062309Z
LOCATION:Online
ORGANIZER;CN=Rootconf:MAILTO:no-reply@hasgeek.com
BEGIN:VALARM
ACTION:display
DESCRIPTION:Creating various measurements (ping\, traceroute\, DNS\, SSL/T
 LS\, NTP and HTTP) in 5 minutes
TRIGGER:-PT5M
END:VALARM
END:VEVENT
BEGIN:VEVENT
SUMMARY:Break
DTSTART:20200912T063000Z
DTEND:20200912T064500Z
DTSTAMP:20260421T224655Z
UID:session/T6Mbt1hD9SqJtEZFz6Dwp5@hasgeek.com
SEQUENCE:0
CREATED:20200830T115929Z
DESCRIPTION:\n
LAST-MODIFIED:20200830T115932Z
LOCATION:Online
ORGANIZER;CN=Rootconf:MAILTO:no-reply@hasgeek.com
BEGIN:VALARM
ACTION:display
DESCRIPTION:Break in 5 minutes
TRIGGER:-PT5M
END:VALARM
END:VEVENT
BEGIN:VEVENT
SUMMARY:Hosting a probe in your network
DTSTART:20200912T064500Z
DTEND:20200912T074500Z
DTSTAMP:20260421T224655Z
UID:session/KraMTPA961HYuQD1fHhB8k@hasgeek.com
SEQUENCE:1
CREATED:20200830T115939Z
DESCRIPTION:https://atlas.ripe.net/docs/software-probe/\n
LAST-MODIFIED:20230108T103046Z
LOCATION:Online
ORGANIZER;CN=Rootconf:MAILTO:no-reply@hasgeek.com
BEGIN:VALARM
ACTION:display
DESCRIPTION:Hosting a probe in your network in 5 minutes
TRIGGER:-PT5M
END:VALARM
END:VEVENT
BEGIN:VEVENT
SUMMARY:Summary and conclusion
DTSTART:20200912T074500Z
DTEND:20200912T075500Z
DTSTAMP:20260421T224655Z
UID:session/UB2kox7gAH55iVXDrdE18w@hasgeek.com
SEQUENCE:0
CREATED:20200830T120019Z
DESCRIPTION:\n
LAST-MODIFIED:20200910T061820Z
LOCATION:Online
ORGANIZER;CN=Rootconf:MAILTO:no-reply@hasgeek.com
BEGIN:VALARM
ACTION:display
DESCRIPTION:Summary and conclusion in 5 minutes
TRIGGER:-PT5M
END:VALARM
END:VEVENT
END:VCALENDAR
