BEGIN:VCALENDAR
VERSION:2.0
PRODID:-//HasGeek//NONSGML Funnel//EN
DESCRIPTION:Workshop
X-WR-CALDESC:Workshop
NAME:Hack the Kernel: Contributing to the Linux Mainline
X-WR-CALNAME:Hack the Kernel: Contributing to the Linux Mainline
REFRESH-INTERVAL;VALUE=DURATION:PT12H
SUMMARY:Hack the Kernel: Contributing to the Linux Mainline
TIMEZONE-ID:Asia/Kolkata
X-PUBLISHED-TTL:PT12H
X-WR-TIMEZONE:Asia/Kolkata
BEGIN:VEVENT
SUMMARY:Hack the Kernel: Contributing to the Linux Mainline
DTSTART:20241123T083000Z
DTEND:20241123T120000Z
DTSTAMP:20260420T031448Z
UID:session/8oQe38ftxsFBrUKkPtc75W@hasgeek.com
SEQUENCE:21
CREATED:20241113T085614Z
DESCRIPTION:## About the workshop 📚\nDuring this hands-on workshop\, pa
 rticipants will:\n\n1. Understand the Linux kernel release life cycle.\n2.
  Make a change to the codebase.\n3. Create a patch.\n4. Send the patch to 
 the maintainers.\n5. Get feedback and make revisions (v2\, v3\, etc.).\n6.
  See how patch acceptance and merging happens.\n\n* The workshop is of 90 
 mins duration.\n* This is an in-person workshop.\n* Only 35 seats are open
  for workshop participation.\n* Recording of the workshop will be made ava
 ilable for [Rootconf members](https://hasgeek.com/rootconf#membership).\n\
 n## Important prerequisites for participants attending the workshop 📝\n
 1. Familiarity with git basics will be useful.\n2. Laptop with Linux insta
 llation.\n\n## Workshop outline 🗂️\n\n## About the instructor 👨‍
 🏫\nShivam is a Linux enthusiast and Linux kernel contributor. He works 
 at Nvidia.\n\n## Who should attend this workshop 👨‍💻\n* Open sourc
 e contributors\n* Linux Enthusiasts\n* Companies who hire open source main
 tainers\n* System-level programmers\n* Embedded systems engineers\n* Syste
 m-level Android developers\n\n## How will participants benefit from the wo
 rkshop 🎓\nAt the end of the workshop\, participants will understand: \n
 1. Structured contribution process: how to contribute to the Linux kernel 
 in a well-defined manner\, including identifying the area of change\, adhe
 ring to coding standards\, creating patches\, and submitting them to the a
 ppropriate maintainers for review.\n2. Challenges for new contributors: ho
 w newcomers can identify “good first issues” for contributing to the L
 inux kernel\, and kickstart their journey in kernel development.\n\n*Overa
 ll\, this workshop intends to grow potential contributions and contributor
 s to the Linux kernel by guiding new contributors and helping them find st
 arting points.*\n\n## How to Register\nThis workshop is free to attend for
  [Rootconf members](https://hasgeek.com/rootconf#memberships) or  [Rootcon
 f ticket buyers](https://hasgeek.com/rootconf/linux-kernel-patches-devspri
 nt/#tickets).\n\n**This workshop is open to 35 participants only. Seats wi
 ll be available on first-come-first-serve basis. RSVP to secure a seat.** 
 🎟️    \n\n## Contact information ☎️\nFor inquiries about the work
 shop\, contact +91-7676332020 or write to [info@hasgeek.com](mailto:info@h
 asgeek.com)
LAST-MODIFIED:20241208T135844Z
LOCATION:Bangalore - https://hasgeek.com/rootconf/linux-kernel-patches-dev
 sprint/
ORGANIZER;CN=Rootconf:MAILTO:no-reply@hasgeek.com
URL:https://hasgeek.com/rootconf/linux-kernel-patches-devsprint/
BEGIN:VALARM
ACTION:display
DESCRIPTION:Hack the Kernel: Contributing to the Linux Mainline in 5 minut
 es
TRIGGER:-PT5M
END:VALARM
END:VEVENT
END:VCALENDAR
