BEGIN:VCALENDAR
VERSION:2.0
PRODID:-//HasGeek//NONSGML Funnel//EN
DESCRIPTION:Information security workshop for women participants
X-WR-CALDESC:Information security workshop for women participants
NAME:Information Security workshop
X-WR-CALNAME:Information Security workshop
REFRESH-INTERVAL;VALUE=DURATION:PT12H
SUMMARY:Information Security workshop
TIMEZONE-ID:Asia/Kolkata
X-PUBLISHED-TTL:PT12H
X-WR-TIMEZONE:Asia/Kolkata
BEGIN:VEVENT
SUMMARY:Information Security workshop
DTSTART:20150117T043000Z
DTEND:20150117T090500Z
DTSTAMP:20260421T112701Z
UID:session/PLpmApPAxqjxfe19Nqcy2E@hasgeek.com
SEQUENCE:0
CREATED:20190626T083815Z
DESCRIPTION:\n
LAST-MODIFIED:20190626T083826Z
LOCATION:Workshop room - HasGeek House\nBangalore\nIN
ORGANIZER;CN=Rootconf:MAILTO:no-reply@hasgeek.com
BEGIN:VALARM
ACTION:display
DESCRIPTION:Information Security workshop in Workshop room in 5 minutes
TRIGGER:-PT5M
END:VALARM
END:VEVENT
END:VCALENDAR
