BEGIN:VCALENDAR
VERSION:2.0
PRODID:-//HasGeek//NONSGML Funnel//EN
DESCRIPTION:Security workshop
X-WR-CALDESC:Security workshop
NAME:Digital forensics and incident response
X-WR-CALNAME:Digital forensics and incident response
REFRESH-INTERVAL;VALUE=DURATION:PT12H
SUMMARY:Digital forensics and incident response
TIMEZONE-ID:Asia/Kolkata
X-PUBLISHED-TTL:PT12H
X-WR-TIMEZONE:Asia/Kolkata
BEGIN:VEVENT
SUMMARY:Registrations and welcome
DTSTART:20221123T053000Z
DTEND:20221123T054500Z
DTSTAMP:20260419T170227Z
UID:session/LgW6NvxBGAqHZnAq5nWboA@hasgeek.com
SEQUENCE:1
CREATED:20221118T031109Z
LAST-MODIFIED:20221118T031111Z
LOCATION:Training room - AWS Bangalore Office\nBangalore\nIN
ORGANIZER;CN=Rootconf:MAILTO:no-reply@hasgeek.com
BEGIN:VALARM
ACTION:display
DESCRIPTION:Registrations and welcome in Training room in 5 minutes
TRIGGER:-PT5M
END:VALARM
END:VEVENT
BEGIN:VEVENT
SUMMARY:Cert-in guidelines - chalk talk
DTSTART:20221123T054500Z
DTEND:20221123T063000Z
DTSTAMP:20260419T170227Z
UID:session/L6ndxvdUmw3e15kzhCmT8s@hasgeek.com
SEQUENCE:1
CREATED:20221118T031154Z
LAST-MODIFIED:20221118T031158Z
LOCATION:Training room - AWS Bangalore Office\nBangalore\nIN
ORGANIZER;CN=Rootconf:MAILTO:no-reply@hasgeek.com
BEGIN:VALARM
ACTION:display
DESCRIPTION:Cert-in guidelines - chalk talk in Training room in 5 minutes
TRIGGER:-PT5M
END:VALARM
END:VEVENT
BEGIN:VEVENT
SUMMARY:DFIR in AWS
DTSTART:20221123T063000Z
DTEND:20221123T071500Z
DTSTAMP:20260419T170227Z
UID:session/71Q2gdcRjXkKNLMyUvPgwc@hasgeek.com
SEQUENCE:1
CREATED:20221118T031211Z
LAST-MODIFIED:20221118T031217Z
LOCATION:Training room - AWS Bangalore Office\nBangalore\nIN
ORGANIZER;CN=Rootconf:MAILTO:no-reply@hasgeek.com
BEGIN:VALARM
ACTION:display
DESCRIPTION:DFIR in AWS in Training room in 5 minutes
TRIGGER:-PT5M
END:VALARM
END:VEVENT
BEGIN:VEVENT
SUMMARY:Break
DTSTART:20221123T071500Z
DTEND:20221123T073000Z
DTSTAMP:20260419T170227Z
UID:session/MVe6QVFxUWVxcC7P7KZozW@hasgeek.com
SEQUENCE:1
CREATED:20221118T031246Z
LAST-MODIFIED:20221118T031259Z
LOCATION:Bangalore
ORGANIZER;CN=Rootconf:MAILTO:no-reply@hasgeek.com
BEGIN:VALARM
ACTION:display
DESCRIPTION:Break in 5 minutes
TRIGGER:-PT5M
END:VALARM
END:VEVENT
BEGIN:VEVENT
SUMMARY:Threat Detection with Amazon GuardDuty
DTSTART:20221123T073000Z
DTEND:20221123T083000Z
DTSTAMP:20260419T170227Z
UID:session/U36EMWjzcD2g1o2CqJa52p@hasgeek.com
SEQUENCE:2
CREATED:20221118T031313Z
LAST-MODIFIED:20221118T031325Z
LOCATION:Training room - AWS Bangalore Office\nBangalore\nIN
ORGANIZER;CN=Rootconf:MAILTO:no-reply@hasgeek.com
BEGIN:VALARM
ACTION:display
DESCRIPTION:Threat Detection with Amazon GuardDuty in Training room in 5 m
 inutes
TRIGGER:-PT5M
END:VALARM
END:VEVENT
BEGIN:VEVENT
SUMMARY:Lunch
DTSTART:20221123T083000Z
DTEND:20221123T093000Z
DTSTAMP:20260419T170227Z
UID:session/86CPNLeDKznGxve4XRHxsZ@hasgeek.com
SEQUENCE:1
CREATED:20221118T031334Z
LAST-MODIFIED:20221118T031338Z
LOCATION:Bangalore
ORGANIZER;CN=Rootconf:MAILTO:no-reply@hasgeek.com
BEGIN:VALARM
ACTION:display
DESCRIPTION:Lunch in 5 minutes
TRIGGER:-PT5M
END:VALARM
END:VEVENT
BEGIN:VEVENT
SUMMARY:Digital forensics in AWS – Amazon Detective
DTSTART:20221123T093000Z
DTEND:20221123T103000Z
DTSTAMP:20260419T170227Z
UID:session/6GLac6ZMn1Kv5JWmcJ9saF@hasgeek.com
SEQUENCE:1
CREATED:20221118T031357Z
LAST-MODIFIED:20221118T031401Z
LOCATION:Training room - AWS Bangalore Office\nBangalore\nIN
ORGANIZER;CN=Rootconf:MAILTO:no-reply@hasgeek.com
BEGIN:VALARM
ACTION:display
DESCRIPTION:Digital forensics in AWS – Amazon Detective in Training room
  in 5 minutes
TRIGGER:-PT5M
END:VALARM
END:VEVENT
BEGIN:VEVENT
SUMMARY:Q&A
DTSTART:20221123T103000Z
DTEND:20221123T111500Z
DTSTAMP:20260419T170227Z
UID:session/VqD2ctVXSNivjBCGyR2Nbp@hasgeek.com
SEQUENCE:1
CREATED:20221118T031416Z
LAST-MODIFIED:20221118T031420Z
LOCATION:Training room - AWS Bangalore Office\nBangalore\nIN
ORGANIZER;CN=Rootconf:MAILTO:no-reply@hasgeek.com
BEGIN:VALARM
ACTION:display
DESCRIPTION:Q&A in Training room in 5 minutes
TRIGGER:-PT5M
END:VALARM
END:VEVENT
BEGIN:VEVENT
SUMMARY:Wrap-up
DTSTART:20221123T111500Z
DTEND:20221123T113000Z
DTSTAMP:20260419T170227Z
UID:session/6Pkg7bKzSaj9XMdbiipBMg@hasgeek.com
SEQUENCE:1
CREATED:20221118T031431Z
LAST-MODIFIED:20221118T031434Z
LOCATION:Training room - AWS Bangalore Office\nBangalore\nIN
ORGANIZER;CN=Rootconf:MAILTO:no-reply@hasgeek.com
BEGIN:VALARM
ACTION:display
DESCRIPTION:Wrap-up in Training room in 5 minutes
TRIGGER:-PT5M
END:VALARM
END:VEVENT
END:VCALENDAR
