BEGIN:VCALENDAR
VERSION:2.0
PRODID:-//HasGeek//NONSGML Funnel//EN
DESCRIPTION:Blr Sys and Rootconf meet-up
X-WR-CALDESC:Blr Sys and Rootconf meet-up
NAME:Fundamentals of data management at scale
X-WR-CALNAME:Fundamentals of data management at scale
REFRESH-INTERVAL;VALUE=DURATION:PT12H
SUMMARY:Fundamentals of data management at scale
TIMEZONE-ID:Asia/Kolkata
X-PUBLISHED-TTL:PT12H
X-WR-TIMEZONE:Asia/Kolkata
BEGIN:VEVENT
SUMMARY:Fundamentals of data management at scale
DTSTART:20251129T111500Z
DTEND:20251129T130000Z
DTSTAMP:20260419T152811Z
UID:session/5w1M2MtRimupXu6W37h5H3@hasgeek.com
SEQUENCE:16
CREATED:20251116T105424Z
DESCRIPTION:## About the meet-up\nUnmesh Joshi will speak about the fundam
 entals of data management at scale\, including sharding\, replication\, pa
 rtitioning\, leases\, CAP theorem\, etc.  He will show common patterns obs
 erved in open source implementations\, particularly focusing on consistenc
 y and availability.\n\nThis is an interactive meet-up. Attendees are encou
 raged to ask questions while the presenter is speaking. \n\n## Hosts\nThis
  meet-up is jointly organized by Bengaluru Systems Meetup and Rootconf. An
 irudh Rowjee has curated the meet-up. Rootconf rallied the speaker\, venue
  and sponsor. \n\n## Who should attend this meet-up\nNo matter where you a
 re in your career\, this talk will equip you with actionable insights to l
 evel up your work with distributed systems.\n\n## About the presenter\n**U
 nmesh Joshi** is a Distinguished Engineer at Thoughtworks. He is a softwar
 e architecture enthusiast\, who believes that understanding principles of 
 distributed systems is as essential today as understanding web architectur
 e or object-oriented programming was in the last decade. For the last two 
 years he has been publishing patterns of distributed systems on martinfowl
 er.com. \n**In 2023\, he authored the [book Patterns of Distributed System
 s](https://www.amazon.com/Patterns-Distributed-Systems-Addison-wesley-Sign
 ature/dp/0138221987) published by Addison Wesley Professional.** This book
  is an essential catalog of patterns aimed at enhancing comprehension\, co
 mmunication and education on distributed system design\nHe has also conduc
 ted various training sessions around this topic. Twitter: [@unmeshjoshi](h
 ttps://x.com/unmeshjoshi)\n\n## Venue host\nThank you to the hosts for thi
 s meet-up\, [E6Data](https://hasgeek.com/e6data)\, and to [Sudarshan L](ht
 tps://hasgeek.com/rootconf/2024/schedule/using-java-in-low-latency-applica
 tions-5i2R8rZ3UGwC9N8zLv6h7m) for volunteering to support with the venue.\
 n\n## How to attend?\nFREE and OPEN to all for in-person participation and
  online viewing. The live stream is open to everyone\, thanks to our wonde
 rful sponsors - Cloudflare. \n\n## Need help?\n☎️ Call: 7676332020\n
 📧 Email: info@hasgeek.com\n💬 Comment: [meet-up forum](https://hasgee
 k.com/rootconf/fundamentals-of-data-management-at-scale/comments)
LAST-MODIFIED:20251128T083331Z
LOCATION:E6Data\, Bangalore - https://hasgeek.com/rootconf/fundamentals-of
 -data-management-at-scale/
ORGANIZER;CN=Rootconf:MAILTO:no-reply@hasgeek.com
URL:https://hasgeek.com/rootconf/fundamentals-of-data-management-at-scale/
BEGIN:VALARM
ACTION:display
DESCRIPTION:Fundamentals of data management at scale in 5 minutes
TRIGGER:-PT5M
END:VALARM
END:VEVENT
END:VCALENDAR
