BEGIN:VCALENDAR
VERSION:2.0
PRODID:-//HasGeek//NONSGML Funnel//EN
DESCRIPTION:Hands-on workshop for SREs and senior engineers who want to un
 derstand how systems like Kubernetes and Kafka work under the hood.
X-WR-CALDESC:Hands-on workshop for SREs and senior engineers who want to u
 nderstand how systems like Kubernetes and Kafka work under the hood.
NAME:From outages to internals: understanding the physics of distributed s
 ystems
X-WR-CALNAME:From outages to internals: understanding the physics of distr
 ibuted systems
REFRESH-INTERVAL;VALUE=DURATION:PT12H
SUMMARY:From outages to internals: understanding the physics of distribute
 d systems
TIMEZONE-ID:Asia/Kolkata
X-PUBLISHED-TTL:PT12H
X-WR-TIMEZONE:Asia/Kolkata
BEGIN:VEVENT
SUMMARY:Check in
DTSTART:20251129T041500Z
DTEND:20251129T043000Z
DTSTAMP:20260419T203329Z
UID:session/U4JbEhE61apAGYgprETtJf@hasgeek.com
SEQUENCE:1
CREATED:20251121T130324Z
LAST-MODIFIED:20251121T130349Z
LOCATION:Bangalore
ORGANIZER;CN=Rootconf:MAILTO:no-reply@hasgeek.com
BEGIN:VALARM
ACTION:display
DESCRIPTION:Check in in 5 minutes
TRIGGER:-PT5M
END:VALARM
END:VEVENT
BEGIN:VEVENT
SUMMARY:Hands on workshop
DTSTART:20251129T043000Z
DTEND:20251129T053500Z
DTSTAMP:20260419T203329Z
UID:session/Hd3Kh2kMQPKiki7fizBmgt@hasgeek.com
SEQUENCE:5
CREATED:20251121T130407Z
LAST-MODIFIED:20251129T073204Z
LOCATION:Bangalore
ORGANIZER;CN=Rootconf:MAILTO:no-reply@hasgeek.com
BEGIN:VALARM
ACTION:display
DESCRIPTION:Hands on workshop in 5 minutes
TRIGGER:-PT5M
END:VALARM
END:VEVENT
BEGIN:VEVENT
SUMMARY:Break
DTSTART:20251129T053500Z
DTEND:20251129T055000Z
DTSTAMP:20260419T203329Z
UID:session/CiNFsLn4wD7ogM5GHhKf3H@hasgeek.com
SEQUENCE:4
CREATED:20251121T130450Z
LAST-MODIFIED:20251129T073159Z
LOCATION:Bangalore
ORGANIZER;CN=Rootconf:MAILTO:no-reply@hasgeek.com
BEGIN:VALARM
ACTION:display
DESCRIPTION:Break in 5 minutes
TRIGGER:-PT5M
END:VALARM
END:VEVENT
BEGIN:VEVENT
SUMMARY:Hands on workshop
DTSTART:20251129T055000Z
DTEND:20251129T070000Z
DTSTAMP:20260419T203329Z
UID:session/DaosLpt63hkbRmLPS6QV4f@hasgeek.com
SEQUENCE:5
CREATED:20251121T130506Z
LAST-MODIFIED:20251129T073147Z
LOCATION:Bangalore
ORGANIZER;CN=Rootconf:MAILTO:no-reply@hasgeek.com
BEGIN:VALARM
ACTION:display
DESCRIPTION:Hands on workshop in 5 minutes
TRIGGER:-PT5M
END:VALARM
END:VEVENT
BEGIN:VEVENT
SUMMARY:Break
DTSTART:20251129T070000Z
DTEND:20251129T071500Z
DTSTAMP:20260419T203329Z
UID:session/ESY3QAet8hgcfy4ysegaCv@hasgeek.com
SEQUENCE:4
CREATED:20251121T130539Z
LAST-MODIFIED:20251129T073134Z
LOCATION:Bangalore
ORGANIZER;CN=Rootconf:MAILTO:no-reply@hasgeek.com
BEGIN:VALARM
ACTION:display
DESCRIPTION:Break in 5 minutes
TRIGGER:-PT5M
END:VALARM
END:VEVENT
BEGIN:VEVENT
SUMMARY:Hands on workshop
DTSTART:20251129T071500Z
DTEND:20251129T083000Z
DTSTAMP:20260419T203329Z
UID:session/RVxJagA1a3JkSnckmeHy5U@hasgeek.com
SEQUENCE:11
CREATED:20251121T130557Z
LAST-MODIFIED:20251129T073122Z
LOCATION:Bangalore
ORGANIZER;CN=Rootconf:MAILTO:no-reply@hasgeek.com
BEGIN:VALARM
ACTION:display
DESCRIPTION:Hands on workshop in 5 minutes
TRIGGER:-PT5M
END:VALARM
END:VEVENT
BEGIN:VEVENT
SUMMARY:Lunch break
DTSTART:20251129T083000Z
DTEND:20251129T090000Z
DTSTAMP:20260419T203329Z
UID:session/7bKfT4AQN5NEcomD1fgLbF@hasgeek.com
SEQUENCE:7
CREATED:20251121T130639Z
LAST-MODIFIED:20251129T073102Z
LOCATION:Bangalore
ORGANIZER;CN=Rootconf:MAILTO:no-reply@hasgeek.com
BEGIN:VALARM
ACTION:display
DESCRIPTION:Lunch break in 5 minutes
TRIGGER:-PT5M
END:VALARM
END:VEVENT
BEGIN:VEVENT
SUMMARY:Hands on workshop
DTSTART:20251129T090000Z
DTEND:20251129T110000Z
DTSTAMP:20260419T203329Z
UID:session/4Vg8o2ZeWKYhot5HEN8xQ9@hasgeek.com
SEQUENCE:7
CREATED:20251121T130708Z
LAST-MODIFIED:20251129T073047Z
LOCATION:Bangalore
ORGANIZER;CN=Rootconf:MAILTO:no-reply@hasgeek.com
BEGIN:VALARM
ACTION:display
DESCRIPTION:Hands on workshop in 5 minutes
TRIGGER:-PT5M
END:VALARM
END:VEVENT
END:VCALENDAR
