BEGIN:VCALENDAR
VERSION:2.0
PRODID:-//HasGeek//NONSGML Funnel//EN
DESCRIPTION:Workshop
X-WR-CALDESC:Workshop
NAME:Deploy & Forget: Mastering Flatcar Container Linux
X-WR-CALNAME:Deploy & Forget: Mastering Flatcar Container Linux
REFRESH-INTERVAL;VALUE=DURATION:PT12H
SUMMARY:Deploy & Forget: Mastering Flatcar Container Linux
TIMEZONE-ID:Asia/Kolkata
X-PUBLISHED-TTL:PT12H
X-WR-TIMEZONE:Asia/Kolkata
BEGIN:VEVENT
SUMMARY:Workshop - Deploy and forget: mastering Flatcar container Linux
DTSTART:20241123T043000Z
DTEND:20241123T073000Z
DTSTAMP:20260421T112736Z
UID:session/4yz1YjxLx39EhmfEL17oCr@hasgeek.com
SEQUENCE:3
CREATED:20241115T074537Z
GEO:12.934533;77.626579
LAST-MODIFIED:20241115T074545Z
LOCATION:Data Lab\, Ground Floor - Thoughtworks\nBengaluru\nIN
ORGANIZER;CN=Rootconf:MAILTO:no-reply@hasgeek.com
BEGIN:VALARM
ACTION:display
DESCRIPTION:Workshop - Deploy and forget: mastering Flatcar container Linu
 x in Data Lab\, Ground Floor in 5 minutes
TRIGGER:-PT5M
END:VALARM
END:VEVENT
END:VCALENDAR
