BEGIN:VCALENDAR
VERSION:2.0
PRODID:-//HasGeek//NONSGML Funnel//EN
DESCRIPTION:Mixer
X-WR-CALDESC:Mixer
NAME:The art of software project management - meet the master managers
X-WR-CALNAME:The art of software project management - meet the master mana
 gers
REFRESH-INTERVAL;VALUE=DURATION:PT12H
SUMMARY:The art of software project management - meet the master managers
TIMEZONE-ID:Asia/Kolkata
X-PUBLISHED-TTL:PT12H
X-WR-TIMEZONE:Asia/Kolkata
BEGIN:VEVENT
SUMMARY:The art of software project management - meet the master managers
DTSTART:20240223T120000Z
DTEND:20240223T140000Z
DTSTAMP:20260421T210317Z
UID:session/WBERg1zz6mSAUtik1vcH3S@hasgeek.com
SEQUENCE:34
CREATED:20240201T131106Z
DESCRIPTION:## About the mixer\nAre you a newly promoted engineering leade
 r?\nDo you feel lost and out of your depth?\nDo you struggle with getting 
 budgets from business?\nAre you unsure how to track your projects?\nAre yo
 u constantly firefighting and are burnt out?\nEver wish that there was a s
 afe space for you to discuss your thoughts?\n\nWell\, look no further.\n\n
 This mixer is an opportunity for all engineering professionals to interact
  with leaders who have spent their careers on the front lines like you. Le
 arn from the best as they share their lessons from past failures and succe
 ss along with battle tested tips on engineering management.\n\nThe mixer w
 ill happen in a birds of feather format. You will choose a topic and we wi
 ll assign the master who has expertise in it. You will be part of that gro
 up(no more than 5 people) and will get to discuss and learn from that mast
 er for 45min. \n\n## What's in it for you?\n1. Get one-on-one\, dedicated 
 face time with leaders in a no holds barred\, AMA.\n2. Meet Mentors and co
 aches who can guide you to the next level of your career.\n3. Meet your pe
 ers\, network and learn more about your industry trends\n\n## Meet the Mas
 ters\n1. [Deepti Agrawal](https://in.linkedin.com/in/deeptiagrawal) is a D
 irector of Engineering at Flipkart. She is experienced in building large s
 cale systems\, managing teams\, building scalable architectures and infras
 tructure. She likes to build products that are functional\, resilient and 
 have a great user experience.\n\n2. [Kamal Govindraj](https://www.linkedin
 .com/in/kgovindraj/) is currently a Chief Architect at Groww. He is an exp
 erienced architect specialized in building enterprise and large scale web 
 applications. He has worked as Director of Software Engineering at Accelet
 rade and as an architect at Flipkart in the past.\n\n3. [Pratul Kalia](htt
 ps://tramline.app) is CEO and co-founder at Tramline. Previously\, Pratul 
 was co-founder and CTO at [Obvious](https://obvious.in). His team at Obvio
 us built the original apps for many stellar brands including Flipkart\, My
 ntra\, Swiggy\, Insider\, helped with performance and maintainability of m
 ature codebases at Dunzo and Ola Cabs\, and worked with non-profits such a
 s Wikimedia Foundation and Simple.org.\n\n## What topics will be covered?\
 nThe Master Managers will each discuss one or more aspects of Engineering 
  management\, including: \n1. Prioritization and budgeting.\n2. Organizati
 on building and team management.\n3. Metrics and feedback loops.\n4. Cross
  functional programme management and communication - stakeholder managemen
 t and delivery.\n\n## Who should participate?\n1. Individuals who have rec
 ently joined engineering manager roles.\n2. Individuals who aspire to beco
 me engineering managers.\n3. Startup founders  (early to Series C/D) who w
 ant coaching/mentoring on how to manage engineers and run successful busin
 esses.\n4. Mid-career managers (Director to VP’s of Engineering)\n\n\n##
  About the curators\n1. [Sanchita Agarwal](https://in.linkedin.com/in/sanc
 hita-agarwal-b59b1419) is an engineering leader with more than a decade of
  experience building mobile first products. In her last role\, she was Hea
 d of Engineering at Obvious\, a digital product consultancy where she led 
 delivery of multiple cross platform projects for products like Swiggy and 
 Slice. Before that\, she helped build the Android Partner app at Ola and t
 he Health & Chat apps at Samsung R&D India.\n\n2. [Mayankk Banerjee](https
 ://www.linkedin.com/in/mayankbanerjee/) is an engineering leader with 25yr
 s+ of hands-on technology and management experience. He has built deep tec
 h and high throughput solutions\, and works as an executive coach and frac
 tional CTO.\n\n## About software project management series\nThis mixer is 
 curated as part of the [software project management series of talks](http:
 //has.gy/iy7m). The talks are intended to produce an experiential knowledg
 ebase of case studies and concepts to get better (and faster and cheaper) 
 at software project management. This series is curated by Pramod Biligiri 
 and Mayankk Banerjee.  \n\n## How to participate\n**This is an in-person m
 ixer\, open to Rootconf members. You can participate by picking up a membe
 rship from [here](http://has.gy/gT_Y).** Members can bring two guests alon
 g with them. \n\n## Contact information \nJoin the Rootconf Telegram group
  at <https://t.me/rootconf> or follow [@rootconf on Twitter](https://twitt
 er.com/rootconf).\nFor inquiries\, contact Rootconf at +91-7676332020. 
LAST-MODIFIED:20240223T052412Z
LOCATION:Bangalore - https://hasgeek.com/rootconf/february-2024-mixer/
ORGANIZER;CN=Rootconf:MAILTO:no-reply@hasgeek.com
URL:https://hasgeek.com/rootconf/february-2024-mixer/
BEGIN:VALARM
ACTION:display
DESCRIPTION:The art of software project management - meet the master manag
 ers in 5 minutes
TRIGGER:-PT5M
END:VALARM
END:VEVENT
END:VCALENDAR
