BEGIN:VCALENDAR
VERSION:2.0
PRODID:-//HasGeek//NONSGML Funnel//EN
DESCRIPTION:Monthly meet-up
X-WR-CALDESC:Monthly meet-up
NAME:Data privacy by design - strategies and patterns
X-WR-CALNAME:Data privacy by design - strategies and patterns
REFRESH-INTERVAL;VALUE=DURATION:PT12H
SUMMARY:Data privacy by design - strategies and patterns
TIMEZONE-ID:Asia/Kolkata
X-PUBLISHED-TTL:PT12H
X-WR-TIMEZONE:Asia/Kolkata
BEGIN:VEVENT
SUMMARY:Check-in and registration
DTSTART:20240229T120000Z
DTEND:20240229T121000Z
DTSTAMP:20260421T210251Z
UID:session/SNBFUBfeHNPFNZKbpJyB2d@hasgeek.com
SEQUENCE:1
CREATED:20240214T071039Z
LAST-MODIFIED:20240214T071041Z
LOCATION:Lower ground floor basement in the NASCOMM startups building in D
 iamond District - Simpl\nBengaluru\,\nIN
ORGANIZER;CN=Rootconf:MAILTO:no-reply@hasgeek.com
BEGIN:VALARM
ACTION:display
DESCRIPTION:Check-in and registration in Lower ground floor basement in th
 e NASCOMM startups building in Diamond District in 5 minutes
TRIGGER:-PT5M
END:VALARM
END:VEVENT
BEGIN:VEVENT
SUMMARY:About Rootconf and introductions
DTSTART:20240229T121000Z
DTEND:20240229T121500Z
DTSTAMP:20260421T210251Z
UID:session/QYefzDCwdB8jb4UqnLZeXB@hasgeek.com
SEQUENCE:1
CREATED:20240214T071026Z
LAST-MODIFIED:20240214T071030Z
LOCATION:Lower ground floor basement in the NASCOMM startups building in D
 iamond District - Simpl\nBengaluru\,\nIN
ORGANIZER;CN=Rootconf:MAILTO:no-reply@hasgeek.com
BEGIN:VALARM
ACTION:display
DESCRIPTION:About Rootconf and introductions in Lower ground floor basemen
 t in the NASCOMM startups building in Diamond District in 5 minutes
TRIGGER:-PT5M
END:VALARM
END:VEVENT
BEGIN:VEVENT
SUMMARY:Data privacy by design - strategies and patterns
DTSTART:20240229T121500Z
DTEND:20240229T131500Z
DTSTAMP:20260421T210251Z
UID:session/Ck3Z4n4nttJhYWsF1nANXN@hasgeek.com
SEQUENCE:3
CREATED:20240214T071106Z
LAST-MODIFIED:20240229T030541Z
LOCATION:Lower ground floor basement in the NASCOMM startups building in D
 iamond District - Simpl\nBengaluru\,\nIN
ORGANIZER;CN=Rootconf:MAILTO:no-reply@hasgeek.com
BEGIN:VALARM
ACTION:display
DESCRIPTION:Data privacy by design - strategies and patterns in Lower grou
 nd floor basement in the NASCOMM startups building in Diamond District in 
 5 minutes
TRIGGER:-PT5M
END:VALARM
END:VEVENT
BEGIN:VEVENT
SUMMARY:Principle of Least Privilege
DTSTART:20240229T131500Z
DTEND:20240229T132500Z
DTSTAMP:20260421T210251Z
UID:session/TuGSA434dybfhdnfNDYxKj@hasgeek.com
SEQUENCE:4
CREATED:20240229T030512Z
DESCRIPTION:### Principle of Least Privilege: \n\nThe Principle of Least P
 rivilege (PoLP) is a security concept that dictates that any user\, progra
 m\, or process should have only the minimum privileges necessary to perfor
 m its function. The goal of PoLP is to limit the potential damage from acc
 idents\, errors\, or unauthorized use of resources. Here are key points ab
 out the principle and how it can be applied:\n\n### Understanding the Prin
 ciple of Least Privilege:\n\n1. **Minimal Access**: Each user should have 
 access only to the resources and information that are necessary for their 
 legitimate purpose.\n2. **Need-to-Know Basis**: Information should only be
  accessible on a need-to-know basis\, reducing the risk of sensitive data 
 exposure.\n3. **Permission Restrictions**: Users should be restricted in t
 heir ability to install software\, change system settings\, or execute hig
 h-privilege operations unless necessary for their role.\n\n### Implementin
 g Least Privilege:\n\n1. **User Account Management**: Create user accounts
  with appropriate privilege levels for their roles within the organization
 .\n2. **Role-Based Access Control (RBAC)**: Assign permissions based on pr
 edefined roles rather than individual users to streamline management and a
 uditing.\n3. **Temporary Elevated Access**: Grant higher privileges on a t
 emporary basis when required for specific tasks and ensure they are revoke
 d upon completion.\n4. **Regular Audits**: Conduct periodic reviews of acc
 ess rights to ensure they remain aligned with job functions and remove exc
 ess privileges.\n\n### Benefits of Least Privilege:\n\n1. **Reduced Attack
  Surface**: Limiting privileges reduces opportunities for attackers to exp
 loit vulnerabilities or hijack accounts with extensive permissions.\n2. **
 Mitigation of Insider Threats**: By restricting access\, the potential dam
 age from malicious insiders or compromised accounts is minimized.\n3. **Im
 proved Compliance**: Many regulatory frameworks require adherence to least
  privilege principles as part of data protection practices.\n\n### Challen
 ges in Enforcing Least Privilege:\n\n1. **Complexity in Large Organization
 s**: As organizations grow\, managing individual access rights becomes inc
 reasingly complex.\n2. **Balancing Security and Usability**: Too much rest
 riction can hinder productivity\; finding the right balance is key.\n3. **
 Evolving Roles and Permissions**: As employees change roles or take on new
  projects\, maintaining up-to-date permissions requires vigilance.\n\n\n##
 # Redmask (Restricted Data Access Management for Securing Knowledge) Frame
 work\n\nTo address these challenges and implement PoLP effectively within 
 an organization's data management practices\, tools like Redmask are inval
 uable. Redmask is designed as an automated solution that helps manage gran
 ular level access control over datasets while providing simplicity through
  its user interface (UI).\n\n**Key Features of Redmask:**\n\n1. **Granular
  Permission Controls**: It allows precise control over who accesses what d
 ata and for what purpose.\n2. **Automated Access Rules**: Reduces administ
 rative overhead by automating permission assignments based on roles or pro
 jects.\n3. **Temporary Access Grants**: Provides time-bound access for tem
 porary needs like Geeta's project on borrowing patterns.\n4. **Audit Trail
 s & Compliance Reporting**: Keeps records of data accesses and alterations
  for regulatory compliance purposes.\n5. **User-Friendly Interface**: Simp
 lifies management tasks so less technical staff can effectively oversee ac
 cess controls.\n\nBy integrating principles such as least privilege into f
 rameworks like Redmask and adopting them into their Privacy by Design stra
 tegies\, organizations can ensure they not only protect sensitive informat
 ion but also foster trust with customers through responsible data stewards
 hip practices. This proactive approach aligns operations with current priv
 acy expectations and regulatory requirements in our increasingly security-
 conscious world.
LAST-MODIFIED:20240229T030604Z
LOCATION:Lower ground floor basement in the NASCOMM startups building in D
 iamond District - Simpl\nBengaluru\,\nIN
ORGANIZER;CN=Rootconf:MAILTO:no-reply@hasgeek.com
URL:https://hasgeek.com/rootconf/feb-2024-rootconf-meetup/schedule/princip
 le-of-least-privilege-TuGSA434dybfhdnfNDYxKj
BEGIN:VALARM
ACTION:display
DESCRIPTION:Principle of Least Privilege in Lower ground floor basement in
  the NASCOMM startups building in Diamond District in 5 minutes
TRIGGER:-PT5M
END:VALARM
END:VEVENT
BEGIN:VEVENT
SUMMARY:Networking
DTSTART:20240229T132500Z
DTEND:20240229T140000Z
DTSTAMP:20260421T210251Z
UID:session/7wkRp3fMHJmmkpD3FRVHMU@hasgeek.com
SEQUENCE:2
CREATED:20240214T071211Z
LAST-MODIFIED:20240229T030552Z
LOCATION:Lower ground floor basement in the NASCOMM startups building in D
 iamond District - Simpl\nBengaluru\,\nIN
ORGANIZER;CN=Rootconf:MAILTO:no-reply@hasgeek.com
BEGIN:VALARM
ACTION:display
DESCRIPTION:Networking in Lower ground floor basement in the NASCOMM start
 ups building in Diamond District in 5 minutes
TRIGGER:-PT5M
END:VALARM
END:VEVENT
END:VCALENDAR
