BEGIN:VCALENDAR
VERSION:2.0
PRODID:-//HasGeek//NONSGML Funnel//EN
DESCRIPTION:SRE talk series
X-WR-CALDESC:SRE talk series
NAME:Creating an SRE playbook for your organization
X-WR-CALNAME:Creating an SRE playbook for your organization
REFRESH-INTERVAL;VALUE=DURATION:PT12H
SUMMARY:Creating an SRE playbook for your organization
TIMEZONE-ID:Asia/Kolkata
X-PUBLISHED-TTL:PT12H
X-WR-TIMEZONE:Asia/Kolkata
BEGIN:VEVENT
SUMMARY:Creating an SRE playbook for your organization
DTSTART:20231026T120000Z
DTEND:20231026T130000Z
DTSTAMP:20260419T203149Z
UID:session/WqtgFxdMP4mCE7MC3VfjFL@hasgeek.com
SEQUENCE:13
CREATED:20231021T063807Z
DESCRIPTION:[Akash Saxena\, CTPO at Viacomm](https://www.linkedin.com/in/a
 kisaxena/) (and former CTO at Hotstar)\, will be in conversation with [Ank
 it Bhati\, founder at Amnic](https://www.linkedin.com/in/ankitbhati/) (and
  former co-founder and CTO at Ola). \n\n**The theme of the chat is creatin
 g an SRE playbook for your organization**. Over 45 mins\, Akash and Ankit 
 will discuss the following aspects of creating the playbook for your organ
 ization:\n\n* For all resources - APIs\, Databases\, message buses\, vendo
 rs\, and what have you ...\n  - Add monitors : What to measure? When is it
  yellow? When is it red?\n  - Create on-calls : You build it. You support 
 it. How to place skin in the game?\n  - Add alerts : Let a machine call yo
 ur on-call. Who must triage and drive incidents?\n* Incident management: i
 nstitute an incident management protocol.\n* Causality: It is smoking in t
 he chimney\, but the fire is in the basement. Logs/dashboards are your fri
 ends.\n* Sleep better at night.\n\nIn brief\, the chat will cover\,\n1. Te
 chnical aspects in phase 1 - DevOps versus SRE.\n2. The role of Collaborat
 ion and Culture.\n3. War stories.\n\nThis is an in-person event\, hosted a
 t PhonePe (Bellandur).\n\n## About the curator\nThis conversation is curat
 ed by [Sarika Atri](https://www.linkedin.com/in/sarikaatri/)\, cloud archi
 tect and editor of the [SRE Conference](http://has.gy/voR0). \n\n## Member
 ship support\n\nThis event is part of the SRE series of monthly fireside c
 hats. These events have been made possible by Rootconf members.  [You can 
 support such activities by picking up a membership here](http://has.gy/voR
 0).\n\n## Contact information \nJoin the Rootconf Telegram group at <https
 ://t.me/rootconf> or follow [@rootconf on Twitter](https://twitter.com/roo
 tconf).\nFor inquiries\, contact Rootconf at +91-7676332020. 
LAST-MODIFIED:20231103T052104Z
LOCATION:PhonePe\, Bangalore - https://hasgeek.com/rootconf/evolution-of-t
 he-sre-function-in-a-startups-growth-journey/
ORGANIZER;CN=Rootconf:MAILTO:no-reply@hasgeek.com
URL:https://hasgeek.com/rootconf/evolution-of-the-sre-function-in-a-startu
 ps-growth-journey/
BEGIN:VALARM
ACTION:display
DESCRIPTION:Creating an SRE playbook for your organization in 5 minutes
TRIGGER:-PT5M
END:VALARM
END:VEVENT
END:VCALENDAR
