BEGIN:VCALENDAR
VERSION:2.0
PRODID:-//HasGeek//NONSGML Funnel//EN
DESCRIPTION:Technical review
X-WR-CALDESC:Technical review
NAME:Ente - an Open Source\, E2EE\, self-hosted alternative to Google Phot
 os
X-WR-CALNAME:Ente - an Open Source\, E2EE\, self-hosted alternative to Goo
 gle Photos
REFRESH-INTERVAL;VALUE=DURATION:PT12H
SUMMARY:Ente - an Open Source\, E2EE\, self-hosted alternative to Google P
 hotos
TIMEZONE-ID:Asia/Kolkata
X-PUBLISHED-TTL:PT12H
X-WR-TIMEZONE:Asia/Kolkata
BEGIN:VEVENT
SUMMARY:Review of Museum - a Golang-based server that serves as the backbo
 ne of the Ente web and mobile apps
DTSTART:20250128T123000Z
DTEND:20250128T133000Z
DTSTAMP:20260420T002132Z
UID:session/6L8QvhbArdrsddpsNC4AeJ@hasgeek.com
SEQUENCE:3
CREATED:20250130T064742Z
LAST-MODIFIED:20250130T064801Z
LOCATION:Online
ORGANIZER;CN=Rootconf:MAILTO:no-reply@hasgeek.com
BEGIN:VALARM
ACTION:display
DESCRIPTION:Review of Museum - a Golang-based server that serves as the ba
 ckbone of the Ente web and mobile apps in 5 minutes
TRIGGER:-PT5M
END:VALARM
END:VEVENT
END:VCALENDAR
