BEGIN:VCALENDAR
VERSION:2.0
PRODID:-//HasGeek//NONSGML Funnel//EN
DESCRIPTION:Hyderabad Elasticsearch users' meetup
X-WR-CALDESC:Hyderabad Elasticsearch users' meetup
NAME:Choosing data stores for your business use case
X-WR-CALNAME:Choosing data stores for your business use case
REFRESH-INTERVAL;VALUE=DURATION:PT12H
SUMMARY:Choosing data stores for your business use case
TIMEZONE-ID:Asia/Kolkata
X-PUBLISHED-TTL:PT12H
X-WR-TIMEZONE:Asia/Kolkata
BEGIN:VEVENT
SUMMARY:Check-in and onsite registration
DTSTART:20191115T120000Z
DTEND:20191115T121500Z
DTSTAMP:20260421T210449Z
UID:session/Cxdw5BNMgjzRV1TkH5V83H@hasgeek.com
SEQUENCE:0
CREATED:20191110T022319Z
DESCRIPTION:\n
LAST-MODIFIED:20191110T022335Z
LOCATION:Hyderabad
ORGANIZER;CN=Rootconf:MAILTO:no-reply@hasgeek.com
BEGIN:VALARM
ACTION:display
DESCRIPTION:Check-in and onsite registration in 5 minutes
TRIGGER:-PT5M
END:VALARM
END:VEVENT
BEGIN:VEVENT
SUMMARY:Introduction to the meetup
DTSTART:20191115T121500Z
DTEND:20191115T122500Z
DTSTAMP:20260421T210449Z
UID:session/DqG4MgYUBPTHoPk1B8ggRd@hasgeek.com
SEQUENCE:0
CREATED:20191110T022414Z
DESCRIPTION:\n
GEO:17.4429219;78.3572916
LAST-MODIFIED:20191113T054905Z
LOCATION:Abdul Kalam room - ThoughtWorks\nHyderabad\nIN
ORGANIZER;CN=Rootconf:MAILTO:no-reply@hasgeek.com
BEGIN:VALARM
ACTION:display
DESCRIPTION:Introduction to the meetup in Abdul Kalam room in 5 minutes
TRIGGER:-PT5M
END:VALARM
END:VEVENT
BEGIN:VEVENT
SUMMARY:Data architecture for modern enterprise
DTSTART:20191115T122500Z
DTEND:20191115T130000Z
DTSTAMP:20260421T210449Z
UID:session/3r3soLDrQyBQMbLVt1sP5w@hasgeek.com
SEQUENCE:2
CREATED:20191111T094600Z
DESCRIPTION:Modern data architecture prioritizes the data consumers over t
 he data sources but the traditional architecture did the reverse way. In t
 he session\, I will be covering the following topics.\n\n1. The Data\n2. T
 he Need for Data Architecture\n3. The Components of Data Architecture for 
 Modern Entriprise\n4. A Modern Enterprise's Lessons Learnt & its Success S
 tory by fixing th PostGreSQL\n\nWill present the importance of data archit
 ecture\, how one of the enterprises had struggled with scalability issues\
 , how it had been educated to understand the architectural problem and how
  they were enabled proactively to support their business by fixing at the 
 data store & architecture\n\n### Speaker bio\n\n•	Have 14+ years of over
 all experience with over 4+ years in architecting applications.\n•	Have 
 a rich breadth of experience and good grip on application architectures co
 nsidering non-functional areas like resiliency\, fault-tolerance\, perform
 ance\, scalability\, security\, usability etc...and have clarity on what b
 usiness needs and has ability to transform them to results\n•	Have passi
 on in being the technology ambassador and coaching engineering excellence 
 to junior engineers. \n•	Have given good number of technical talks in my
  current Organisation (Pramati)\n•	Have strong understanding of the Soft
 ware design/architecture/data-backed-decision-making processes.\n•	Profi
 cient in J2EE technologies in web development and has exposure to UI tech 
 stack.\n•	Expertise in architecting and developing features for enterpri
 se scale systems.\n•	Capable of coding and beginning an implementation t
 o get a project off the ground\n
GEO:17.4429219;78.3572916
LAST-MODIFIED:20230810T072606Z
LOCATION:Abdul Kalam room - ThoughtWorks\nHyderabad\nIN
ORGANIZER;CN=Rootconf:MAILTO:no-reply@hasgeek.com
URL:https://hasgeek.com/rootconf/elasticsearch-users-meetup-hyderabad/sche
 dule/data-architecture-for-modern-enterprise-3r3soLDrQyBQMbLVt1sP5w
BEGIN:VALARM
ACTION:display
DESCRIPTION:Data architecture for modern enterprise in Abdul Kalam room in
  5 minutes
TRIGGER:-PT5M
END:VALARM
END:VEVENT
BEGIN:VEVENT
SUMMARY:Supporting utf8 characters in a utf8 mysql table
DTSTART:20191115T130000Z
DTEND:20191115T132000Z
DTSTAMP:20260421T210449Z
UID:session/VY4aMcivpAtJ6Ui49rpbbv@hasgeek.com
SEQUENCE:2
CREATED:20191113T054245Z
DESCRIPTION:1. How we supported storing utf8 content in our app.\n2. How u
 pgrading the rails version caused MySQL to run in strict mode causing the 
 problems.\n3. How we evaluated our options and chose the final solution.\n
 4. The actual migration and dealing with ad-hoc issues.\n\n### Speaker bio
 \n\nLead Software Engineer @ Freshworks.\n
GEO:17.4429219;78.3572916
LAST-MODIFIED:20230810T072606Z
LOCATION:Abdul Kalam room - ThoughtWorks\nHyderabad\nIN
ORGANIZER;CN=Rootconf:MAILTO:no-reply@hasgeek.com
URL:https://hasgeek.com/rootconf/elasticsearch-users-meetup-hyderabad/sche
 dule/supporting-utf8-characters-in-a-utf8-mysql-table-VY4aMcivpAtJ6Ui49rpb
 bv
BEGIN:VALARM
ACTION:display
DESCRIPTION:Supporting utf8 characters in a utf8 mysql table in Abdul Kala
 m room in 5 minutes
TRIGGER:-PT5M
END:VALARM
END:VEVENT
BEGIN:VEVENT
SUMMARY:Full talk 2: Data store migration war story: patterns and anti-pat
 terns
DTSTART:20191115T132000Z
DTEND:20191115T134000Z
DTSTAMP:20260421T210449Z
UID:session/ToEdbzoodya5zbJRqPNWdA@hasgeek.com
SEQUENCE:0
CREATED:20191110T022536Z
DESCRIPTION:\n
GEO:17.4429219;78.3572916
LAST-MODIFIED:20191113T054257Z
LOCATION:Abdul Kalam room - ThoughtWorks\nHyderabad\nIN
ORGANIZER;CN=Rootconf:MAILTO:no-reply@hasgeek.com
BEGIN:VALARM
ACTION:display
DESCRIPTION:Full talk 2: Data store migration war story: patterns and anti
 -patterns in Abdul Kalam room in 5 minutes
TRIGGER:-PT5M
END:VALARM
END:VEVENT
BEGIN:VEVENT
SUMMARY:Discussion and Q&A
DTSTART:20191115T134000Z
DTEND:20191115T140000Z
DTSTAMP:20260421T210449Z
UID:session/NpwqeKJgx4F8hbPfpZJF8j@hasgeek.com
SEQUENCE:0
CREATED:20191110T022609Z
DESCRIPTION:\n
GEO:17.4429219;78.3572916
LAST-MODIFIED:20191113T054931Z
LOCATION:Abdul Kalam room - ThoughtWorks\nHyderabad\nIN
ORGANIZER;CN=Rootconf:MAILTO:no-reply@hasgeek.com
BEGIN:VALARM
ACTION:display
DESCRIPTION:Discussion and Q&A in Abdul Kalam room in 5 minutes
TRIGGER:-PT5M
END:VALARM
END:VEVENT
BEGIN:VEVENT
SUMMARY:Flash talk 3
DTSTART:20191115T140000Z
DTEND:20191115T140500Z
DTSTAMP:20260421T210449Z
UID:session/LsSpem4NLvR2DTt8QwhMw3@hasgeek.com
SEQUENCE:0
CREATED:20191110T022649Z
DESCRIPTION:\n
GEO:17.4429219;78.3572916
LAST-MODIFIED:20191110T022655Z
LOCATION:Abdul Kalam room - ThoughtWorks\nHyderabad\nIN
ORGANIZER;CN=Rootconf:MAILTO:no-reply@hasgeek.com
BEGIN:VALARM
ACTION:display
DESCRIPTION:Flash talk 3 in Abdul Kalam room in 5 minutes
TRIGGER:-PT5M
END:VALARM
END:VEVENT
BEGIN:VEVENT
SUMMARY:Flash talk 4
DTSTART:20191115T140500Z
DTEND:20191115T141000Z
DTSTAMP:20260421T210449Z
UID:session/4ghez1hu5p7egFYTxuaMx8@hasgeek.com
SEQUENCE:0
CREATED:20191110T022704Z
DESCRIPTION:\n
GEO:17.4429219;78.3572916
LAST-MODIFIED:20191110T022707Z
LOCATION:Abdul Kalam room - ThoughtWorks\nHyderabad\nIN
ORGANIZER;CN=Rootconf:MAILTO:no-reply@hasgeek.com
BEGIN:VALARM
ACTION:display
DESCRIPTION:Flash talk 4 in Abdul Kalam room in 5 minutes
TRIGGER:-PT5M
END:VALARM
END:VEVENT
BEGIN:VEVENT
SUMMARY:Closing and thank-you
DTSTART:20191115T141000Z
DTEND:20191115T141500Z
DTSTAMP:20260421T210449Z
UID:session/ccviEpU669CBaMjeHckqL@hasgeek.com
SEQUENCE:0
CREATED:20191110T022739Z
DESCRIPTION:\n
GEO:17.4429219;78.3572916
LAST-MODIFIED:20191110T022742Z
LOCATION:Abdul Kalam room - ThoughtWorks\nHyderabad\nIN
ORGANIZER;CN=Rootconf:MAILTO:no-reply@hasgeek.com
BEGIN:VALARM
ACTION:display
DESCRIPTION:Closing and thank-you in Abdul Kalam room in 5 minutes
TRIGGER:-PT5M
END:VALARM
END:VEVENT
BEGIN:VEVENT
SUMMARY:Networking
DTSTART:20191115T141500Z
DTEND:20191115T143000Z
DTSTAMP:20260421T210449Z
UID:session/54bW6UG9RNuUycUh8cTgf1@hasgeek.com
SEQUENCE:0
CREATED:20191110T022718Z
DESCRIPTION:\n
LAST-MODIFIED:20191110T022745Z
LOCATION:Hyderabad
ORGANIZER;CN=Rootconf:MAILTO:no-reply@hasgeek.com
BEGIN:VALARM
ACTION:display
DESCRIPTION:Networking in 5 minutes
TRIGGER:-PT5M
END:VALARM
END:VEVENT
END:VCALENDAR
