BEGIN:VCALENDAR
VERSION:2.0
PRODID:-//HasGeek//NONSGML Funnel//EN
DESCRIPTION:Mindset\, processes and tools
X-WR-CALDESC:Mindset\, processes and tools
NAME:Doing Site Reliability Engineering (SRE) the right way - session 2
X-WR-CALNAME:Doing Site Reliability Engineering (SRE) the right way - sess
 ion 2
REFRESH-INTERVAL;VALUE=DURATION:PT12H
SUMMARY:Doing Site Reliability Engineering (SRE) the right way - session 2
TIMEZONE-ID:Asia/Kolkata
X-PUBLISHED-TTL:PT12H
X-WR-TIMEZONE:Asia/Kolkata
BEGIN:VEVENT
SUMMARY:Introduction to the series\, and speaker
DTSTART:20200623T140000Z
DTEND:20200623T140500Z
DTSTAMP:20260421T210433Z
UID:session/S9j1fqosYhf9tdZLC5NZec@hasgeek.com
SEQUENCE:0
CREATED:20200602T183336Z
DESCRIPTION:\n
LAST-MODIFIED:20200602T183336Z
LOCATION:Online
ORGANIZER;CN=Rootconf:MAILTO:no-reply@hasgeek.com
BEGIN:VALARM
ACTION:display
DESCRIPTION:Introduction to the series\, and speaker in 5 minutes
TRIGGER:-PT5M
END:VALARM
END:VEVENT
BEGIN:VEVENT
SUMMARY:Doing SRE the right way: mindset\, tools and processes
DTSTART:20200623T140500Z
DTEND:20200623T145000Z
DTSTAMP:20260421T210433Z
UID:session/8Fe8ieXFk2rJUpDjbwN9qK@hasgeek.com
SEQUENCE:3
CREATED:20200602T183419Z
DESCRIPTION:\n\n### Speaker bio\n\nhttps://www.linkedin.com/in/meson10/\n
LAST-MODIFIED:20240123T123639Z
LOCATION:Online
ORGANIZER;CN=Rootconf:MAILTO:no-reply@hasgeek.com
BEGIN:VALARM
ACTION:display
DESCRIPTION:Doing SRE the right way: mindset\, tools and processes in 5 mi
 nutes
TRIGGER:-PT5M
END:VALARM
END:VEVENT
BEGIN:VEVENT
SUMMARY:Q&A session
DTSTART:20200623T145000Z
DTEND:20200623T152000Z
DTSTAMP:20260421T210433Z
UID:session/6XBbyEGyvUxhfwePKVKrrw@hasgeek.com
SEQUENCE:0
CREATED:20200602T183454Z
DESCRIPTION:\n
LAST-MODIFIED:20200602T183459Z
LOCATION:Online
ORGANIZER;CN=Rootconf:MAILTO:no-reply@hasgeek.com
BEGIN:VALARM
ACTION:display
DESCRIPTION:Q&A session in 5 minutes
TRIGGER:-PT5M
END:VALARM
END:VEVENT
BEGIN:VEVENT
SUMMARY:Poll for future topics\; feedback session\; conclusion
DTSTART:20200623T152000Z
DTEND:20200623T153000Z
DTSTAMP:20260421T210433Z
UID:session/D23fm8Z4hT8gmFYZqYg3sD@hasgeek.com
SEQUENCE:0
CREATED:20200602T183521Z
DESCRIPTION:\n
LAST-MODIFIED:20200602T183525Z
LOCATION:Online
ORGANIZER;CN=Rootconf:MAILTO:no-reply@hasgeek.com
BEGIN:VALARM
ACTION:display
DESCRIPTION:Poll for future topics\; feedback session\; conclusion in 5 mi
 nutes
TRIGGER:-PT5M
END:VALARM
END:VEVENT
END:VCALENDAR
