BEGIN:VCALENDAR
VERSION:2.0
PRODID:-//HasGeek//NONSGML Funnel//EN
DESCRIPTION:Creating the SRE organization and teams in your company
X-WR-CALDESC:Creating the SRE organization and teams in your company
NAME:Doing Site Reliability Engineering (SRE) the right way - session 1
X-WR-CALNAME:Doing Site Reliability Engineering (SRE) the right way - sess
 ion 1
REFRESH-INTERVAL;VALUE=DURATION:PT12H
SUMMARY:Doing Site Reliability Engineering (SRE) the right way - session 1
TIMEZONE-ID:Asia/Kolkata
X-PUBLISHED-TTL:PT12H
X-WR-TIMEZONE:Asia/Kolkata
BEGIN:VEVENT
SUMMARY:Introduction to the series\, and speaker
DTSTART:20200609T140000Z
DTEND:20200609T140500Z
DTSTAMP:20260421T210433Z
UID:session/67grkiNxyjFDSwQYMTxRkc@hasgeek.com
SEQUENCE:0
CREATED:20200602T172914Z
DESCRIPTION:\n
LAST-MODIFIED:20200602T172914Z
LOCATION:Online
ORGANIZER;CN=Rootconf:MAILTO:no-reply@hasgeek.com
BEGIN:VALARM
ACTION:display
DESCRIPTION:Introduction to the series\, and speaker in 5 minutes
TRIGGER:-PT5M
END:VALARM
END:VEVENT
BEGIN:VEVENT
SUMMARY:Doing SRE the right way: building organizational structures\, team
 \, capacity and culture
DTSTART:20200609T140500Z
DTEND:20200609T145000Z
DTSTAMP:20260421T210433Z
UID:session/6wAaHeaBdhFJe1kCMu83Se@hasgeek.com
SEQUENCE:3
CREATED:20200602T173226Z
DESCRIPTION:Link to the slides for this session are available on: https://
 docs.google.com/presentation/d/1nO2YJ235ERa97VpHAvFHPtSNHuFAxic2YWW2C9y64M
 0/edit?usp=sharing\n\n### Speaker bio\n\nhttps://www.linkedin.com/in/meson
 10/\n
LAST-MODIFIED:20240123T123704Z
LOCATION:Online
ORGANIZER;CN=Rootconf:MAILTO:no-reply@hasgeek.com
BEGIN:VALARM
ACTION:display
DESCRIPTION:Doing SRE the right way: building organizational structures\, 
 team\, capacity and culture in 5 minutes
TRIGGER:-PT5M
END:VALARM
END:VEVENT
BEGIN:VEVENT
SUMMARY:Q&A session
DTSTART:20200609T145000Z
DTEND:20200609T152000Z
DTSTAMP:20260421T210433Z
UID:session/XmMabvgp8bcdqy9wJvpP41@hasgeek.com
SEQUENCE:0
CREATED:20200602T173312Z
DESCRIPTION:\n
LAST-MODIFIED:20200602T173318Z
LOCATION:Online
ORGANIZER;CN=Rootconf:MAILTO:no-reply@hasgeek.com
BEGIN:VALARM
ACTION:display
DESCRIPTION:Q&A session in 5 minutes
TRIGGER:-PT5M
END:VALARM
END:VEVENT
BEGIN:VEVENT
SUMMARY:Poll for future topics\; feedback session\; conclusion
DTSTART:20200609T152000Z
DTEND:20200609T153000Z
DTSTAMP:20260421T210433Z
UID:session/9UHhfCFzb1YoVuYU2EH25a@hasgeek.com
SEQUENCE:0
CREATED:20200602T173335Z
DESCRIPTION:\n
LAST-MODIFIED:20200602T173354Z
LOCATION:Online
ORGANIZER;CN=Rootconf:MAILTO:no-reply@hasgeek.com
BEGIN:VALARM
ACTION:display
DESCRIPTION:Poll for future topics\; feedback session\; conclusion in 5 mi
 nutes
TRIGGER:-PT5M
END:VALARM
END:VEVENT
END:VCALENDAR
