BEGIN:VCALENDAR
VERSION:2.0
PRODID:-//HasGeek//NONSGML Funnel//EN
DESCRIPTION:Hands-on workshop
X-WR-CALDESC:Hands-on workshop
NAME:Distributed graphs workshop - think like a vertex\; scale like a clus
 ter
X-WR-CALNAME:Distributed graphs workshop - think like a vertex\; scale lik
 e a cluster
REFRESH-INTERVAL;VALUE=DURATION:PT12H
SUMMARY:Distributed graphs workshop - think like a vertex\; scale like a c
 luster
TIMEZONE-ID:Asia/Kolkata
X-PUBLISHED-TTL:PT12H
X-WR-TIMEZONE:Asia/Kolkata
BEGIN:VEVENT
SUMMARY:Think Like a Vertex Scale Like a Cluster
DTSTART:20250927T043000Z
DTEND:20250927T073000Z
DTSTAMP:20260419T152143Z
UID:session/6MxXGZUHaLhHoDjT81m16x@hasgeek.com
SEQUENCE:4
CREATED:20250918T135902Z
LAST-MODIFIED:20250923T121544Z
LOCATION:Bangalore
ORGANIZER;CN=Rootconf:MAILTO:no-reply@hasgeek.com
BEGIN:VALARM
ACTION:display
DESCRIPTION:Think Like a Vertex Scale Like a Cluster in 5 minutes
TRIGGER:-PT5M
END:VALARM
END:VEVENT
END:VCALENDAR
