BEGIN:VCALENDAR
VERSION:2.0
PRODID:-//HasGeek//NONSGML Funnel//EN
DESCRIPTION:Rootconf Distributed Data Systems meet-up
X-WR-CALDESC:Rootconf Distributed Data Systems meet-up
NAME:From transactions to replica consistency: towards strict serializabil
 ity
X-WR-CALNAME:From transactions to replica consistency: towards strict seri
 alizability
REFRESH-INTERVAL;VALUE=DURATION:PT12H
SUMMARY:From transactions to replica consistency: towards strict serializa
 bility
TIMEZONE-ID:Asia/Kolkata
X-PUBLISHED-TTL:PT12H
X-WR-TIMEZONE:Asia/Kolkata
BEGIN:VEVENT
SUMMARY:From transactions to replica consistency: towards strict serializa
 bility
DTSTART:20250701T123000Z
DTEND:20250701T133000Z
DTSTAMP:20260419T152435Z
UID:session/D9AazCp2ML3dT9cReGbzg6@hasgeek.com
SEQUENCE:2
CREATED:20250713T120052Z
LAST-MODIFIED:20250713T120113Z
LOCATION:Bangalore
ORGANIZER;CN=Rootconf:MAILTO:no-reply@hasgeek.com
BEGIN:VALARM
ACTION:display
DESCRIPTION:From transactions to replica consistency: towards strict seria
 lizability in 5 minutes
TRIGGER:-PT5M
END:VALARM
END:VEVENT
END:VCALENDAR
