BEGIN:VCALENDAR
VERSION:2.0
PRODID:-//HasGeek//NONSGML Funnel//EN
DESCRIPTION:Open tap for community discussions on industry impact
X-WR-CALDESC:Open tap for community discussions on industry impact
NAME:Digital Personal Data Protection (DPDP) Bill
X-WR-CALNAME:Digital Personal Data Protection (DPDP) Bill
REFRESH-INTERVAL;VALUE=DURATION:PT12H
SUMMARY:Digital Personal Data Protection (DPDP) Bill
TIMEZONE-ID:Asia/Kolkata
X-PUBLISHED-TTL:PT12H
X-WR-TIMEZONE:Asia/Kolkata
BEGIN:VEVENT
SUMMARY:Open tap discussion
DTSTART:20221209T123000Z
DTEND:20221209T133000Z
DTSTAMP:20260421T210443Z
UID:session/CAaTTvDQa42UtHtvrpcxXr@hasgeek.com
SEQUENCE:2
CREATED:20221207T052629Z
LAST-MODIFIED:20221207T052641Z
LOCATION:Bangalore
ORGANIZER;CN=Rootconf:MAILTO:no-reply@hasgeek.com
BEGIN:VALARM
ACTION:display
DESCRIPTION:Open tap discussion in 5 minutes
TRIGGER:-PT5M
END:VALARM
END:VEVENT
BEGIN:VEVENT
SUMMARY:Open tap discussion
DTSTART:20221210T123000Z
DTEND:20221210T133000Z
DTSTAMP:20260421T210443Z
UID:session/HdFzGgbtMFzDAiYHWQPD6R@hasgeek.com
SEQUENCE:1
CREATED:20221207T052655Z
LAST-MODIFIED:20221207T052658Z
LOCATION:Bangalore
ORGANIZER;CN=Rootconf:MAILTO:no-reply@hasgeek.com
BEGIN:VALARM
ACTION:display
DESCRIPTION:Open tap discussion in 5 minutes
TRIGGER:-PT5M
END:VALARM
END:VEVENT
BEGIN:VEVENT
SUMMARY:Open tap discussion
DTSTART:20221211T123000Z
DTEND:20221211T133000Z
DTSTAMP:20260421T210443Z
UID:session/3uBLt9FrgCwML1FKv1gkkE@hasgeek.com
SEQUENCE:1
CREATED:20221207T052702Z
LAST-MODIFIED:20221207T052705Z
LOCATION:Bangalore
ORGANIZER;CN=Rootconf:MAILTO:no-reply@hasgeek.com
BEGIN:VALARM
ACTION:display
DESCRIPTION:Open tap discussion in 5 minutes
TRIGGER:-PT5M
END:VALARM
END:VEVENT
BEGIN:VEVENT
SUMMARY:Open tap discussion
DTSTART:20221212T123000Z
DTEND:20221212T133000Z
DTSTAMP:20260421T210443Z
UID:session/VRfMU8mNWLpmhPBKgpX4hn@hasgeek.com
SEQUENCE:2
CREATED:20221207T052849Z
LAST-MODIFIED:20221207T052854Z
LOCATION:Bangalore
ORGANIZER;CN=Rootconf:MAILTO:no-reply@hasgeek.com
BEGIN:VALARM
ACTION:display
DESCRIPTION:Open tap discussion in 5 minutes
TRIGGER:-PT5M
END:VALARM
END:VEVENT
BEGIN:VEVENT
SUMMARY:Open tap discussion
DTSTART:20221213T123000Z
DTEND:20221213T133000Z
DTSTAMP:20260421T210443Z
UID:session/B8difS4PPhEfH4oUf2HTk1@hasgeek.com
SEQUENCE:1
CREATED:20221207T052900Z
LAST-MODIFIED:20221207T052909Z
LOCATION:Bangalore
ORGANIZER;CN=Rootconf:MAILTO:no-reply@hasgeek.com
BEGIN:VALARM
ACTION:display
DESCRIPTION:Open tap discussion in 5 minutes
TRIGGER:-PT5M
END:VALARM
END:VEVENT
BEGIN:VEVENT
SUMMARY:Open tap discussion
DTSTART:20221214T123000Z
DTEND:20221214T133000Z
DTSTAMP:20260421T210443Z
UID:session/CzvMgM3NvTCrFDCpV9zBXd@hasgeek.com
SEQUENCE:2
CREATED:20221207T052913Z
LAST-MODIFIED:20221207T052934Z
LOCATION:Bangalore
ORGANIZER;CN=Rootconf:MAILTO:no-reply@hasgeek.com
BEGIN:VALARM
ACTION:display
DESCRIPTION:Open tap discussion in 5 minutes
TRIGGER:-PT5M
END:VALARM
END:VEVENT
BEGIN:VEVENT
SUMMARY:Open tap discussion
DTSTART:20221215T123000Z
DTEND:20221215T133000Z
DTSTAMP:20260421T210443Z
UID:session/LjP8JTXgu8TXRJDJGnrYDB@hasgeek.com
SEQUENCE:1
CREATED:20221207T052957Z
LAST-MODIFIED:20221207T053000Z
LOCATION:Bangalore
ORGANIZER;CN=Rootconf:MAILTO:no-reply@hasgeek.com
BEGIN:VALARM
ACTION:display
DESCRIPTION:Open tap discussion in 5 minutes
TRIGGER:-PT5M
END:VALARM
END:VEVENT
BEGIN:VEVENT
SUMMARY:Open tap discussion
DTSTART:20221216T123000Z
DTEND:20221216T133000Z
DTSTAMP:20260421T210443Z
UID:session/Xu1RYNhvHhVBLaYm7FPf6x@hasgeek.com
SEQUENCE:1
CREATED:20221207T053004Z
LAST-MODIFIED:20221207T053008Z
LOCATION:Bangalore
ORGANIZER;CN=Rootconf:MAILTO:no-reply@hasgeek.com
BEGIN:VALARM
ACTION:display
DESCRIPTION:Open tap discussion in 5 minutes
TRIGGER:-PT5M
END:VALARM
END:VEVENT
BEGIN:VEVENT
SUMMARY:Open tap discussion
DTSTART:20221217T123000Z
DTEND:20221217T133000Z
DTSTAMP:20260421T210443Z
UID:session/2o9yooHeAWCjJxTQYzM9Dh@hasgeek.com
SEQUENCE:1
CREATED:20221207T053011Z
LAST-MODIFIED:20221207T053015Z
LOCATION:Bangalore
ORGANIZER;CN=Rootconf:MAILTO:no-reply@hasgeek.com
BEGIN:VALARM
ACTION:display
DESCRIPTION:Open tap discussion in 5 minutes
TRIGGER:-PT5M
END:VALARM
END:VEVENT
END:VCALENDAR
