BEGIN:VCALENDAR
VERSION:2.0
PRODID:-//HasGeek//NONSGML Funnel//EN
DESCRIPTION:Scaling platforms and services. Co-hosted by Rootconf\, Red Ha
 t and the Linux Foundation.
X-WR-CALDESC:Scaling platforms and services. Co-hosted by Rootconf\, Red H
 at and the Linux Foundation.
NAME:DevConf 2017
X-WR-CALNAME:DevConf 2017
REFRESH-INTERVAL;VALUE=DURATION:PT12H
SUMMARY:DevConf 2017
TIMEZONE-ID:Asia/Kolkata
X-PUBLISHED-TTL:PT12H
X-WR-TIMEZONE:Asia/Kolkata
BEGIN:VEVENT
SUMMARY:Check-in and breakfast
DTSTART:20170511T031000Z
DTEND:20170511T040000Z
DTSTAMP:20260421T170951Z
UID:session/YWswBkjQkpUx5QntDxNZf@hasgeek.com
SEQUENCE:0
CREATED:20170417T064549Z
DESCRIPTION:\n
LAST-MODIFIED:20170424T124715Z
LOCATION:Banquet hall - DevConf.in - MLR Convention Centre\, J P Nagar\nBa
 ngalore\nIN
ORGANIZER;CN=Rootconf:MAILTO:no-reply@hasgeek.com
BEGIN:VALARM
ACTION:display
DESCRIPTION:Check-in and breakfast in Banquet hall - DevConf.in in 5 minut
 es
TRIGGER:-PT5M
END:VALARM
END:VEVENT
BEGIN:VEVENT
SUMMARY:Introduction to DevConf.in\; ContactPoint demo
DTSTART:20170511T040000Z
DTEND:20170511T041500Z
DTSTAMP:20260421T170951Z
UID:session/PP9YYdo7nMJ5YtGcfeF5C5@hasgeek.com
SEQUENCE:0
CREATED:20170417T064630Z
DESCRIPTION:\n
LAST-MODIFIED:20200619T062516Z
LOCATION:Banquet hall - DevConf.in - MLR Convention Centre\, J P Nagar\nBa
 ngalore\nIN
ORGANIZER;CN=Rootconf:MAILTO:no-reply@hasgeek.com
BEGIN:VALARM
ACTION:display
DESCRIPTION:Introduction to DevConf.in\; ContactPoint demo in Banquet hall
  - DevConf.in in 5 minutes
TRIGGER:-PT5M
END:VALARM
END:VEVENT
BEGIN:VEVENT
SUMMARY:Automating deployments with Ansible 
DTSTART:20170511T041500Z
DTEND:20170511T053000Z
DTSTAMP:20260421T170951Z
UID:session/TRWwFRZjbsjcT3QWGFa5AQ@hasgeek.com
SEQUENCE:2
CATEGORIES:Tutorials and workshops on platform technologies,Beginner
CREATED:20170503T094531Z
DESCRIPTION:This workshop aims to hands-on upon the following topics:\n\n-
  Ansible Basics : 10 mins\n- Inventory : 5 mins\n- Modules : 15 mins\n- Pl
 aybook : 5 mins\n- Variable : 10 mins\n- Playbook template : 15 mins\n- Co
 ndition Handling : 5 mins\n- Adhoc run : 5 mins\n- System Configuration : 
 10 mins\n- Application Orchestration: 10 mins \n- Cloud Infra management (
 Docker\, openstack\, AWS): 10 mins\n- Creating custom modules: 15 mins\n- 
 Ansible Vault: 10 mins\n- Q&A : 15 mins\n\nWorkshop duration: 3 hour\nMaxi
 mum Number of participants: 25\n\n### Speaker bio\n\nPraveen Kumar works a
 t Red Hat\, in developers tool team where he build tools to help developer
 s to build containerized application.\n\n- https://fedoraproject.org/wiki/
 User:Kumarpraveen\n\nShubham works at Red Hat in the Developer Tools team 
 as a software engineer. He contributes to tools facilitating DevOps roles\
 , mostly revolving around containers. He is a Red Hat Certified Architect.
 \n
LAST-MODIFIED:20230810T072606Z
LOCATION:Banquet hall - DevConf.in - MLR Convention Centre\, J P Nagar\nBa
 ngalore\nIN
ORGANIZER;CN=Rootconf:MAILTO:no-reply@hasgeek.com
URL:https://hasgeek.com/rootconf/devconf-2017/schedule/automating-deployme
 nts-with-ansible-TRWwFRZjbsjcT3QWGFa5AQ
BEGIN:VALARM
ACTION:display
DESCRIPTION:Automating deployments with Ansible  in Banquet hall - DevConf
 .in in 5 minutes
TRIGGER:-PT5M
END:VALARM
END:VEVENT
BEGIN:VEVENT
SUMMARY:Morning beverage break 
DTSTART:20170511T053000Z
DTEND:20170511T060000Z
DTSTAMP:20260421T170951Z
UID:session/HSEXaFNvBRffP5heVkWKz2@hasgeek.com
SEQUENCE:0
CREATED:20170417T064839Z
DESCRIPTION:\n
LAST-MODIFIED:20170506T041233Z
LOCATION:Banquet hall - DevConf.in - MLR Convention Centre\, J P Nagar\nBa
 ngalore\nIN
ORGANIZER;CN=Rootconf:MAILTO:no-reply@hasgeek.com
BEGIN:VALARM
ACTION:display
DESCRIPTION:Morning beverage break  in Banquet hall - DevConf.in in 5 minu
 tes
TRIGGER:-PT5M
END:VALARM
END:VEVENT
BEGIN:VEVENT
SUMMARY:Automating deployments with Ansible - continued
DTSTART:20170511T060000Z
DTEND:20170511T074500Z
DTSTAMP:20260421T170951Z
UID:session/QLF6yeA4ixCEnYUtA9pjWL@hasgeek.com
SEQUENCE:0
CREATED:20170417T064907Z
DESCRIPTION:\n
LAST-MODIFIED:20170503T094553Z
LOCATION:Banquet hall - DevConf.in - MLR Convention Centre\, J P Nagar\nBa
 ngalore\nIN
ORGANIZER;CN=Rootconf:MAILTO:no-reply@hasgeek.com
BEGIN:VALARM
ACTION:display
DESCRIPTION:Automating deployments with Ansible - continued in Banquet hal
 l - DevConf.in in 5 minutes
TRIGGER:-PT5M
END:VALARM
END:VEVENT
BEGIN:VEVENT
SUMMARY:Lunch break 
DTSTART:20170511T074500Z
DTEND:20170511T084500Z
DTSTAMP:20260421T170951Z
UID:session/WDwKip3po1B8jkZRWhBwGa@hasgeek.com
SEQUENCE:0
CREATED:20170417T064944Z
DESCRIPTION:\n
LAST-MODIFIED:20170424T124741Z
LOCATION:Banquet hall - DevConf.in - MLR Convention Centre\, J P Nagar\nBa
 ngalore\nIN
ORGANIZER;CN=Rootconf:MAILTO:no-reply@hasgeek.com
BEGIN:VALARM
ACTION:display
DESCRIPTION:Lunch break  in Banquet hall - DevConf.in in 5 minutes
TRIGGER:-PT5M
END:VALARM
END:VEVENT
BEGIN:VEVENT
SUMMARY:SELinux: A deep dive
DTSTART:20170511T084500Z
DTEND:20170511T101000Z
DTSTAMP:20260421T170951Z
UID:session/6SPYpQtEX7jYWaf1Bpa2kK@hasgeek.com
SEQUENCE:2
CATEGORIES:Tutorials and workshops on platform technologies,Beginner
CREATED:20170418T100409Z
DESCRIPTION:1 hour: Brief summary on the SELinux basics.\n1.5 hours: Hands
 -on session on building custom SELinux modules\n15 mins: Q&A.\n\n### Speak
 er bio\n\nRejy works at Red Hat as a program manager. He is a user and eva
 ngelist of SELinux for over 8 years. He has trained and assisted SysAdmins
 /DevOps to use SELinux on servers. He's a Red Hat Certified Architect.\n
LAST-MODIFIED:20230810T072606Z
LOCATION:Banquet hall - DevConf.in - MLR Convention Centre\, J P Nagar\nBa
 ngalore\nIN
ORGANIZER;CN=Rootconf:MAILTO:no-reply@hasgeek.com
URL:https://hasgeek.com/rootconf/devconf-2017/schedule/selinux-a-deep-dive
 -6SPYpQtEX7jYWaf1Bpa2kK
BEGIN:VALARM
ACTION:display
DESCRIPTION:SELinux: A deep dive in Banquet hall - DevConf.in in 5 minutes
TRIGGER:-PT5M
END:VALARM
END:VEVENT
BEGIN:VEVENT
SUMMARY:Evening beverage break 
DTSTART:20170511T101000Z
DTEND:20170511T104500Z
DTSTAMP:20260421T170951Z
UID:session/HCjmF7pKDZTQjVZ2ALnhuC@hasgeek.com
SEQUENCE:0
CREATED:20170417T065031Z
DESCRIPTION:\n
LAST-MODIFIED:20170506T041257Z
LOCATION:Banquet hall - DevConf.in - MLR Convention Centre\, J P Nagar\nBa
 ngalore\nIN
ORGANIZER;CN=Rootconf:MAILTO:no-reply@hasgeek.com
BEGIN:VALARM
ACTION:display
DESCRIPTION:Evening beverage break  in Banquet hall - DevConf.in in 5 minu
 tes
TRIGGER:-PT5M
END:VALARM
END:VEVENT
BEGIN:VEVENT
SUMMARY:SELinux: A deep dive - continued
DTSTART:20170511T104500Z
DTEND:20170511T121500Z
DTSTAMP:20260421T170951Z
UID:session/PwzB1AkVYGz9iEWrVaWhKX@hasgeek.com
SEQUENCE:0
CREATED:20170417T065051Z
DESCRIPTION:\n
LAST-MODIFIED:20170418T100451Z
LOCATION:Banquet hall - DevConf.in - MLR Convention Centre\, J P Nagar\nBa
 ngalore\nIN
ORGANIZER;CN=Rootconf:MAILTO:no-reply@hasgeek.com
BEGIN:VALARM
ACTION:display
DESCRIPTION:SELinux: A deep dive - continued in Banquet hall - DevConf.in 
 in 5 minutes
TRIGGER:-PT5M
END:VALARM
END:VEVENT
BEGIN:VEVENT
SUMMARY:Kilter health talk: Your brain on sleep
DTSTART:20170511T121500Z
DTEND:20170511T130000Z
DTSTAMP:20260421T170951Z
UID:session/6DJqwzGL5VUbParCH9paPr@hasgeek.com
SEQUENCE:2
CATEGORIES:Full talk of 40 mins duration,Beginner
CREATED:20170506T040659Z
DESCRIPTION:Neural correlates of sleep\n- Why do we sleep\,\n- What's happ
 ening in our brain when we sleep?\n\nHow does sleep affect\n- Learning and
  memory\n- productivity\n\nHow does physical/mental health interact with s
 leep?\n- Long term effects of chronic sleep deprivation\n- Sleep disorders
 \n\nHow does your work and environment interact with sleep?\n\nTools for b
 etter sleep\n- Are there good/bad (practical) sleep habits?\n- Sleep diary
 \n- Apps\n\nNew trends/hacks\n- Light therapy\n- Modafinil\n- Melatonin\n-
  Bi-modal sleep\n- Sleep hacking\n\n### Speaker bio\n\nI am a neuroscience
  researcher at NIMHANS\, Bangalore. When I am not sleeping\,I study the br
 ain using fMRI and other imaging techniques.\n
LAST-MODIFIED:20230810T072606Z
LOCATION:Banquet hall - DevConf.in - MLR Convention Centre\, J P Nagar\nBa
 ngalore\nIN
ORGANIZER;CN=Rootconf:MAILTO:no-reply@hasgeek.com
URL:https://hasgeek.com/rootconf/devconf-2017/schedule/your-brain-on-sleep
 -6DJqwzGL5VUbParCH9paPr
BEGIN:VALARM
ACTION:display
DESCRIPTION:Kilter health talk: Your brain on sleep in Banquet hall - DevC
 onf.in in 5 minutes
TRIGGER:-PT5M
END:VALARM
END:VEVENT
BEGIN:VEVENT
SUMMARY:Check-in and breakfast
DTSTART:20170512T031000Z
DTEND:20170512T042500Z
DTSTAMP:20260421T170951Z
UID:session/M4Pj9es3sX11UEVCiXjv5t@hasgeek.com
SEQUENCE:0
CREATED:20170417T065204Z
DESCRIPTION:\n
LAST-MODIFIED:20170506T142422Z
LOCATION:Banquet hall - DevConf.in - MLR Convention Centre\, J P Nagar\nBa
 ngalore\nIN
ORGANIZER;CN=Rootconf:MAILTO:no-reply@hasgeek.com
BEGIN:VALARM
ACTION:display
DESCRIPTION:Check-in and breakfast in Banquet hall - DevConf.in in 5 minut
 es
TRIGGER:-PT5M
END:VALARM
END:VEVENT
BEGIN:VEVENT
SUMMARY:Automate your DevOps life with OpenShift Pipelines
DTSTART:20170512T042500Z
DTEND:20170512T051000Z
DTSTAMP:20260421T170951Z
UID:session/Rj8GdhPJ2EPZYsXCQwe2aB@hasgeek.com
SEQUENCE:2
CATEGORIES:Full talk of 40 mins duration,Beginner
CREATED:20170423T122037Z
DESCRIPTION:https://docs.google.com/presentation/d/1zTMPYpBtkTTvKA4jGtETwi
 DnHiRM52uJ1w1orMrwSKA/edit?usp=sharing\n\n### Speaker bio\n\nRed Hatter fo
 r last 5 years\, working with containers for last 4 years. Currently in Re
 d Hat Developers team trying to make devs live easier.\n
LAST-MODIFIED:20230810T072606Z
LOCATION:Banquet hall - DevConf.in - MLR Convention Centre\, J P Nagar\nBa
 ngalore\nIN
ORGANIZER;CN=Rootconf:MAILTO:no-reply@hasgeek.com
URL:https://hasgeek.com/rootconf/devconf-2017/schedule/automate-your-devop
 s-life-with-openshift-pipelines-Rj8GdhPJ2EPZYsXCQwe2aB
BEGIN:VALARM
ACTION:display
DESCRIPTION:Automate your DevOps life with OpenShift Pipelines in Banquet 
 hall - DevConf.in in 5 minutes
TRIGGER:-PT5M
END:VALARM
END:VEVENT
BEGIN:VEVENT
SUMMARY:Build\, test\, deliver latest and safest container images\, effort
 lessly
DTSTART:20170512T051000Z
DTEND:20170512T053000Z
DTSTAMP:20260421T170951Z
UID:session/FTEhGVU9GzCWqe6hhr7m78@hasgeek.com
SEQUENCE:2
CATEGORIES:Crisp talk of 15 mins duration,Beginner
CREATED:20170423T122207Z
DESCRIPTION:# Who's it for?\nThis talk is for people who are tired of buil
 ding and maintaining container images for their open projects and are look
 ing for a better way to effortlessly build\, test and deliver container im
 ages. This talk will also be beneficial for people who have just started d
 ockerizing their projects.\n\n# What will you learn?\n1. What's the CentOS
  Container Pipeline?\n2. How it helps you? What problems it solves?\n3. Ho
 w is it different from Docker Hub?\n4. How it works?\n5. How to get on boa
 rd the container pipeline?\n\n# Talk structure\n1. Current state of things
  for delivering container images\n1. Shortcomings \n1. A better way to bui
 ld\, test and deliver container images\n1. CentOS Container Pipeline\, the
  solution\n1. How it works?\n1. Demo\n1. Summary\n1. Questions\n\n### Spea
 ker bio\n\nRatnadeep Debnath is an Open Source contributor and has contrib
 uted to Fedora\, Mozilla and Wikimedia. He is an old timer in Python/Djang
 o and is the creator and maintainer of Waartaa (https://github.com/waartaa
 /). He works at Red Hat as a Container Engineer and works on the CentOS Co
 mmunity Container Pipeline\, alongside diving into the land of container o
 rchestration\, and also taking his baby steps in Golang.\n
LAST-MODIFIED:20230810T072606Z
LOCATION:Banquet hall - DevConf.in - MLR Convention Centre\, J P Nagar\nBa
 ngalore\nIN
ORGANIZER;CN=Rootconf:MAILTO:no-reply@hasgeek.com
URL:https://hasgeek.com/rootconf/devconf-2017/schedule/build-test-deliver-
 latest-and-safest-container-images-effortlessly-FTEhGVU9GzCWqe6hhr7m78
BEGIN:VALARM
ACTION:display
DESCRIPTION:Build\, test\, deliver latest and safest container images\, ef
 fortlessly in Banquet hall - DevConf.in in 5 minutes
TRIGGER:-PT5M
END:VALARM
END:VEVENT
BEGIN:VEVENT
SUMMARY:Morning beverage break
DTSTART:20170512T053000Z
DTEND:20170512T060000Z
DTSTAMP:20260421T170951Z
UID:session/2MCXLyZEPqAw14UKTh1nex@hasgeek.com
SEQUENCE:0
CREATED:20170417T065251Z
DESCRIPTION:\n
LAST-MODIFIED:20170506T041243Z
LOCATION:Banquet hall - DevConf.in - MLR Convention Centre\, J P Nagar\nBa
 ngalore\nIN
ORGANIZER;CN=Rootconf:MAILTO:no-reply@hasgeek.com
BEGIN:VALARM
ACTION:display
DESCRIPTION:Morning beverage break in Banquet hall - DevConf.in in 5 minut
 es
TRIGGER:-PT5M
END:VALARM
END:VEVENT
BEGIN:VEVENT
SUMMARY:MySQL Administration 101
DTSTART:20170512T060000Z
DTEND:20170512T064500Z
DTSTAMP:20260421T170951Z
UID:session/62TGZwjhC3539QdG3xtTtB@hasgeek.com
SEQUENCE:2
CATEGORIES:Full talk of 40 mins duration,Intermediate
CREATED:20170423T122058Z
DESCRIPTION:The MySQL administration areas we will potentially go over (ad
 justed for timeslot and if troubleshooting talk also accepted):\n - Access
  Control (2 stages\, user accounts & passwords\, GRANT/REVOKE)\n - Metadat
 a (SHOW and INFORMATION SCHEMA)\n - Server State (option files\, GLOBAL VA
 RIABLES/STATUS\, PROCESSLIST\, InnoDB\, Monitoring)\n - Logs (Error\, Slow
  Query\, General\, Binary)\n - Backups (basics on types and methods)\n\n##
 # Speaker bio\n\nLigaya Turmelle is a full time Goddess\, part time MySQL 
 DBA\, occasional PHP programmer\, and frequent world traveler. She current
 ly has visited or lived in 21 countries and now resides in Florida with he
 r husband and their Belgian Malinois. As a MySQL Support Engineer for Orac
 le she still manages to stay involved with the PHP Community as a founding
  Principal of phpwomen.org and long-time busy body of the PHPCommunity cha
 nnel (#phpc) on freenode. She hopes to one day actually meet all the peopl
 e she talks to. Now for all the letters – OCP: MySQL 5.6 DBA\, OCP: MySQ
 L 5.6 Dev\, CMDBA (5.0)\, CMDEV (5.0)\, MySQL Core (4.1)\, ZCE (PHP4&5) an
 d Oracle ACE for MySQL.\n
LAST-MODIFIED:20230810T072606Z
LOCATION:Banquet hall - DevConf.in - MLR Convention Centre\, J P Nagar\nBa
 ngalore\nIN
ORGANIZER;CN=Rootconf:MAILTO:no-reply@hasgeek.com
URL:https://hasgeek.com/rootconf/devconf-2017/schedule/mysql-administratio
 n-101-62TGZwjhC3539QdG3xtTtB
BEGIN:VALARM
ACTION:display
DESCRIPTION:MySQL Administration 101 in Banquet hall - DevConf.in in 5 min
 utes
TRIGGER:-PT5M
END:VALARM
END:VEVENT
BEGIN:VEVENT
SUMMARY:Migration of 300 microservices from AWS Cloud to Snapdeal Cloud
DTSTART:20170512T064500Z
DTEND:20170512T070500Z
DTSTAMP:20260421T170951Z
UID:session/XKo1hixJfbUtbUdzkqj6Gj@hasgeek.com
SEQUENCE:2
CATEGORIES:Crisp talk of 15 mins duration,Beginner
CREATED:20170428T131736Z
DESCRIPTION:The talk will dive into how we planned and executed a successf
 ul cloud migration with five 9s uptime. I'll dig deeper into:\n\n- service
  group and dependency graph planning \n\n- risks involved in live migratin
 g\, gotchas and our resolutions to them\n\n- demo of dendrite: our take of
  infrastructure as code\, terraform and how we spin up Snapdeal on demand\
 n\n### Speaker bio\n\nI am an avid foodie and in my freetime ensure that S
 napdeal runs reliably across hybrid cloud as part of the Cloud and Infrast
 ructure team.\n
LAST-MODIFIED:20230810T072606Z
LOCATION:Banquet hall - DevConf.in - MLR Convention Centre\, J P Nagar\nBa
 ngalore\nIN
ORGANIZER;CN=Rootconf:MAILTO:no-reply@hasgeek.com
URL:https://hasgeek.com/rootconf/devconf-2017/schedule/migration-of-300-mi
 croservices-from-aws-cloud-to-snapdeal-cloud-XKo1hixJfbUtbUdzkqj6Gj
BEGIN:VALARM
ACTION:display
DESCRIPTION:Migration of 300 microservices from AWS Cloud to Snapdeal Clou
 d in Banquet hall - DevConf.in in 5 minutes
TRIGGER:-PT5M
END:VALARM
END:VEVENT
BEGIN:VEVENT
SUMMARY:Feedback form distribution\; introduction to DevConf editors
DTSTART:20170512T070500Z
DTEND:20170512T071000Z
DTSTAMP:20260421T170951Z
UID:session/FErBrdLnaLLhRST9FLGeRW@hasgeek.com
SEQUENCE:0
CREATED:20170423T122116Z
DESCRIPTION:\n
LAST-MODIFIED:20170506T050112Z
LOCATION:Banquet hall - DevConf.in - MLR Convention Centre\, J P Nagar\nBa
 ngalore\nIN
ORGANIZER;CN=Rootconf:MAILTO:no-reply@hasgeek.com
BEGIN:VALARM
ACTION:display
DESCRIPTION:Feedback form distribution\; introduction to DevConf editors i
 n Banquet hall - DevConf.in in 5 minutes
TRIGGER:-PT5M
END:VALARM
END:VEVENT
BEGIN:VEVENT
SUMMARY:Fabric8: An end-to-end development platform
DTSTART:20170512T071000Z
DTEND:20170512T072500Z
DTSTAMP:20260421T170951Z
UID:session/9xfC9CFST5wA3wCVv2XPpY@hasgeek.com
SEQUENCE:2
CATEGORIES:Crisp talk of 15 mins duration,Beginner
CREATED:20170428T131522Z
DESCRIPTION:Talk about various features of Fabric8.\n\n### Speaker bio\n\n
 [Baiju Muthukadan](https://twitter.com/nogenerics) is a Senior Software En
 gineer working at Red Hat\, Bangalore. He has contributed to many Free/Ope
 n source software including Zope\, Koha and Salt. He founded the [Swathant
 hra Malayalam Computing](https://smc.org.in) project in 2001 while studyin
 g at REC\, Calicut (NIT\, Kozhikode). He was also employed by Free Softwar
 e Foundation of India in 2002-2003. He received the [first Kenneth Gonsalv
 es award](https://in.pycon.org/2013/blog/baijum-first-kenneth-gonsalves-aw
 ard-recipient/) in recognition of his many contributions to Python languag
 e community in India. He is a co-organizer of Bangalore Golang meetup and 
 he had conducted many Go workshops including one as part of Rootconf'16. H
 e has written [a book about Go](http://golang.muthukadan.net).\n
LAST-MODIFIED:20230810T072606Z
LOCATION:Banquet hall - DevConf.in - MLR Convention Centre\, J P Nagar\nBa
 ngalore\nIN
ORGANIZER;CN=Rootconf:MAILTO:no-reply@hasgeek.com
URL:https://hasgeek.com/rootconf/devconf-2017/schedule/fabric8-an-end-to-e
 nd-development-platform-9xfC9CFST5wA3wCVv2XPpY
BEGIN:VALARM
ACTION:display
DESCRIPTION:Fabric8: An end-to-end development platform in Banquet hall - 
 DevConf.in in 5 minutes
TRIGGER:-PT5M
END:VALARM
END:VEVENT
BEGIN:VEVENT
SUMMARY:Making Kubernetes Simple For Developers
DTSTART:20170512T072500Z
DTEND:20170512T074500Z
DTSTAMP:20260421T170951Z
UID:session/HU7mQyLVsKC5GwUn74e1fW@hasgeek.com
SEQUENCE:2
CATEGORIES:Full talk of 40 mins duration,Intermediate
CREATED:20170423T122236Z
DESCRIPTION:- This talk will showcase the transition of the developer who 
 wants to deploy her application in this new world of containers.\n\n- The 
 journey of containerizing application to having multiple containers to mov
 ing all those containers to orchestrations systems in production.\n\n- In 
 doing all this how tools like docker-compose\, kompose\, OpenCompose help 
 her in various stage of her journey will be demoed.\n\n- Also limitations 
 and advantages of various tools in different environment(dev/prod) will be
  focused on.\n\n### Speaker bio\n\nSuraj Deshmukh contributes to project K
 ompose and OpenCompose in upstream. He has presented in FOSDEM\, DevOpsDay
 s India\, GopherCon India and local meetups.\n\nHe is involved in these pr
 ojects from the time of their inception\, so knows these projects pretty w
 ell. He is active in the local container related meetups like Docker Banga
 lore\, Kubernetes Bangalore meetup\, CNCF meetup group. He ocassionally co
 ntributes to OpenShift(which is Kubernetes distribution)\, cri-o\, libcomp
 ose\, etc.\n\nHe works as Software Engineer at Red Hat\, in Developer tool
 s team where he builds tools that help developers build and deploy contain
 erized applications.\n
LAST-MODIFIED:20230810T072606Z
LOCATION:Banquet hall - DevConf.in - MLR Convention Centre\, J P Nagar\nBa
 ngalore\nIN
ORGANIZER;CN=Rootconf:MAILTO:no-reply@hasgeek.com
URL:https://hasgeek.com/rootconf/devconf-2017/schedule/making-kubernetes-s
 imple-for-developers-HU7mQyLVsKC5GwUn74e1fW
BEGIN:VALARM
ACTION:display
DESCRIPTION:Making Kubernetes Simple For Developers in Banquet hall - DevC
 onf.in in 5 minutes
TRIGGER:-PT5M
END:VALARM
END:VEVENT
BEGIN:VEVENT
SUMMARY:Lunch break
DTSTART:20170512T074500Z
DTEND:20170512T084500Z
DTSTAMP:20260421T170951Z
UID:session/RjVY9dvubwd3GryX8Qhup4@hasgeek.com
SEQUENCE:0
CREATED:20170417T065330Z
DESCRIPTION:\n
LAST-MODIFIED:20170506T050258Z
LOCATION:Banquet hall - DevConf.in - MLR Convention Centre\, J P Nagar\nBa
 ngalore\nIN
ORGANIZER;CN=Rootconf:MAILTO:no-reply@hasgeek.com
BEGIN:VALARM
ACTION:display
DESCRIPTION:Lunch break in Banquet hall - DevConf.in in 5 minutes
TRIGGER:-PT5M
END:VALARM
END:VEVENT
BEGIN:VEVENT
SUMMARY: Persistent Storage for Containers using Gluster
DTSTART:20170512T084500Z
DTEND:20170512T090500Z
DTSTAMP:20260421T170951Z
UID:session/WDgehDsUetqzqY9ad3SJKi@hasgeek.com
SEQUENCE:2
CATEGORIES:Crisp talk of 15 mins duration,Intermediate
CREATED:20170428T131751Z
DESCRIPTION:This talk introduces gluster-kubernetes\, a project that deplo
 ys one or more GlusterFS clusters along with the volume management interfa
 ce heketi as containers into kubernetes with a single command. This gives 
 the administrator a robust and scalable persistent storage solution for th
 eir containers which is seamlessly integrated with kubernetes itself and a
 llows to dynamically storage volumes of requested sizs for an application.
  The talk will feature a demo\, and explain the roadmap of gluster-kuberne
 tes.\n\n### Speaker bio\n\nGluster and Heketi Developer\n
LAST-MODIFIED:20230810T072606Z
LOCATION:Banquet hall - DevConf.in - MLR Convention Centre\, J P Nagar\nBa
 ngalore\nIN
ORGANIZER;CN=Rootconf:MAILTO:no-reply@hasgeek.com
URL:https://hasgeek.com/rootconf/devconf-2017/schedule/persistent-storage-
 for-containers-using-gluster-WDgehDsUetqzqY9ad3SJKi
BEGIN:VALARM
ACTION:display
DESCRIPTION: Persistent Storage for Containers using Gluster in Banquet ha
 ll - DevConf.in in 5 minutes
TRIGGER:-PT5M
END:VALARM
END:VEVENT
BEGIN:VEVENT
SUMMARY:Open Source Infrastructure: Another Path of Growth for Open Source
  
DTSTART:20170512T090500Z
DTEND:20170512T093500Z
DTSTAMP:20260421T170951Z
UID:session/LMiD3cqY7r4m7sBUaFDF7f@hasgeek.com
SEQUENCE:2
CATEGORIES:Full talk of 40 mins duration,Beginner
CREATED:20170423T122220Z
DESCRIPTION:* configuration management as an invitation for new contributo
 rs\n* effective discovery for legacy systems\, \n* access control manageme
 nt as a tool for community growth\, \n* creating compromise between differ
 ent stakeholder groups\n*  models for iteration in an open source environm
 ent.\n\n### Speaker bio\n\nWhen she's not flinging herself in pressurized 
 mental tubes around the world\, Amye plots taking over the world with Glus
 ter. She has worked with many open source communities in the past\, the mo
 st recent being Drupal.\n
LAST-MODIFIED:20230810T072606Z
LOCATION:Banquet hall - DevConf.in - MLR Convention Centre\, J P Nagar\nBa
 ngalore\nIN
ORGANIZER;CN=Rootconf:MAILTO:no-reply@hasgeek.com
URL:https://hasgeek.com/rootconf/devconf-2017/schedule/open-source-infrast
 ructure-another-path-of-growth-for-open-source-LMiD3cqY7r4m7sBUaFDF7f
BEGIN:VALARM
ACTION:display
DESCRIPTION:Open Source Infrastructure: Another Path of Growth for Open So
 urce  in Banquet hall - DevConf.in in 5 minutes
TRIGGER:-PT5M
END:VALARM
END:VEVENT
BEGIN:VEVENT
SUMMARY:Real-time monitoring GlusterFS using Events APIs
DTSTART:20170512T093500Z
DTEND:20170512T095500Z
DTSTAMP:20260421T170951Z
UID:session/LYuBCbKMEhkXL7zZBcfmws@hasgeek.com
SEQUENCE:2
CATEGORIES:Full talk of 40 mins duration,Beginner
CREATED:20170428T131642Z
DESCRIPTION:- Introduction to Gluster FS\n- Challenges involved in real-ti
 me monitoring of a distributed File system(GlusterFS)\n- Events APIs Intro
 duction\n- Demo\n- Example application\n- Future plans of Gluster Events A
 PIs\n\n### Speaker bio\n\n[Aravinda](http://aravindavk.in) works as Senior
  Software Engineer at Red Hat\, in GlusterFS team where he contributes to 
 Geo-replication\, Glusterfind\, Events APIs and other components.\n
LAST-MODIFIED:20230810T072606Z
LOCATION:Banquet hall - DevConf.in - MLR Convention Centre\, J P Nagar\nBa
 ngalore\nIN
ORGANIZER;CN=Rootconf:MAILTO:no-reply@hasgeek.com
URL:https://hasgeek.com/rootconf/devconf-2017/schedule/real-time-monitorin
 g-glusterfs-using-events-apis-LYuBCbKMEhkXL7zZBcfmws
BEGIN:VALARM
ACTION:display
DESCRIPTION:Real-time monitoring GlusterFS using Events APIs in Banquet ha
 ll - DevConf.in in 5 minutes
TRIGGER:-PT5M
END:VALARM
END:VEVENT
BEGIN:VEVENT
SUMMARY:Our journey to dynamic cloud infrastructure using packer + terrafo
 rm + ansible + jenkins
DTSTART:20170512T095500Z
DTEND:20170512T104000Z
DTSTAMP:20260421T170951Z
UID:session/47xyE9itu9xdmhwp5VY3fR@hasgeek.com
SEQUENCE:2
CATEGORIES:Full talk of 40 mins duration,Beginner
CREATED:20170423T122154Z
DESCRIPTION:* The beginning - Manually starting and stopping machines from
  rackspace control panel. Using basic shell scripts and documenting on wik
 i.\n * Automating configuration - Adding ansible scripts to sort out confi
 guration drift and inconsistencies.\n * Automated deploys - Move to CI and
  CD tools to automatically deploy and configure our system.\n * Dynamic In
 frastructure - Using ansible to dynamically maintain infrastucture and eve
 ntual shift to terraform.\n * Base images for quicker and more consistent 
 deployments using packer\n * Tying in packer + terraform + ansible + jenki
 ns (WIP but can present my thought process and get feedback)\n\n### Speake
 r bio\n\nMehul Ved is a system administrator for Nexsales Solution Private
  Limited. His role involves maintaing and improving the IT infrastructure 
 for inhouse products development team. He also looks at technical processe
 s among the team.\n
LAST-MODIFIED:20230810T072606Z
LOCATION:Banquet hall - DevConf.in - MLR Convention Centre\, J P Nagar\nBa
 ngalore\nIN
ORGANIZER;CN=Rootconf:MAILTO:no-reply@hasgeek.com
URL:https://hasgeek.com/rootconf/devconf-2017/schedule/our-journey-to-dyna
 mic-cloud-infrastructure-using-packer-terraform-ansible-jenkins-47xyE9itu9
 xdmhwp5VY3fR
BEGIN:VALARM
ACTION:display
DESCRIPTION:Our journey to dynamic cloud infrastructure using packer + ter
 raform + ansible + jenkins in Banquet hall - DevConf.in in 5 minutes
TRIGGER:-PT5M
END:VALARM
END:VEVENT
BEGIN:VEVENT
SUMMARY:Evening beverage break
DTSTART:20170512T104000Z
DTEND:20170512T111000Z
DTSTAMP:20260421T170951Z
UID:session/PKddn9MAZYuHuKAXFHpmq9@hasgeek.com
SEQUENCE:0
CREATED:20170417T065417Z
DESCRIPTION:\n
LAST-MODIFIED:20170506T050315Z
LOCATION:Banquet hall - DevConf.in - MLR Convention Centre\, J P Nagar\nBa
 ngalore\nIN
ORGANIZER;CN=Rootconf:MAILTO:no-reply@hasgeek.com
BEGIN:VALARM
ACTION:display
DESCRIPTION:Evening beverage break in Banquet hall - DevConf.in in 5 minut
 es
TRIGGER:-PT5M
END:VALARM
END:VEVENT
BEGIN:VEVENT
SUMMARY:Closing keynote: Using CentOS to create a sustainable IoT developm
 ent model
DTSTART:20170512T111000Z
DTEND:20170512T115500Z
DTSTAMP:20260421T170951Z
UID:session/9Wjq86VvEakeo4633Tso8L@hasgeek.com
SEQUENCE:2
CATEGORIES:Full talk of 40 mins duration,Beginner
CREATED:20170428T131807Z
DESCRIPTION:In this talk\, I'll cover common bad practices in IoT\, why a 
 full distribution isn't as crazy as it sounds for an IoT platform\, and th
 e tradeoffs for using one over the other.\n\n### Speaker bio\n\nJim has be
 en a member of the CentOS project for over a decade\, and is the maintaine
 r of the ARMv8/AArch64 port of the CentOS Linux distribution.\n
LAST-MODIFIED:20230810T072606Z
LOCATION:Banquet hall - DevConf.in - MLR Convention Centre\, J P Nagar\nBa
 ngalore\nIN
ORGANIZER;CN=Rootconf:MAILTO:no-reply@hasgeek.com
URL:https://hasgeek.com/rootconf/devconf-2017/schedule/using-centos-to-cre
 ate-a-sustainable-iot-development-model-9Wjq86VvEakeo4633Tso8L
BEGIN:VALARM
ACTION:display
DESCRIPTION:Closing keynote: Using CentOS to create a sustainable IoT deve
 lopment model in Banquet hall - DevConf.in in 5 minutes
TRIGGER:-PT5M
END:VALARM
END:VEVENT
END:VCALENDAR
