BEGIN:VCALENDAR
VERSION:2.0
PRODID:-//HasGeek//NONSGML Funnel//EN
DESCRIPTION:Exploring trends which influence business and strategic decisi
 ons around cloud computing.
X-WR-CALDESC:Exploring trends which influence business and strategic decis
 ions around cloud computing.
NAME:Design patterns for cloud architecture
X-WR-CALNAME:Design patterns for cloud architecture
REFRESH-INTERVAL;VALUE=DURATION:PT12H
SUMMARY:Design patterns for cloud architecture
TIMEZONE-ID:Asia/Kolkata
X-PUBLISHED-TTL:PT12H
X-WR-TIMEZONE:Asia/Kolkata
BEGIN:VEVENT
SUMMARY:Introductions and flow of the session
DTSTART:20230113T103000Z
DTEND:20230113T103500Z
DTSTAMP:20260421T120110Z
UID:session/AX3LnZuZ5y18P9PZjfpdYW@hasgeek.com
SEQUENCE:0
CREATED:20230110T093638Z
LAST-MODIFIED:20230110T093638Z
LOCATION:Bangalore
ORGANIZER;CN=Rootconf:MAILTO:no-reply@hasgeek.com
BEGIN:VALARM
ACTION:display
DESCRIPTION:Introductions and flow of the session in 5 minutes
TRIGGER:-PT5M
END:VALARM
END:VEVENT
BEGIN:VEVENT
SUMMARY:Cloud architecture trends in 2023 - a practitioner's perspective
DTSTART:20230113T103500Z
DTEND:20230113T105000Z
DTSTAMP:20260421T120110Z
UID:session/FNBS2x6apXH33RHqShTtcn@hasgeek.com
SEQUENCE:3
CREATED:20230110T093741Z
DESCRIPTION:Based on Poorvi Nigotiya's talk - https://hasgeek.com/rootconf
 /design-patterns-for-cloud-architecture/sub/an-introduction-to-design-patt
 erns-for-cloud-archi-2H6hE2UHAM8pueAQHtZxme\, this discussion is for pract
 itioners to evaluate different design patterns for cloud architecture\, an
 d pros and cons of each.  \n\nSlides from Poorvi's talk can be viewed at -
  https://drive.google.com/file/d/1KWifOWtsMuOHIUxYHPWbeEMwHPs_PVw0/view?us
 p=sharing - for reference.\n
LAST-MODIFIED:20230116T100031Z
LOCATION:Bangalore
ORGANIZER;CN=Rootconf:MAILTO:no-reply@hasgeek.com
BEGIN:VALARM
ACTION:display
DESCRIPTION:Cloud architecture trends in 2023 - a practitioner's perspecti
 ve in 5 minutes
TRIGGER:-PT5M
END:VALARM
END:VEVENT
BEGIN:VEVENT
SUMMARY:Too large to be on the cloud? Flipkart's business decision and jou
 rney with on-premises cloud architecture.
DTSTART:20230113T105000Z
DTEND:20230113T113000Z
DTSTAMP:20260421T120110Z
UID:session/Hn3XBkRg6MHdE4hTgU2yWP@hasgeek.com
SEQUENCE:19
CREATED:20221206T031556Z
DESCRIPTION:**Slides for this talk are published [here](https://docs.googl
 e.com/presentation/d/1GiF2dxWp_HoL2T_kSnrc93k9UySZNIPomA4kD8-R0ps/edit#sli
 de=id.p).**\nSwitching from a traditional to a public cloud model requires
  the business to validate these design patterns and determine that more re
 turn on investment is available by choosing to go the on-premises way. \nV
 arun Nair shares Flipkart's experience\, mainly the flow of decisions whic
 h eventually culminated in this IT infrastructure approach. Varun will als
 o help to chart the course about when an organization becomes "too large t
 o be on the cloud."
LAST-MODIFIED:20230203T055753Z
LOCATION:Bangalore
ORGANIZER;CN=Rootconf:MAILTO:no-reply@hasgeek.com
BEGIN:VALARM
ACTION:display
DESCRIPTION:Too large to be on the cloud? Flipkart's business decision and
  journey with on-premises cloud architecture. in 5 minutes
TRIGGER:-PT5M
END:VALARM
END:VEVENT
BEGIN:VEVENT
SUMMARY:Hidden costs of instrumentation
DTSTART:20230216T103000Z
DTEND:20230216T113000Z
DTSTAMP:20260421T120110Z
UID:session/2ZUSdqcffvD9hstc51L9in@hasgeek.com
SEQUENCE:6
CREATED:20230113T072239Z
LAST-MODIFIED:20230225T112617Z
LOCATION:Bangalore
ORGANIZER;CN=Rootconf:MAILTO:no-reply@hasgeek.com
BEGIN:VALARM
ACTION:display
DESCRIPTION:Hidden costs of instrumentation in 5 minutes
TRIGGER:-PT5M
END:VALARM
END:VEVENT
BEGIN:VEVENT
SUMMARY:3 years of Kubernetes in production - Here's what we learned
DTSTART:20230224T103000Z
DTEND:20230224T110000Z
DTSTAMP:20260421T120110Z
UID:session/DVXK8KzV6ZpzS5vPhrhz6k@hasgeek.com
SEQUENCE:5
CREATED:20230222T042717Z
DESCRIPTION:Kubernetes has clearly gained mindshare of most engineering te
 ams. There is a strong interest and desire in teams to migrate to Kubernet
 es and other new tech in the cloud-native ecosystem. However the journey t
 o migrate to a cloud-native stack is complex and long\, and has a lot of h
 idden costs.\n\nIn 2018\, we at Blinkit decided to leave behind our Ansibl
 e based configuration management setup for deploying applications on EC2 a
 nd move towards using containers and Kubernetes for orchestration. Today\,
  all of Blinkit's production infrastructure runs on Kubernetes. It was a b
 ig undertaking and had its own challenges — from technical challenges of
  running a hybrid infrastructure until most of the migration was done to o
 rganizational challenges such as training the entire team on a completely 
 new paradigm of operations.\n\nThis talk is a report of Blinkit's experien
 ces of adopting Kubernetes and other cloud-native technologies\, the chall
 enges that came our way\, dealing with complexity of legacy\, delivering a
  great developer platform and the way forward for us. By attending this se
 ssion\, attendees will get insights into:\n- understand possible reasons t
 o migrate to Kubernetes and how to decide if they should migrate or not (w
 ith possible alternatives)\n- practical challenges of migrating to Kuberne
 tes\n- the factors to consider before they decide to adopt Kubernetes\n- h
 ow to prepare themselves and their teams before on the journey (culturally
  and functionally)\n\nThis talk is not to deter you\, but merely to help y
 ou understand your reasons clearer before you make the decision.\n
LAST-MODIFIED:20230309T095624Z
LOCATION:Bangalore
ORGANIZER;CN=Rootconf:MAILTO:no-reply@hasgeek.com
URL:https://hasgeek.com/rootconf/design-patterns-for-cloud-architecture/sc
 hedule/3-years-of-kubernetes-in-production-heres-what-we-learned-DVXK8KzV6
 ZpzS5vPhrhz6k
BEGIN:VALARM
ACTION:display
DESCRIPTION:3 years of Kubernetes in production - Here's what we learned i
 n 5 minutes
TRIGGER:-PT5M
END:VALARM
END:VEVENT
BEGIN:VEVENT
SUMMARY:CI/CD Ops for multi-cloud leveraging K8s - panel discussion
DTSTART:20230224T110000Z
DTEND:20230224T120000Z
DTSTAMP:20260421T120110Z
UID:session/92eGMAj2opvi6L3nVjPk8p@hasgeek.com
SEQUENCE:5
CREATED:20230222T042755Z
DESCRIPTION:Anand Chitipothu will moderate this panel discussion\, coverin
 g the following:\n\n* What is CI/CD and what is CI/CD ops for k8s?\n* Evol
 ution of CI/CD.\n* The landscape of current CI/CD tools and how open sourc
 e is making an impact.\n* Panelists' experience with setting up CI/CD ops 
 for K8s.\n* What are the kinds of efforts that are required to set up CI/C
 D ops ?\n* What are the inefficiencies to keep a watch for and what are th
 e pitfalls to avoid?\n* At what scale of an organization does it start mak
 ing sense\, and what are the alternatives for smaller orgs?\n*What are the
  challenges with CI/CD ops for k8s on multi-region and multi-cloud?\n\nVai
 dik Kapoor (Devtron)\, Smit Shah (Hasura)\, Soumyadeep Mukherjee (Dashtoon
 ) will participate in the panel discussion. 
LAST-MODIFIED:20230309T095430Z
LOCATION:Bangalore
ORGANIZER;CN=Rootconf:MAILTO:no-reply@hasgeek.com
URL:https://hasgeek.com/rootconf/design-patterns-for-cloud-architecture/sc
 hedule/ci-cd-ops-for-multi-cloud-leveraging-k8s-panel-discussion-92eGMAj2o
 pvi6L3nVjPk8p
BEGIN:VALARM
ACTION:display
DESCRIPTION:CI/CD Ops for multi-cloud leveraging K8s - panel discussion in
  5 minutes
TRIGGER:-PT5M
END:VALARM
END:VEVENT
END:VCALENDAR
