BEGIN:VCALENDAR
VERSION:2.0
PRODID:-//HasGeek//NONSGML Funnel//EN
DESCRIPTION:Office hours session
X-WR-CALDESC:Office hours session
NAME:Data security consultation with Appsecco
X-WR-CALNAME:Data security consultation with Appsecco
REFRESH-INTERVAL;VALUE=DURATION:PT12H
SUMMARY:Data security consultation with Appsecco
TIMEZONE-ID:Asia/Kolkata
X-PUBLISHED-TTL:PT12H
X-WR-TIMEZONE:Asia/Kolkata
BEGIN:VEVENT
SUMMARY:Office hour consultation on data security - slot 1
DTSTART:20200716T103000Z
DTEND:20200716T105500Z
DTSTAMP:20260420T032145Z
UID:session/57YeFFcWccxgbudzdN2PkB@hasgeek.com
SEQUENCE:0
CREATED:20200619T051137Z
DESCRIPTION:\n
LAST-MODIFIED:20200619T051229Z
LOCATION:Online
ORGANIZER;CN=Rootconf:MAILTO:no-reply@hasgeek.com
BEGIN:VALARM
ACTION:display
DESCRIPTION:Office hour consultation on data security - slot 1 in 5 minute
 s
TRIGGER:-PT5M
END:VALARM
END:VEVENT
BEGIN:VEVENT
SUMMARY:Break
DTSTART:20200716T105500Z
DTEND:20200716T110000Z
DTSTAMP:20260420T032145Z
UID:session/USqCZ7r41RNjYzQnCPooba@hasgeek.com
SEQUENCE:0
CREATED:20200619T051147Z
DESCRIPTION:\n
LAST-MODIFIED:20200619T051231Z
LOCATION:Online
ORGANIZER;CN=Rootconf:MAILTO:no-reply@hasgeek.com
BEGIN:VALARM
ACTION:display
DESCRIPTION:Break in 5 minutes
TRIGGER:-PT5M
END:VALARM
END:VEVENT
BEGIN:VEVENT
SUMMARY:Office hour consultation on data security - slot 2
DTSTART:20200716T110000Z
DTEND:20200716T112500Z
DTSTAMP:20260420T032145Z
UID:session/7ytaiAAmNomyLqT59hdGB7@hasgeek.com
SEQUENCE:0
CREATED:20200619T051153Z
DESCRIPTION:\n
LAST-MODIFIED:20200619T051233Z
LOCATION:Online
ORGANIZER;CN=Rootconf:MAILTO:no-reply@hasgeek.com
BEGIN:VALARM
ACTION:display
DESCRIPTION:Office hour consultation on data security - slot 2 in 5 minute
 s
TRIGGER:-PT5M
END:VALARM
END:VEVENT
BEGIN:VEVENT
SUMMARY:Break
DTSTART:20200716T112500Z
DTEND:20200716T113000Z
DTSTAMP:20260420T032145Z
UID:session/QvHDsWkas7bsfwWV8NwSvv@hasgeek.com
SEQUENCE:0
CREATED:20200619T051204Z
DESCRIPTION:\n
LAST-MODIFIED:20200619T051235Z
LOCATION:Online
ORGANIZER;CN=Rootconf:MAILTO:no-reply@hasgeek.com
BEGIN:VALARM
ACTION:display
DESCRIPTION:Break in 5 minutes
TRIGGER:-PT5M
END:VALARM
END:VEVENT
BEGIN:VEVENT
SUMMARY:Office hour consultation on data security - slot 3
DTSTART:20200716T113000Z
DTEND:20200716T115500Z
DTSTAMP:20260420T032145Z
UID:session/28n9ZExbMp4gjP3CrDAC5r@hasgeek.com
SEQUENCE:0
CREATED:20200619T051212Z
DESCRIPTION:\n
LAST-MODIFIED:20200619T051239Z
LOCATION:Online
ORGANIZER;CN=Rootconf:MAILTO:no-reply@hasgeek.com
BEGIN:VALARM
ACTION:display
DESCRIPTION:Office hour consultation on data security - slot 3 in 5 minute
 s
TRIGGER:-PT5M
END:VALARM
END:VEVENT
BEGIN:VEVENT
SUMMARY:Break
DTSTART:20200716T115500Z
DTEND:20200716T120000Z
DTSTAMP:20260420T032145Z
UID:session/6d7SrhydXKpxDoQNLFHUCQ@hasgeek.com
SEQUENCE:0
CREATED:20200619T051246Z
DESCRIPTION:\n
LAST-MODIFIED:20200619T051246Z
LOCATION:Online
ORGANIZER;CN=Rootconf:MAILTO:no-reply@hasgeek.com
BEGIN:VALARM
ACTION:display
DESCRIPTION:Break in 5 minutes
TRIGGER:-PT5M
END:VALARM
END:VEVENT
BEGIN:VEVENT
SUMMARY:Office hour consultation on data security - slot 4
DTSTART:20200716T120000Z
DTEND:20200716T122500Z
DTSTAMP:20260420T032145Z
UID:session/PEoRp5tjKVwAGedW5AMpuo@hasgeek.com
SEQUENCE:0
CREATED:20200619T051254Z
DESCRIPTION:\n
LAST-MODIFIED:20200619T051300Z
LOCATION:Online
ORGANIZER;CN=Rootconf:MAILTO:no-reply@hasgeek.com
BEGIN:VALARM
ACTION:display
DESCRIPTION:Office hour consultation on data security - slot 4 in 5 minute
 s
TRIGGER:-PT5M
END:VALARM
END:VEVENT
END:VCALENDAR
