BEGIN:VCALENDAR
VERSION:2.0
PRODID:-//HasGeek//NONSGML Funnel//EN
DESCRIPTION:AMA on Data Security
X-WR-CALDESC:AMA on Data Security
NAME:Data leaks and safeguards
X-WR-CALNAME:Data leaks and safeguards
REFRESH-INTERVAL;VALUE=DURATION:PT12H
SUMMARY:Data leaks and safeguards
TIMEZONE-ID:Asia/Kolkata
X-PUBLISHED-TTL:PT12H
X-WR-TIMEZONE:Asia/Kolkata
BEGIN:VEVENT
SUMMARY:Introduction to the session and format
DTSTART:20200709T133000Z
DTEND:20200709T133500Z
DTSTAMP:20260420T013731Z
UID:session/MwNqrHenbMLzDu2Q3TUAZw@hasgeek.com
SEQUENCE:0
CREATED:20200619T050517Z
DESCRIPTION:\n
LAST-MODIFIED:20200629T044215Z
LOCATION:Online
ORGANIZER;CN=Rootconf:MAILTO:no-reply@hasgeek.com
BEGIN:VALARM
ACTION:display
DESCRIPTION:Introduction to the session and format in 5 minutes
TRIGGER:-PT5M
END:VALARM
END:VEVENT
BEGIN:VEVENT
SUMMARY:Short presentation on data security
DTSTART:20200709T133500Z
DTEND:20200709T140500Z
DTSTAMP:20260420T013731Z
UID:session/Qb1Bz7h79pF86WLrpzPqcN@hasgeek.com
SEQUENCE:2
CREATED:20200619T050533Z
DESCRIPTION:\n\n### Speaker bio\n\nAbhisek Datta is an accomplished securi
 ty professional with over a decade of experience in information security s
 olution engineering\, services\, vulnerability research\, reverse engineer
 ing and security tools development.\n\nHe is a participant of NULL\, India
 's largest open security community as a core team member responsible for t
 echndnology development. As a security researcher\, he is credited with mu
 ltiple vulnerability discovery across enterprise products with CVEs to his
  name such as CVE- 2015-0085\, CVE-2015-1650\, CVE-2015-1682\, CVE-2015-23
 76\, CVE-2015-2555\, CVE-2014-4117\, CVE- 2014-6113.\n* Open source code: 
 https://github.com/abhisek\n* Twitter: https://twitter.com/abh1sek\n
LAST-MODIFIED:20230810T072606Z
LOCATION:Online
ORGANIZER;CN=Rootconf:MAILTO:no-reply@hasgeek.com
BEGIN:VALARM
ACTION:display
DESCRIPTION:Short presentation on data security in 5 minutes
TRIGGER:-PT5M
END:VALARM
END:VEVENT
BEGIN:VEVENT
SUMMARY:AMA on data security
DTSTART:20200709T140500Z
DTEND:20200709T144000Z
DTSTAMP:20260420T013731Z
UID:session/3G2pVM1SoA7sTHpushtY9n@hasgeek.com
SEQUENCE:0
CREATED:20200619T050546Z
DESCRIPTION:\n
LAST-MODIFIED:20200724T062251Z
LOCATION:Online
ORGANIZER;CN=Rootconf:MAILTO:no-reply@hasgeek.com
BEGIN:VALARM
ACTION:display
DESCRIPTION:AMA on data security in 5 minutes
TRIGGER:-PT5M
END:VALARM
END:VEVENT
BEGIN:VEVENT
SUMMARY:Summary and conclusion
DTSTART:20200709T144000Z
DTEND:20200709T144500Z
DTSTAMP:20260420T013731Z
UID:session/KuY76mKZ6W5sc87NV9Y3TV@hasgeek.com
SEQUENCE:0
CREATED:20200619T050558Z
DESCRIPTION:\n
LAST-MODIFIED:20200619T050558Z
LOCATION:Online
ORGANIZER;CN=Rootconf:MAILTO:no-reply@hasgeek.com
BEGIN:VALARM
ACTION:display
DESCRIPTION:Summary and conclusion in 5 minutes
TRIGGER:-PT5M
END:VALARM
END:VEVENT
END:VCALENDAR
