BEGIN:VCALENDAR
VERSION:2.0
PRODID:-//HasGeek//NONSGML Funnel//EN
DESCRIPTION:Analysis and impact on citizens
X-WR-CALDESC:Analysis and impact on citizens
NAME:CoWIN Data Breach
X-WR-CALNAME:CoWIN Data Breach
REFRESH-INTERVAL;VALUE=DURATION:PT12H
SUMMARY:CoWIN Data Breach
TIMEZONE-ID:Asia/Kolkata
X-PUBLISHED-TTL:PT12H
X-WR-TIMEZONE:Asia/Kolkata
BEGIN:VEVENT
SUMMARY:CoWIN Data Breach
DTSTART:20230616T120000Z
DTEND:20230616T133000Z
DTSTAMP:20260422T001819Z
UID:session/8KvDCKDZhCx65djs7mAJ9j@hasgeek.com
SEQUENCE:12
CREATED:20230615T125646Z
DESCRIPTION:## CoWin Portal And India's Foray into Digital Public Health I
 nfrastructure. \nThe (CoWin) Portal/App is the government of India-owned p
 latform for the Covid-19 vaccine. The programme was launched by PM on 16 J
 anuary 2021. Since its commencement\, nearly 1.12 Billion people have regi
 stered themselves on the CoWin Portal and nearly 2.2 billion doses of Vacc
 ine have been administered through it. \n## The Issues Surrounding the Cow
 in Portal and the Privacy of the Citizens\nSince its inception\, the porta
 l has been marred with controversy for various reasons. The project has be
 en established through an executive fiat and has no legal backing. In 2021
 \, a June hackers group claimed that it had bread the data of around 15 Cr
 ore people who had registered on the Portal. The Government\, however\, de
 nied any such leak and refuted the claims of the breach saying that data w
 as safe and secure. RS Sharma\, the Chief Executive Officer of the Nationa
 l Health Authority vouched for the CoWIN portal and said "CoWIN has state-
 of-the-art security infrastructure and has never faced a security breach. 
 Data of our citizens is absolutely "safe" and "secure". Any news about dat
 a leaks from CoWIN holds no merit. \nHowever\, on Monday\, 12th June 2023\
 , a Kerala-based Malayalam web portal The Fourth News published an article
  revealing that a Telegram Bot was throwing up the personal information of
  the people who had registered themselves on the Cowin App/Portal. The bot
  provided the information after an Aadhaar number or a mobile number was p
 rovided to it. \nThis again raised serious concerns surrounding the safety
  and security of the personal data of the citizens on the Cowin Portal/App
 . \n\nThe Government again denied any breach. The Health Ministry said tha
 t the CERT-In has been looking into the matter and that the Cowin was safe
  from any threat. The Minister of State (Meity) however conceded that the 
 telegram bot might have access to the data from the threat actor which cou
 ld have been populated with previously stolen data stolen in the past. How
 ever\, the minister did reveal the past theft or breach or whether was any
  enquiry conducted for this. \n\n \n\n## About the speakers\nThe webinar h
 as three panellists who will be speaking on the issue. Rishu Mehrotra is a
  Technology Leader at Merkle Science. He is a part of the Leadership Group
  at MerkleScience which has been nurturing and building the next generatio
 n of enterprise-grade Blockchain risk management and compliance platforms.
  \n\nArjun BM is Chief Security Architect at Finastra and a security profe
 ssional with diverse experience in architecting\, designing\, implementing
  & supporting IT Security & Vulnerability Management solutions in Enterpri
 se & Cloud environments. He is an enthusiast with diverse experience in ar
 eas like Application Security\, Security Architecture & DevSecOps. Current
 ly working for a FinTech major as a Security Architect\, ensuring end-to-e
 nd implementation\, design and governance of security controls within prod
 uct design.\n\nTejasi Panjiar is an associate Policy counsel at Internet F
 reedom Foundation and has been actively pursuing issues related to data pr
 otection\, public policy\, digital rights and digital governance. \n\n\n\n
 ## About the moderator\nRia Singh Sawhney is a lawyer and has been associa
 ted with the Rethink Aadhaar campaign. She has been actively writing on is
 sues involving the Aadhaar and its intersection with human rights and how 
 the Aadhaar has been proven to be exclusionary and problematic for the peo
 ple of marginalised communities. \n\n## Key takeaways for participants\n1.
  You will understand the nuances of data security.\n2.  You will understan
 d how digital infrastructure works in society and what are its intended be
 nefits and potential harms.\n3.  you will also learn what happens when the
  personal data of millions of people is compromised and what are its impli
 cations on society as a whole.\n4.  You will understand what measures coul
 d be used to protect the data of the citizens and what steps should the Go
 vernment take to ensure the safety and security of the citizens of the cou
 ntry. \n\n**Contact information:** For queries about the meetups\, contact
  Hasgeek at <support@hasgeek.com> or call (91)7676332020. \n\n **Purchase 
 a membership** to support Rootconf's community activities on hasgeek.com 
LAST-MODIFIED:20230810T072505Z
LOCATION:Online - https://hasgeek.com/rootconf/cowin-data-breach/
ORGANIZER;CN=Rootconf:MAILTO:no-reply@hasgeek.com
URL:https://hasgeek.com/rootconf/cowin-data-breach/
BEGIN:VALARM
ACTION:display
DESCRIPTION:CoWIN Data Breach in 5 minutes
TRIGGER:-PT5M
END:VALARM
END:VEVENT
END:VCALENDAR
