BEGIN:VCALENDAR
VERSION:2.0
PRODID:-//HasGeek//NONSGML Funnel//EN
DESCRIPTION:On costs\, scaling and securing cloud servers
X-WR-CALDESC:On costs\, scaling and securing cloud servers
NAME:Miniconf on Cloud Server Management (New Delhi)
X-WR-CALNAME:Miniconf on Cloud Server Management (New Delhi)
REFRESH-INTERVAL;VALUE=DURATION:PT12H
SUMMARY:Miniconf on Cloud Server Management (New Delhi)
TIMEZONE-ID:Asia/Kolkata
X-PUBLISHED-TTL:PT12H
X-WR-TIMEZONE:Asia/Kolkata
BEGIN:VEVENT
SUMMARY:Registration\, welcome and tea
DTSTART:20180120T033000Z
DTEND:20180120T041500Z
DTSTAMP:20260421T021028Z
UID:session/7bsLfJCBGzCDexaD8vVAtc@hasgeek.com
SEQUENCE:0
CREATED:20180103T143649Z
DESCRIPTION:\n
LAST-MODIFIED:20180104T055726Z
LOCATION:New Delhi
ORGANIZER;CN=Rootconf:MAILTO:no-reply@hasgeek.com
BEGIN:VALARM
ACTION:display
DESCRIPTION:Registration\, welcome and tea in 5 minutes
TRIGGER:-PT5M
END:VALARM
END:VEVENT
BEGIN:VEVENT
SUMMARY:Introduction and navigating the schedule
DTSTART:20180120T041500Z
DTEND:20180120T043000Z
DTSTAMP:20260421T021028Z
UID:session/Vecq3pQqJx6tUFxnVL8vok@hasgeek.com
SEQUENCE:0
CREATED:20180103T143726Z
DESCRIPTION:\n
LAST-MODIFIED:20180104T055733Z
LOCATION:Main Space - Investopad\, Gurgaon\nGurgaon\nIN
ORGANIZER;CN=Rootconf:MAILTO:no-reply@hasgeek.com
BEGIN:VALARM
ACTION:display
DESCRIPTION:Introduction and navigating the schedule in Main Space in 5 mi
 nutes
TRIGGER:-PT5M
END:VALARM
END:VEVENT
BEGIN:VEVENT
SUMMARY:Cloud Agnostic Webscale
DTSTART:20180120T043000Z
DTEND:20180120T050500Z
DTSTAMP:20260421T021028Z
UID:session/TaPBYrgPXnJruPzRhacka1@hasgeek.com
SEQUENCE:2
CATEGORIES:Beginner
CREATED:20180103T143815Z
DESCRIPTION:* Introduction to cloud Agnostic approach to computing\n* why 
 is webscale important and how to design one from groundup\n* How does bein
 g cloud agnostic help in scaleup ?\n* Reference architecture for a cloud a
 gnostic strategy with scale builtin\n* Multicloud strategies with cloud ag
 nostic approach\n* Q & A\n\n### Speaker bio\n\nCTO @E2E Networks\, i am re
 sponsible for running the cloud operations and various initiative revolvin
 g around this. Am a firm believer in Free and open source software and we 
 at E2E Networks have leveraged our extensive experience in open source to 
 give scalable solutions on cloud agnostic setups\n
LAST-MODIFIED:20230810T072606Z
LOCATION:Main Space - Investopad\, Gurgaon\nGurgaon\nIN
ORGANIZER;CN=Rootconf:MAILTO:no-reply@hasgeek.com
URL:https://hasgeek.com/rootconf/cloud-server-management-miniconf-new-delh
 i-2017/schedule/cloud-agnostic-webscale-TaPBYrgPXnJruPzRhacka1
BEGIN:VALARM
ACTION:display
DESCRIPTION:Cloud Agnostic Webscale in Main Space in 5 minutes
TRIGGER:-PT5M
END:VALARM
END:VEVENT
BEGIN:VEVENT
SUMMARY:Continuous Integration at Haptik : Our Journey to Hourly Releases
DTSTART:20180120T050500Z
DTEND:20180120T054000Z
DTSTAMP:20260421T021028Z
UID:session/XzLD4rR5yjBcik6St7o1L5@hasgeek.com
SEQUENCE:2
CREATED:20180103T144529Z
DESCRIPTION:This talk encompasses is a narrative of our journey from manua
 l releases to an entire CI pipeline that allows us to release code hourly.
  How the CI Pipeline was modified to help move data and machine learning m
 odels across environments and the learnings along the way.\n\nWe have empo
 wered our team to deploy code several times a day\, as well as their chat 
 flows and data. It encompasses a pipeline for both code deployments as wel
 l as ETL\, tagging and data movement for machine learning models.\n\nThis 
 talk is not a deep dive into technicals of Jenkins\, Ansible etc but a hig
 h level overview of system\, the thought process and the business value de
 rived from the system.\n\n### Speaker bio\n\nPrateek Gupte is currently th
 e Director of Engineering at Haptik\, India’s first conversational comme
 rce platform. He has held engineering leadership positions at his previous
  startups - BYOF Studios and Code Red\, and has built technology solutions
  for a variety of domains such as gaming\, healthcare\, pricing solutions 
 and artificial intelligence.\n
LAST-MODIFIED:20230810T072606Z
LOCATION:Main Space - Investopad\, Gurgaon\nGurgaon\nIN
ORGANIZER;CN=Rootconf:MAILTO:no-reply@hasgeek.com
BEGIN:VALARM
ACTION:display
DESCRIPTION:Continuous Integration at Haptik : Our Journey to Hourly Relea
 ses in Main Space in 5 minutes
TRIGGER:-PT5M
END:VALARM
END:VEVENT
BEGIN:VEVENT
SUMMARY:Tea Break
DTSTART:20180120T054000Z
DTEND:20180120T060000Z
DTSTAMP:20260421T021028Z
UID:session/6ev8VmNzdurtXcqTJSmC4j@hasgeek.com
SEQUENCE:0
CREATED:20180103T144608Z
DESCRIPTION:\n
LAST-MODIFIED:20180104T055738Z
LOCATION:New Delhi
ORGANIZER;CN=Rootconf:MAILTO:no-reply@hasgeek.com
BEGIN:VALARM
ACTION:display
DESCRIPTION:Tea Break in 5 minutes
TRIGGER:-PT5M
END:VALARM
END:VEVENT
BEGIN:VEVENT
SUMMARY:Kayako's Immutable Infrastructure on AWS using Hashicorp
DTSTART:20180120T060000Z
DTEND:20180120T063500Z
DTSTAMP:20260421T021028Z
UID:session/Vas4WtVrGAPFeoMkUdpDih@hasgeek.com
SEQUENCE:2
CATEGORIES:Intermediate
CREATED:20180103T144634Z
DESCRIPTION:* What is immutable infrastrucutre\n* Infrastructure as code u
 sing Terraform for AWS\n* Container scheduling with Nomad\n* Secret Manage
 ment with Vault\n* Service Discovery with Consul\n* Deploying code in an i
 mmutable architecture\n* AWS specific takeaways\n\n### Speaker bio\n\nhttp
 s://www.linkedin.com/in/kashifrazzaqui/\n
LAST-MODIFIED:20230810T072606Z
LOCATION:Main Space - Investopad\, Gurgaon\nGurgaon\nIN
ORGANIZER;CN=Rootconf:MAILTO:no-reply@hasgeek.com
URL:https://hasgeek.com/rootconf/cloud-server-management-miniconf-new-delh
 i-2017/schedule/kayakos-immutable-infrastructure-on-aws-using-hashicorp-Va
 s4WtVrGAPFeoMkUdpDih
BEGIN:VALARM
ACTION:display
DESCRIPTION:Kayako's Immutable Infrastructure on AWS using Hashicorp in Ma
 in Space in 5 minutes
TRIGGER:-PT5M
END:VALARM
END:VEVENT
BEGIN:VEVENT
SUMMARY:Business Data Analysis using Power BI by integrating On-Prem Data 
 with Cloud Services
DTSTART:20180120T063500Z
DTEND:20180120T071000Z
DTSTAMP:20260421T021028Z
UID:session/PCpxtLtTe39PE34uoYQa9s@hasgeek.com
SEQUENCE:2
CATEGORIES:Intermediate
CREATED:20180103T144657Z
DESCRIPTION:1.	Introduction to Power BI Service and how it fits within the
  rest of the Microsoft Cloud (Azure\, Office 365)\n2.	How Power BI service
  works\n3.	Working with Data in the cloud – including Big Data sources\n
 4.	Infrastructure required to get Power BI working with On prem data for e
 nterprises\n\n### Speaker bio\n\nHave been running a technology consulting
  company since 1998 working on many different platforms and happen to be a
  Microsoft Regional Director - an honorary title given by Microsoft to peo
 ple outside the organization whom they consider as experts in the field. I
 've consulted for corporates\, educational institutes\, govt and defence o
 rganizations and provided technical trainings in multiple topics.\n
LAST-MODIFIED:20230810T072606Z
LOCATION:Main Space - Investopad\, Gurgaon\nGurgaon\nIN
ORGANIZER;CN=Rootconf:MAILTO:no-reply@hasgeek.com
URL:https://hasgeek.com/rootconf/cloud-server-management-miniconf-new-delh
 i-2017/schedule/business-data-analysis-using-power-bi-by-integrating-on-pr
 em-data-with-cloud-services-PCpxtLtTe39PE34uoYQa9s
BEGIN:VALARM
ACTION:display
DESCRIPTION:Business Data Analysis using Power BI by integrating On-Prem D
 ata with Cloud Services in Main Space in 5 minutes
TRIGGER:-PT5M
END:VALARM
END:VEVENT
BEGIN:VEVENT
SUMMARY: Auto-remediation at scale using watchers
DTSTART:20180120T071000Z
DTEND:20180120T074500Z
DTSTAMP:20260421T021028Z
UID:session/EixvDEmbiod1ezxu48GQff@hasgeek.com
SEQUENCE:2
CATEGORIES:Advanced
CREATED:20180103T144722Z
DESCRIPTION:1. Introduction to monitoring issues at scale (what problems u
 sers can expect at scale & why traditional method might not be right solut
 ion - stats & scale etc.)\n2. An introduction to watchers and its capabili
 ties - monitoring & alerting.\n3. Steps involved in building an auto-remed
 iation system using watchers.\n4. Simple example - Users failed to login?\
 n5.  Use watchers to solve user login failure by running diagnosis & event
 -driven automation to self-heal the system for failed login accounts.\n\n#
 ## Speaker bio\n\nVivek is a tech enthusiast with over 11 years experience
  in the Software Industry. He is currently working as a Developer Advocate
  with DigitalOcean and has been a Technology Advisor to several tech start
 ups. Previously he was Head of DevOps & QA at Blackbuck and was a DevOps S
 olution Architect at HCL (Australia) in client engagement and pre-sales ro
 les. Vivek started his career with IBM Rational (INDIA Software Labs) and 
 is passionate about working with software developer communities.\n
LAST-MODIFIED:20230810T072606Z
LOCATION:Main Space - Investopad\, Gurgaon\nGurgaon\nIN
ORGANIZER;CN=Rootconf:MAILTO:no-reply@hasgeek.com
URL:https://hasgeek.com/rootconf/cloud-server-management-miniconf-new-delh
 i-2017/schedule/auto-remediation-at-scale-using-watchers-EixvDEmbiod1ezxu4
 8GQff
BEGIN:VALARM
ACTION:display
DESCRIPTION: Auto-remediation at scale using watchers in Main Space in 5 m
 inutes
TRIGGER:-PT5M
END:VALARM
END:VEVENT
BEGIN:VEVENT
SUMMARY:Panel discussion on resource scaling and cost optimisation for sca
 ling orgs/infrastructure
DTSTART:20180120T074500Z
DTEND:20180120T081500Z
DTSTAMP:20260421T021028Z
UID:session/KoPouMQqEogk4Wxuh4wRwc@hasgeek.com
SEQUENCE:0
CREATED:20180103T145029Z
DESCRIPTION:\n
LAST-MODIFIED:20180104T055752Z
LOCATION:Main Space - Investopad\, Gurgaon\nGurgaon\nIN
ORGANIZER;CN=Rootconf:MAILTO:no-reply@hasgeek.com
BEGIN:VALARM
ACTION:display
DESCRIPTION:Panel discussion on resource scaling and cost optimisation for
  scaling orgs/infrastructure in Main Space in 5 minutes
TRIGGER:-PT5M
END:VALARM
END:VEVENT
BEGIN:VEVENT
SUMMARY:Lunch Break
DTSTART:20180120T081500Z
DTEND:20180120T091000Z
DTSTAMP:20260421T021028Z
UID:session/L2p61FVAjQHYiTyHeYLYz7@hasgeek.com
SEQUENCE:0
CREATED:20180103T145053Z
DESCRIPTION:\n
LAST-MODIFIED:20180104T055753Z
LOCATION:New Delhi
ORGANIZER;CN=Rootconf:MAILTO:no-reply@hasgeek.com
BEGIN:VALARM
ACTION:display
DESCRIPTION:Lunch Break in 5 minutes
TRIGGER:-PT5M
END:VALARM
END:VEVENT
BEGIN:VEVENT
SUMMARY:Setting up a CI/CD pipeline with Jenkins
DTSTART:20180120T091000Z
DTEND:20180120T121000Z
DTSTAMP:20260421T021028Z
UID:session/KuW2ogfXZuALxRN7i9x2bP@hasgeek.com
SEQUENCE:2
CATEGORIES:Intermediate
CREATED:20180103T145456Z
DESCRIPTION:Of course its a tad bit more complicated than what the pitch m
 akes it sound like\, but then we can get to it in the last hour of the wor
 kshop.\n\n### Introduction\n\n- Jenkins terminologies and jargons\n- Outli
 ne of the workshop\n\n### Part 1: Primarily\n\nParticipants configure a si
 mple web application for automated deployment.\nOutline:\n\n- gain access 
 to the jenkins server setup for this very workshop.\n- gain familarity wit
 h various console panels.\n- configure the pipeline\, to trigger deploymen
 t upon code change in their repository.\n- make changes in the forks of th
 e repo and see the changes get deployed on server.\n\n### Part2: If time p
 ermits\nSetting up a jenkins server.\n\n### Post hands-on discussions:\n- 
 need for continuous deployment\n- cost of setting up the CI/CD pipeline in
  terms of effort involved.\n- need for automated tests and how to get the 
 dev-team to write them\n\n### Speaker bio\n\nDeveloper who automates himse
 lf off his job.\n
LAST-MODIFIED:20230810T072606Z
LOCATION:Main Space - Investopad\, Gurgaon\nGurgaon\nIN
ORGANIZER;CN=Rootconf:MAILTO:no-reply@hasgeek.com
URL:https://hasgeek.com/rootconf/cloud-server-management-miniconf-new-delh
 i-2017/schedule/setting-up-a-ci-cd-pipeline-with-jenkins-KuW2ogfXZuALxRN7i
 9x2bP
BEGIN:VALARM
ACTION:display
DESCRIPTION:Setting up a CI/CD pipeline with Jenkins in Main Space in 5 mi
 nutes
TRIGGER:-PT5M
END:VALARM
END:VEVENT
END:VCALENDAR
