BEGIN:VCALENDAR
VERSION:2.0
PRODID:-//HasGeek//NONSGML Funnel//EN
DESCRIPTION:On costs\, scaling and securing cloud servers
X-WR-CALDESC:On costs\, scaling and securing cloud servers
NAME:Miniconf on Cloud Server Management (Mumbai)
X-WR-CALNAME:Miniconf on Cloud Server Management (Mumbai)
REFRESH-INTERVAL;VALUE=DURATION:PT12H
SUMMARY:Miniconf on Cloud Server Management (Mumbai)
TIMEZONE-ID:Asia/Kolkata
X-PUBLISHED-TTL:PT12H
X-WR-TIMEZONE:Asia/Kolkata
BEGIN:VEVENT
SUMMARY:Registration
DTSTART:20171208T033000Z
DTEND:20171208T041500Z
DTSTAMP:20260421T224655Z
UID:session/PXFqGTcZtdcFT2YvuBYXDP@hasgeek.com
SEQUENCE:0
CREATED:20171129T083242Z
DESCRIPTION:\n
LAST-MODIFIED:20171129T083242Z
LOCATION:Mumbai
ORGANIZER;CN=Rootconf:MAILTO:no-reply@hasgeek.com
BEGIN:VALARM
ACTION:display
DESCRIPTION:Registration in 5 minutes
TRIGGER:-PT5M
END:VALARM
END:VEVENT
BEGIN:VEVENT
SUMMARY:Introduction and navigating the schedule
DTSTART:20171208T041500Z
DTEND:20171208T043000Z
DTSTAMP:20260421T224655Z
UID:session/F2DEUuHYTyUsbxuC1LBzLJ@hasgeek.com
SEQUENCE:0
CREATED:20171129T083312Z
DESCRIPTION:\n
LAST-MODIFIED:20171129T083312Z
LOCATION:Mumbai
ORGANIZER;CN=Rootconf:MAILTO:no-reply@hasgeek.com
BEGIN:VALARM
ACTION:display
DESCRIPTION:Introduction and navigating the schedule in 5 minutes
TRIGGER:-PT5M
END:VALARM
END:VEVENT
BEGIN:VEVENT
SUMMARY:Continuous Integration at Haptik : Our Journey to Hourly Releases
DTSTART:20171208T043000Z
DTEND:20171208T050500Z
DTSTAMP:20260421T224655Z
UID:session/W3prXHNDtLDFMpf1XPXzTY@hasgeek.com
SEQUENCE:2
CATEGORIES:Beginner
CREATED:20171129T083523Z
DESCRIPTION:The talk is presented as a narrative of our journey. Our initi
 al architecture that involved manual releases and the challenges therewith
 . The challenges in building a testing framework for chat flows and the ev
 olution of the full pipeline. \n\nNote: The talk in the video given earlie
 r is not up to date with improvements we have made to the machine learning
  data pipeline and the data tagging.\n\n### Speaker bio\n\nPrateek Gupte i
 s currently the Director of Engineering at Haptik\, India's first conversa
 tional commerce platform. He has held engineering leadership positions at 
 his previous startups - BYOF Studios and Code Red\, and has built technolo
 gy solutions for a variety of domains such as gaming\, healthcare\, pricin
 g solutions and artificial intelligence.\n
LAST-MODIFIED:20230810T072606Z
LOCATION:Conference Hall - Endurance International group of companies\nMum
 bai\nIN
ORGANIZER;CN=Rootconf:MAILTO:no-reply@hasgeek.com
URL:https://hasgeek.com/rootconf/cloud-server-management-miniconf-mumbai-2
 017/schedule/continuous-integration-at-haptik-our-journey-to-hourly-releas
 es-W3prXHNDtLDFMpf1XPXzTY
BEGIN:VALARM
ACTION:display
DESCRIPTION:Continuous Integration at Haptik : Our Journey to Hourly Relea
 ses in Conference Hall in 5 minutes
TRIGGER:-PT5M
END:VALARM
END:VEVENT
BEGIN:VEVENT
SUMMARY:Sleeping soundly even when scaling your app to 200k request/second
 s
DTSTART:20171208T050500Z
DTEND:20171208T054000Z
DTSTAMP:20260421T224655Z
UID:session/CJBYCz2WfBUZH32LSnGSRY@hasgeek.com
SEQUENCE:2
CATEGORIES:Intermediate
CREATED:20171129T083626Z
DESCRIPTION:WIP\n\n### Speaker bio\n\nFrancis Pereira is a Systems Enginee
 r\, who has been building\, managing and scaling web infrastructure for th
 e past eight years. From Burrp\, Askme to CleverTap now. Always looking fo
 r ways to keep things simple with automation so he is not required to be a
 round(TM)\n
LAST-MODIFIED:20230810T072606Z
LOCATION:Conference Hall - Endurance International group of companies\nMum
 bai\nIN
ORGANIZER;CN=Rootconf:MAILTO:no-reply@hasgeek.com
URL:https://hasgeek.com/rootconf/cloud-server-management-miniconf-mumbai-2
 017/schedule/sleeping-soundly-even-when-scaling-your-app-to-200k-request-s
 econds-CJBYCz2WfBUZH32LSnGSRY
BEGIN:VALARM
ACTION:display
DESCRIPTION:Sleeping soundly even when scaling your app to 200k request/se
 conds in Conference Hall in 5 minutes
TRIGGER:-PT5M
END:VALARM
END:VEVENT
BEGIN:VEVENT
SUMMARY:Break
DTSTART:20171208T054000Z
DTEND:20171208T060000Z
DTSTAMP:20260421T224655Z
UID:session/WKTzChZjGQ1SEvEbJx667r@hasgeek.com
SEQUENCE:0
CREATED:20171129T083435Z
DESCRIPTION:\n
LAST-MODIFIED:20171129T083634Z
LOCATION:Mumbai
ORGANIZER;CN=Rootconf:MAILTO:no-reply@hasgeek.com
BEGIN:VALARM
ACTION:display
DESCRIPTION:Break in 5 minutes
TRIGGER:-PT5M
END:VALARM
END:VEVENT
BEGIN:VEVENT
SUMMARY:Cloud Agnostic Webscale
DTSTART:20171208T060000Z
DTEND:20171208T063500Z
DTSTAMP:20260421T224655Z
UID:session/9LK3mhtcgcMno6VgQZqaya@hasgeek.com
SEQUENCE:2
CATEGORIES:Beginner
CREATED:20171129T083417Z
DESCRIPTION:* Introduction to cloud Agnostic approach to computing\n* why 
 is webscale important and how to design one from groundup\n* How does bein
 g cloud agnostic help in scaleup ?\n* Reference architecture for a cloud a
 gnostic strategy with scale builtin\n* Multicloud strategies with cloud ag
 nostic approach\n* Q & A\n\n### Speaker bio\n\nCTO @E2E Networks\, i am re
 sponsible for running the cloud operations and various initiative revolvin
 g around this. Am a firm believer in Free and open source software and we 
 at E2E Networks have leveraged our extensive experience in open source to 
 give scalable solutions on cloud agnostic setups\n
LAST-MODIFIED:20230810T072606Z
LOCATION:Conference Hall - Endurance International group of companies\nMum
 bai\nIN
ORGANIZER;CN=Rootconf:MAILTO:no-reply@hasgeek.com
URL:https://hasgeek.com/rootconf/cloud-server-management-miniconf-mumbai-2
 017/schedule/cloud-agnostic-webscale-9LK3mhtcgcMno6VgQZqaya
BEGIN:VALARM
ACTION:display
DESCRIPTION:Cloud Agnostic Webscale in Conference Hall in 5 minutes
TRIGGER:-PT5M
END:VALARM
END:VEVENT
BEGIN:VEVENT
SUMMARY:Doing Data Science on Cloud
DTSTART:20171208T063500Z
DTEND:20171208T071000Z
DTSTAMP:20260421T224655Z
UID:session/9FA3jxixQPabKF4zW5Hik1@hasgeek.com
SEQUENCE:2
CATEGORIES:Full talk,Advanced
CREATED:20171129T083703Z
DESCRIPTION:-Importance of running DS on Cloud\n-MLaas Vendors\n       AWS
  ML\n       Azure Machine learning \n       Google Cloud ML \n       IBM C
 loud\nWork benches : Sense.io\, Domino data lab\n\nOptions for running ML 
 on cloud platform\n       Using native compute Other providers: Kubernetes
  + Docker infrastructure for running DS jobs\n       Machine Learning Serv
 ices \n       Cognitive API Services. \nDemo: Running DS models using Tens
 or Flow on Google Cloud ML(Using GPUs).\nDemo : Using Cognitive Services o
 f Google Cloud Platform - GCP vision API\n\n### Speaker bio\n\nSwapnil is 
 right now contributing to Schlumberger Data Science team applying analytic
 s in field of Oil and Natural Gas.Prior to this he was part of Snapdeal Re
 altime Analytics team as Lead Enginner. Swapnil in the past has worked as 
 Cloudera Trainer.He belives in learning and sharing his learning across th
 e community.A frequent speaker in meetups and active presenter in conferen
 ces.\nWith more than 8+ years of experience\, Swapnil has contributed in D
 omains of BFSI\,Ad Serving and eCommerce with Hadoop\,Spark and GCP as pri
 mary tech stack.\nPast conferences & Meetups:\nhttps://anthillinside.talkf
 unnel.com/2017-miniconf-pune/15-doing-data-science-on-cloud\nhttps://exper
 t-talks.in/\nhttps://fifthelephant.talkfunnel.com/pune-meetup-2017/3-time-
 processing-and-watermarks-using-google-pub-su\nhttp://www.bigdatainnovatio
 n.org/delhi/2015/India_Bigdata_Week/speakers\nDr Dobbs conference-Bangalor
 e- April 11-12\,2014\n
LAST-MODIFIED:20230810T072606Z
LOCATION:Conference Hall - Endurance International group of companies\nMum
 bai\nIN
ORGANIZER;CN=Rootconf:MAILTO:no-reply@hasgeek.com
URL:https://hasgeek.com/rootconf/cloud-server-management-miniconf-mumbai-2
 017/schedule/doing-data-science-on-cloud-9FA3jxixQPabKF4zW5Hik1
BEGIN:VALARM
ACTION:display
DESCRIPTION:Doing Data Science on Cloud in Conference Hall in 5 minutes
TRIGGER:-PT5M
END:VALARM
END:VEVENT
BEGIN:VEVENT
SUMMARY:Automation Principles at Helpshift
DTSTART:20171208T071000Z
DTEND:20171208T073000Z
DTSTAMP:20260421T224655Z
UID:session/6NWWEcpkH3ziNnFwVBFEoM@hasgeek.com
SEQUENCE:2
CATEGORIES:Intermediate
CREATED:20171129T084156Z
DESCRIPTION:* How to approach automation requirements\, and principles to 
 follow - using "Workflows"\n* Using ansible to implement these principles 
 - configuration\, orchestration and infrastructure\n* Thinking like a prog
 rammer - building abstractions and interfaces\n* Wrap up with the benefits
 \, and how to optimize resources\n* Q & A\n\n### Speaker bio\n\nProduction
  engineering manager at Helpshift. Leading a team responsible for the Help
 shift infrastructure\; doing Operations\, Systems Architecture\, Performan
 ce engineering\, etc\n
LAST-MODIFIED:20230810T072606Z
LOCATION:Conference Hall - Endurance International group of companies\nMum
 bai\nIN
ORGANIZER;CN=Rootconf:MAILTO:no-reply@hasgeek.com
URL:https://hasgeek.com/rootconf/cloud-server-management-miniconf-mumbai-2
 017/schedule/automation-principles-at-helpshift-6NWWEcpkH3ziNnFwVBFEoM
BEGIN:VALARM
ACTION:display
DESCRIPTION:Automation Principles at Helpshift in Conference Hall in 5 min
 utes
TRIGGER:-PT5M
END:VALARM
END:VEVENT
BEGIN:VEVENT
SUMMARY:Resource allocation -- The usuals and beyond
DTSTART:20171208T073000Z
DTEND:20171208T075000Z
DTSTAMP:20260421T224655Z
UID:session/5nV3SwnN4RTNdtDTqU26R7@hasgeek.com
SEQUENCE:2
CATEGORIES:Crisp talk,Intermediate
CREATED:20171129T084206Z
DESCRIPTION:First 5 minutes: Assumptions of the applications running behin
 d. Key metrics to be observed per application\; Setting up all the require
 ments.\nNext 5 minutes: \nWhat're the metrics to look at\, how to measure 
 them and how to validate your decision of allocation.\nRecommended infrast
 ructure code practices.\nHandling production failures due to under-provisi
 on and how to solve the incident quickly.\nNext 2 minutes: Buffer for abov
 e topics.\nNext 3 minutes: QnA.\n\nI'm submitting for 15 minutes. However\
 , if the organizers consider topic to be good for 30 minutes\, I can expan
 d topics.\n\n### Speaker bio\n\nI've worked with AWS and Google Cloud for 
 the past 3 years and developed various strategies\, to minimise manual int
 erruption on managing cloud infrastructure.\nWebEngage\, where I currently
  work\, handles communication and engagement of > 45 million users. Having
  this scale on several microservices and calculating how much each micro-s
 ervice is costing us\, to find out ROI\, made me experienced in understand
 ing the requirements and nearly automate the resource allocation.\n
LAST-MODIFIED:20230810T072606Z
LOCATION:Conference Hall - Endurance International group of companies\nMum
 bai\nIN
ORGANIZER;CN=Rootconf:MAILTO:no-reply@hasgeek.com
URL:https://hasgeek.com/rootconf/cloud-server-management-miniconf-mumbai-2
 017/schedule/resource-allocation-the-usuals-and-beyond-5nV3SwnN4RTNdtDTqU2
 6R7
BEGIN:VALARM
ACTION:display
DESCRIPTION:Resource allocation -- The usuals and beyond in Conference Hal
 l in 5 minutes
TRIGGER:-PT5M
END:VALARM
END:VEVENT
BEGIN:VEVENT
SUMMARY:Brainstorming and roadmapping the tech ecosystem in Mumbai
DTSTART:20171208T075000Z
DTEND:20171208T081000Z
DTSTAMP:20260421T224655Z
UID:session/HGKmt1vdPNtsdCEvqTJBeL@hasgeek.com
SEQUENCE:0
CREATED:20171207T110420Z
DESCRIPTION:\n
LAST-MODIFIED:20171207T110627Z
LOCATION:Conference Hall - Endurance International group of companies\nMum
 bai\nIN
ORGANIZER;CN=Rootconf:MAILTO:no-reply@hasgeek.com
BEGIN:VALARM
ACTION:display
DESCRIPTION:Brainstorming and roadmapping the tech ecosystem in Mumbai in 
 Conference Hall in 5 minutes
TRIGGER:-PT5M
END:VALARM
END:VEVENT
BEGIN:VEVENT
SUMMARY:Lunch
DTSTART:20171208T081000Z
DTEND:20171208T091000Z
DTSTAMP:20260421T224655Z
UID:session/XrxZr22PQDcqVcY4R3ZoiP@hasgeek.com
SEQUENCE:0
CREATED:20171129T084357Z
DESCRIPTION:\n
LAST-MODIFIED:20171207T110546Z
LOCATION:Mumbai
ORGANIZER;CN=Rootconf:MAILTO:no-reply@hasgeek.com
BEGIN:VALARM
ACTION:display
DESCRIPTION:Lunch in 5 minutes
TRIGGER:-PT5M
END:VALARM
END:VEVENT
BEGIN:VEVENT
SUMMARY:Ansible and Terraform for configuration management on AWS
DTSTART:20171208T091000Z
DTEND:20171208T121000Z
DTSTAMP:20260421T224655Z
UID:session/UtTgQWy96a3GFWUzMsPjoX@hasgeek.com
SEQUENCE:2
CATEGORIES:Workshop,Beginner
CREATED:20171129T085254Z
DESCRIPTION:- We will kick-start with a short demo: we'll use Ansible's ag
 ent-less server orchestration capabilities to solve a common DevOps proble
 m. We'll then learn some ad-hoc Ansible commands that deliver immediate ut
 ility with almost no learning curve. Next\, we'll write a basic Ansible pl
 aybook that accomplishes something relatively small but significant. We'll
  move on to more advanced Ansible topics as time permits: roles\, vars\, h
 andlers\, templates\, tags\, managing dynamic cloud inventory (e.g. in an 
 ASG)\, using Ansible-Vault and Ansible-Galaxy. If there's time\, we'll sho
 w you how to write your own Ansible module.\n\n- We'll next move onto Terr
 aform\, starting with the basics again - the "dev loop" of init\, plan\, a
 pply\, destroy. We'll run through the same basic single-VM example using T
 erraform HCL. We'll take about tfstate files and how to manage state\, how
  to externalize config. \n\n- We'll show a quick demo of bringing up an en
 tire environment consisting of possibly multiple stacks with Terraform and
  then configuring it with Ansible.\n\n- Ansible vs Terraform vs CloudForma
 tion vs ... \n\n- Some typical use-cases for these tools\, which tool to u
 se when\n\n- Tips on debugging Ansible and Terraform \n\n- Some best pract
 ices and gotchas when using these tools\n\n### Speaker bio\n\nAmbar: Princ
 ipal Engineer at CloudCover. Whether making code or breaking code\, he lov
 es to "automate ALL the things!"\nAkshay: Software Dev and Top Nerd at Clo
 udCover.\nDeepak: DevOps Maverick at CloudCover with oodles of Ansible\, T
 erraform and SRE experience.\n
LAST-MODIFIED:20230810T072606Z
LOCATION:Conference Hall - Endurance International group of companies\nMum
 bai\nIN
ORGANIZER;CN=Rootconf:MAILTO:no-reply@hasgeek.com
URL:https://hasgeek.com/rootconf/cloud-server-management-miniconf-mumbai-2
 017/schedule/ansible-and-terraform-for-configuration-management-on-aws-UtT
 gQWy96a3GFWUzMsPjoX
BEGIN:VALARM
ACTION:display
DESCRIPTION:Ansible and Terraform for configuration management on AWS in C
 onference Hall in 5 minutes
TRIGGER:-PT5M
END:VALARM
END:VEVENT
END:VCALENDAR
