BEGIN:VCALENDAR
VERSION:2.0
PRODID:-//HasGeek//NONSGML Funnel//EN
DESCRIPTION:On costs\, scaling and securing cloud servers
X-WR-CALDESC:On costs\, scaling and securing cloud servers
NAME:Miniconf on Cloud Server Management (Chennai)
X-WR-CALNAME:Miniconf on Cloud Server Management (Chennai)
REFRESH-INTERVAL;VALUE=DURATION:PT12H
SUMMARY:Miniconf on Cloud Server Management (Chennai)
TIMEZONE-ID:Asia/Kolkata
X-PUBLISHED-TTL:PT12H
X-WR-TIMEZONE:Asia/Kolkata
BEGIN:VEVENT
SUMMARY:Registration\, welcome and tea
DTSTART:20171125T033000Z
DTEND:20171125T041500Z
DTSTAMP:20260421T210316Z
UID:session/KKBRfwj7oYnRwMCjDwS5Me@hasgeek.com
SEQUENCE:0
CREATED:20171110T095925Z
DESCRIPTION:\n
LAST-MODIFIED:20171110T100458Z
LOCATION:Chennai
ORGANIZER;CN=Rootconf:MAILTO:no-reply@hasgeek.com
BEGIN:VALARM
ACTION:display
DESCRIPTION:Registration\, welcome and tea in 5 minutes
TRIGGER:-PT5M
END:VALARM
END:VEVENT
BEGIN:VEVENT
SUMMARY:Introduction and navigating the schedule
DTSTART:20171125T041500Z
DTEND:20171125T043000Z
DTSTAMP:20260421T210316Z
UID:session/LjsM9WJV9QpGU8BbCFZPvP@hasgeek.com
SEQUENCE:0
CREATED:20171110T095951Z
DESCRIPTION:\n
LAST-MODIFIED:20171110T104017Z
LOCATION:Raman Hall - IIT Madras\, Chennai\nChennai\nIN
ORGANIZER;CN=Rootconf:MAILTO:no-reply@hasgeek.com
BEGIN:VALARM
ACTION:display
DESCRIPTION:Introduction and navigating the schedule in Raman Hall in 5 mi
 nutes
TRIGGER:-PT5M
END:VALARM
END:VEVENT
BEGIN:VEVENT
SUMMARY:Cloud Agnostic Webscale
DTSTART:20171125T043000Z
DTEND:20171125T050500Z
DTSTAMP:20260421T210316Z
UID:session/23cViY8AuSXrgSGxKQrXFn@hasgeek.com
SEQUENCE:2
CATEGORIES:Beginner
CREATED:20171110T100037Z
DESCRIPTION:* Introduction to cloud Agnostic approach to computing\n* why 
 is webscale important and how to design one from groundup\n* How does bein
 g cloud agnostic help in scaleup ?\n* Reference architecture for a cloud a
 gnostic strategy with scale builtin\n* Multicloud strategies with cloud ag
 nostic approach\n* Q & A\n\n### Speaker bio\n\nCTO @E2E Networks\, i am re
 sponsible for running the cloud operations and various initiative revolvin
 g around this. Am a firm believer in Free and open source software and we 
 at E2E Networks have leveraged our extensive experience in open source to 
 give scalable solutions on cloud agnostic setups\n
LAST-MODIFIED:20230810T072606Z
LOCATION:Raman Hall - IIT Madras\, Chennai\nChennai\nIN
ORGANIZER;CN=Rootconf:MAILTO:no-reply@hasgeek.com
URL:https://hasgeek.com/rootconf/cloud-server-management-miniconf-chennai-
 2017/schedule/cloud-agnostic-webscale-23cViY8AuSXrgSGxKQrXFn
BEGIN:VALARM
ACTION:display
DESCRIPTION:Cloud Agnostic Webscale in Raman Hall in 5 minutes
TRIGGER:-PT5M
END:VALARM
END:VEVENT
BEGIN:VEVENT
SUMMARY:Media.net venturing to private cloud
DTSTART:20171125T050500Z
DTEND:20171125T054000Z
DTSTAMP:20260421T210316Z
UID:session/P6daqx2rTBKEQ7hkTYtnh7@hasgeek.com
SEQUENCE:2
CATEGORIES:Intermediate
CREATED:20171110T100615Z
DESCRIPTION:Justification to move to cloud\nTransition plan from baremetal
  infra\nStack\nProblems we faced in our stack\nWorkarounds\nHow far are we
  from the goal\n\n### Speaker bio\n\nKalyanasundaram\, working as Lead Dev
 ops Engineer\, Media.net\n
LAST-MODIFIED:20230810T072606Z
LOCATION:Raman Hall - IIT Madras\, Chennai\nChennai\nIN
ORGANIZER;CN=Rootconf:MAILTO:no-reply@hasgeek.com
URL:https://hasgeek.com/rootconf/cloud-server-management-miniconf-chennai-
 2017/schedule/media-net-venturing-to-private-cloud-P6daqx2rTBKEQ7hkTYtnh7
BEGIN:VALARM
ACTION:display
DESCRIPTION:Media.net venturing to private cloud in Raman Hall in 5 minute
 s
TRIGGER:-PT5M
END:VALARM
END:VEVENT
BEGIN:VEVENT
SUMMARY:Tea Break
DTSTART:20171125T054000Z
DTEND:20171125T060000Z
DTSTAMP:20260421T210316Z
UID:session/8eKDU4eFEooPENQsVhrU3E@hasgeek.com
SEQUENCE:0
CREATED:20171110T101953Z
DESCRIPTION:\n
LAST-MODIFIED:20171124T120056Z
LOCATION:Chennai
ORGANIZER;CN=Rootconf:MAILTO:no-reply@hasgeek.com
BEGIN:VALARM
ACTION:display
DESCRIPTION:Tea Break in 5 minutes
TRIGGER:-PT5M
END:VALARM
END:VEVENT
BEGIN:VEVENT
SUMMARY:Scaling zero to 150000 customers for Freshdesk
DTSTART:20171125T060000Z
DTEND:20171125T063500Z
DTSTAMP:20260421T210316Z
UID:session/QDSzicBhv6okDM6FzBFvjR@hasgeek.com
SEQUENCE:2
CATEGORIES:Advanced
CREATED:20171110T100750Z
DESCRIPTION:.\n\n### Speaker bio\n\nKiran Darisi is a co-founder and the D
 irector of Technical Operations at Freshworks\, a B2B SaaS startup which p
 rovides refreshing business software for the world. He was previously a Me
 mber Technical Staff at ZOHO Corp. Kiran has been with Freshworks ever sin
 ce it was Freshdesk\, and has seen the technical operations scale from 0 t
 o what it is today.\n
LAST-MODIFIED:20230810T072606Z
LOCATION:Raman Hall - IIT Madras\, Chennai\nChennai\nIN
ORGANIZER;CN=Rootconf:MAILTO:no-reply@hasgeek.com
URL:https://hasgeek.com/rootconf/cloud-server-management-miniconf-chennai-
 2017/schedule/scaling-zero-to-150000-customers-for-freshdesk-QDSzicBhv6okD
 M6FzBFvjR
BEGIN:VALARM
ACTION:display
DESCRIPTION:Scaling zero to 150000 customers for Freshdesk in Raman Hall i
 n 5 minutes
TRIGGER:-PT5M
END:VALARM
END:VEVENT
BEGIN:VEVENT
SUMMARY:The rocky road from monolithic to microservices architecture
DTSTART:20171125T063500Z
DTEND:20171125T071000Z
DTSTAMP:20260421T210316Z
UID:session/PWNuNtLWRPmhgKkhjoT7BF@hasgeek.com
SEQUENCE:2
CATEGORIES:Intermediate
CREATED:20171110T100848Z
DESCRIPTION:When it was a monolithic architecture\, we used the EC2 server
 s as plain linux boxes without any ability to automatically scale. One of 
 the main advantages we got out of the rearchitecture is the use of multipl
 e managed services available in AWS and the stability. We also made sure t
 hings can scale and we started using cost effective components like server
 less lambda functions\, docker containers\, etc.\n\n1. Introduction\n2. Ex
 planation about the monolithic v0.1\n    a. Problems we faced\n3. Microser
 vices and how it all ties together\n    1. Advantages\, including how pers
 onalization is now possible.\n    2. Mistakes we made\, especially in infr
 a/resource allocation. \n    3. Improvements that are still needed.\n4. Th
 ings to remember when you make the shift to microservices.\n\n### Speaker 
 bio\n\nSrini has been helping startups build scalable and distributed syst
 ems for the past 10+ years. Currently he is scaling AI to millions of reta
 il consumers all over the world by making sure the Engineering team builds
  and delivers the best AI products at Mad Street Den.\n
LAST-MODIFIED:20230810T072606Z
LOCATION:Raman Hall - IIT Madras\, Chennai\nChennai\nIN
ORGANIZER;CN=Rootconf:MAILTO:no-reply@hasgeek.com
URL:https://hasgeek.com/rootconf/cloud-server-management-miniconf-chennai-
 2017/schedule/the-rocky-road-from-monolithic-to-microservices-architecture
 -PWNuNtLWRPmhgKkhjoT7BF
BEGIN:VALARM
ACTION:display
DESCRIPTION:The rocky road from monolithic to microservices architecture i
 n Raman Hall in 5 minutes
TRIGGER:-PT5M
END:VALARM
END:VEVENT
BEGIN:VEVENT
SUMMARY:Building and scaling a log analytics platform - a serverless appro
 ach
DTSTART:20171125T071000Z
DTEND:20171125T074500Z
DTSTAMP:20260421T210316Z
UID:session/LjjNpZdXWDkPuSXzBpjJNs@hasgeek.com
SEQUENCE:2
CATEGORIES:Intermediate
CREATED:20171110T100925Z
DESCRIPTION:Being a Product Engineer who uses serverless functions as a pa
 rt of products I build\, I closely experience how one can leverage serverl
 ess architectures to design a resource efficient and highly scalable infra
 structure. The infrastructure provider we use which is AWS\, provides a ra
 nge of FaaS components from the popular lambda functions to other managed 
 services like athena\, kinesis firehose and quick sight. In this talk\, as
  I give an introduction about serverless\, We will walk through how we use
  them in production enabling resource optimization and low maintenance tim
 e. By the end of this talk we would've implemented an end to end logging p
 ipeline and brought the generated sample logs to presentation tier for bus
 iness insights. Not to mention\, the system we setup can scale to handle 1
 000s of microservices and billions of log messages.\n\nOutline:\n\n1. Intr
 oduction\n2. How our microservices looks like?\n3. Architecting a logging 
 framework\n	1. How the framework should be?\n	2. Metrics we needed\n4. The
  conventional approach\n	1. Kafka\, Cold storage\, ELK\n	2. Problems we fa
 ced\n5. Going Serverless\n	1. What is serverless\n	2. Advantages\n6. The F
 aaS logging architecture\n	1. AWS Athena\n	2. AWS lambda\n	3. Kinesis fire
 hose\n	4. Kinesis analytics\n	5. AWS quicksight\n	6. AWS s3\n6. Demo\n7. C
 aveats\n8. Summary\n\n### Speaker bio\n\nNaren is a Product Engineer with 
 specific focus on building robust backend and scalable systems. He works o
 n open source projects in his spare time. He loves speaking at tech confer
 ences and currently helping [MadStreetDen](http://www.madstreetden.com) in
  scaling their Artifical Intelligence products. In his 4 years of industry
  experience he’s worn plenty of hats- like the one of a Trainer\, Embedd
 ed Engineer and Backend/Product Engineer and sometimes even helmets- when 
 he’s out cycling. \nWhen he’s not stirring up code\, you can find him 
 whipping up a delicious gluten-free treat or travelling/cycling.\n
LAST-MODIFIED:20230810T072606Z
LOCATION:Raman Hall - IIT Madras\, Chennai\nChennai\nIN
ORGANIZER;CN=Rootconf:MAILTO:no-reply@hasgeek.com
URL:https://hasgeek.com/rootconf/cloud-server-management-miniconf-chennai-
 2017/schedule/building-and-scaling-a-log-analytics-platform-a-serverless-a
 pproach-LjjNpZdXWDkPuSXzBpjJNs
BEGIN:VALARM
ACTION:display
DESCRIPTION:Building and scaling a log analytics platform - a serverless a
 pproach in Raman Hall in 5 minutes
TRIGGER:-PT5M
END:VALARM
END:VEVENT
BEGIN:VEVENT
SUMMARY:PLUTUS : Tool for monitoring and alerting of costs incurred on AWS
DTSTART:20171125T074500Z
DTEND:20171125T080000Z
DTSTAMP:20260421T210316Z
UID:session/S8kbhU7AoisAxce6HPANkp@hasgeek.com
SEQUENCE:2
CATEGORIES:Intermediate
CREATED:20171110T101029Z
DESCRIPTION:1. Introduction\n2. AWS cost control best practices\n3. Need f
 or building Plutus despite of all the cost control measures\n4. Plutus arc
 hitecture how it works. \n5. Impact of Plutus and future scope.\n\n### Spe
 aker bio\n\nAayush Kumar works as an Infrastructure and DevOps Engineer at
  Indix. Focuses on automating the unautomated and is always curious to und
 erstand systems if not contribute to it.\n
LAST-MODIFIED:20230810T072606Z
LOCATION:Raman Hall - IIT Madras\, Chennai\nChennai\nIN
ORGANIZER;CN=Rootconf:MAILTO:no-reply@hasgeek.com
URL:https://hasgeek.com/rootconf/cloud-server-management-miniconf-chennai-
 2017/schedule/plutus-tool-for-monitoring-and-alerting-of-costs-incurred-on
 -aws-S8kbhU7AoisAxce6HPANkp
BEGIN:VALARM
ACTION:display
DESCRIPTION:PLUTUS : Tool for monitoring and alerting of costs incurred on
  AWS in Raman Hall in 5 minutes
TRIGGER:-PT5M
END:VALARM
END:VEVENT
BEGIN:VEVENT
SUMMARY:Lessons scaling operations to everyone @indix
DTSTART:20171125T080000Z
DTEND:20171125T081500Z
DTSTAMP:20260421T210316Z
UID:session/Fx3mpegpU5KSFWcdFk8qYW@hasgeek.com
SEQUENCE:2
CATEGORIES:Intermediate
CREATED:20171110T101043Z
DESCRIPTION:1. Introduction\n2. Problems\, mistakes and learnings\n  - Whe
 n we were 5+ member team\n    - Focus on keeping infrastucture sane\n  - W
 hen we were 30+ member team\n    - Focus on scaling the infra knowledge an
 d not the ops team\n  - When we were 60+ member team\n    - Focus on abstr
 acting away the infra knowledge\n3. Tech Radar(s)\n4. Operability Checklis
 t\n5. Current un-solved challenges\n\n### Speaker bio\n\nAshwanth Kumar is
  a Principal Software Engineer working in Data Ingestion Team @indix. Whil
 e he's not fiddling with distributed Systems and data. He contributes to O
 pen Source and helps organises meetups and tech events in the City. He wri
 tes Scala at work and Go at home.\n
LAST-MODIFIED:20230810T072606Z
LOCATION:Raman Hall - IIT Madras\, Chennai\nChennai\nIN
ORGANIZER;CN=Rootconf:MAILTO:no-reply@hasgeek.com
URL:https://hasgeek.com/rootconf/cloud-server-management-miniconf-chennai-
 2017/schedule/lessons-scaling-operations-to-everyone-indix-Fx3mpegpU5KSFWc
 dFk8qYW
BEGIN:VALARM
ACTION:display
DESCRIPTION:Lessons scaling operations to everyone @indix in Raman Hall in
  5 minutes
TRIGGER:-PT5M
END:VALARM
END:VEVENT
BEGIN:VEVENT
SUMMARY:Lunch
DTSTART:20171125T081500Z
DTEND:20171125T091000Z
DTSTAMP:20260421T210316Z
UID:session/6bjVpLv44NtkHYLMhZgwH1@hasgeek.com
SEQUENCE:0
CREATED:20171110T101113Z
DESCRIPTION:\n
LAST-MODIFIED:20171124T120322Z
LOCATION:Chennai
ORGANIZER;CN=Rootconf:MAILTO:no-reply@hasgeek.com
BEGIN:VALARM
ACTION:display
DESCRIPTION:Lunch in 5 minutes
TRIGGER:-PT5M
END:VALARM
END:VEVENT
BEGIN:VEVENT
SUMMARY:Ansible 101 workshop
DTSTART:20171125T091000Z
DTEND:20171125T121000Z
DTSTAMP:20260421T210316Z
UID:session/A12sRWSfnuz4C8G1QYPHxy@hasgeek.com
SEQUENCE:2
CATEGORIES:Beginner
CREATED:20171116T140006Z
DESCRIPTION:This workshop aims to hands-on upon the following topics:\n* A
 nsible Basics\n* Inventory\n* Modules\n* Playbook\n* Variable  \n* Playboo
 k template \n* Condition Handling\n* Adhoc run\n* System Configuration\n* 
 Application Orchestration\n* Cloud Infra management (Docker\, OpenStack\, 
 AWS)\n* Creating custom modules\n* Ansible Vault\n* Q&A\n\n### Speaker bio
 \n\nRamakrishna Reddy Yekulla \n\nRamky  is currently a Principal Engineer
  with Red Hat with the Storage Engineering Group. He is also a contributor
  to the Fedora Project.  Prior to Red Hat\, he was an Independent Consulta
 nt\, consulting in the Natural Language Processing\, Machine Translation\,
  Indic Text processing. He is a Free Software and OpenSource\, Agile\, ext
 reme programming evangelist and is involved with the IndLinux project. Bes
 t Open Source Project\, Linux Asia 2005. His interests lie in  I18N and l1
 0N of software applications. He has spoken at various conferences includin
 g the Linux Foundation Collaboration Summit\, PyCon USA\, Pycon India and 
 SciPy India Conference.  \nHe can be reached on IRC/ Slack on Freenode or 
 OFTC with nick:: ramky / ramkrsna\n
LAST-MODIFIED:20230810T072606Z
LOCATION:Raman Hall - IIT Madras\, Chennai\nChennai\nIN
ORGANIZER;CN=Rootconf:MAILTO:no-reply@hasgeek.com
URL:https://hasgeek.com/rootconf/cloud-server-management-miniconf-chennai-
 2017/schedule/ansible-101-workshop-A12sRWSfnuz4C8G1QYPHxy
BEGIN:VALARM
ACTION:display
DESCRIPTION:Ansible 101 workshop in Raman Hall in 5 minutes
TRIGGER:-PT5M
END:VALARM
END:VEVENT
END:VCALENDAR
