BEGIN:VCALENDAR
VERSION:2.0
PRODID:-//HasGeek//NONSGML Funnel//EN
DESCRIPTION:Technical review
X-WR-CALDESC:Technical review
NAME:Clockwork: the backbone of PhonePe’s two billion daily jobs
X-WR-CALNAME:Clockwork: the backbone of PhonePe’s two billion daily jobs
REFRESH-INTERVAL;VALUE=DURATION:PT12H
SUMMARY:Clockwork: the backbone of PhonePe’s two billion daily jobs
TIMEZONE-ID:Asia/Kolkata
X-PUBLISHED-TTL:PT12H
X-WR-TIMEZONE:Asia/Kolkata
BEGIN:VEVENT
SUMMARY:Technical review: Clockwork - a job scheduler built at PhonePe
DTSTART:20250121T123000Z
DTEND:20250121T140000Z
DTSTAMP:20260419T235935Z
UID:session/F7r7HKEoTusJp3NuHEPkNC@hasgeek.com
SEQUENCE:3
CREATED:20250122T062041Z
LAST-MODIFIED:20250122T062054Z
LOCATION:Online
ORGANIZER;CN=Rootconf:MAILTO:no-reply@hasgeek.com
BEGIN:VALARM
ACTION:display
DESCRIPTION:Technical review: Clockwork - a job scheduler built at PhonePe
  in 5 minutes
TRIGGER:-PT5M
END:VALARM
END:VEVENT
END:VCALENDAR
