BEGIN:VCALENDAR
VERSION:2.0
PRODID:-//HasGeek//NONSGML Funnel//EN
DESCRIPTION:Share your journey of building platforms that power engineerin
 g teams
X-WR-CALDESC:Share your journey of building platforms that power engineeri
 ng teams
NAME:Call for submissions: Platform Engineering meet-ups
X-WR-CALNAME:Call for submissions: Platform Engineering meet-ups
REFRESH-INTERVAL;VALUE=DURATION:PT12H
SUMMARY:Call for submissions: Platform Engineering meet-ups
TIMEZONE-ID:Asia/Kolkata
X-PUBLISHED-TTL:PT12H
X-WR-TIMEZONE:Asia/Kolkata
BEGIN:VEVENT
SUMMARY:Call for submissions: Platform Engineering meet-ups
DTSTART:20250928T053000Z
DTEND:20260928T173000Z
DTSTAMP:20260419T184315Z
UID:session/bf7y6hJUoaX4m6sbKx2J3@hasgeek.com
SEQUENCE:37
CREATED:20250928T054716Z
DESCRIPTION:## 📢 Submissions open for Mumbai edition\; and May meet-up 
 in Blr on AI in Platforms\n**Submissions are open for:**\n1. Mumbai meet-u
 p on April 11 2026 \n2. Meet-up on AI in Platforms on 9 May in Bangalore.*
 *\n\nPlatform engineering is one of the fastest-growing disciplines in tec
 hnology. Bangalore - with its unicorns\, SaaS scale-ups\, fintech disrupto
 rs\, and big tech -is the perfect stage for these conversations.  \n\nStar
 ted in **November 2025**\, the meet-ups take place once every two months. 
 These are community spaces for practitioners to share *real-world stories\
 , outcomes\, and lessons learned* in building and scaling platforms.  \n\n
 **Curated by:**  \n- **Bharadwaj Embar**\, Engineering Manager at Nutanix 
  \n- **Talina Shrotriya**\, Senior Engineering Manager at Couchbase  \n\n#
 # 💡 What we’re looking for\nWe invite case studies\, and experience r
 eports in areas such as:  \n\n- **Platform foundations:** Kubernetes\, ECS
 \, Nomad\, VMs\, hybrid models  \n- **AI/ML workloads on platforms:** pipe
 lines\, GPU management\, scaling infra  \n- **Provisioning & lifecycle man
 agement at scale**  \n- **Internal Developer Platforms (IDPs):** adoption\
 , impact\, lessons  \n- **Platform as a product:** developer adoption\, su
 ccess metrics  \n- **Reliability & observability as capabilities**  \n- **
 Cost efficiency & FinOps**  \n- **Security by design**  \n\n👉 **Note:**
  Vendors are welcome to showcase tools and solutions as sponsored sessions
 . Vendor pitches will be curated by the editorial team to ensure technical
  depth and community value.  \n\n## 🎤 Format\nEach meet-up will feature
 :  \n1. **One in-depth talk** (30-40 mins)  \n2. **2–3 demos/flash talks
 ** (10 mins each)  \n\n📩 **Submit your talk/demo proposal here → http
 ://has.gy/s2wz**
LAST-MODIFIED:20260307T104815Z
LOCATION:Online - https://hasgeek.com/rootconf/call-for-submissions-platfo
 rm-engineering-meet-ups/
ORGANIZER;CN=Rootconf:MAILTO:no-reply@hasgeek.com
URL:https://hasgeek.com/rootconf/call-for-submissions-platform-engineering
 -meet-ups/
BEGIN:VALARM
ACTION:display
DESCRIPTION:Call for submissions: Platform Engineering meet-ups in 5 minut
 es
TRIGGER:-PT5M
END:VALARM
END:VEVENT
END:VCALENDAR
