BEGIN:VCALENDAR
VERSION:2.0
PRODID:-//HasGeek//NONSGML Funnel//EN
DESCRIPTION:Scaling from First Principles
X-WR-CALDESC:Scaling from First Principles
NAME:Building products for scale
X-WR-CALNAME:Building products for scale
REFRESH-INTERVAL;VALUE=DURATION:PT12H
SUMMARY:Building products for scale
TIMEZONE-ID:Asia/Kolkata
X-PUBLISHED-TTL:PT12H
X-WR-TIMEZONE:Asia/Kolkata
BEGIN:VEVENT
SUMMARY:Building products for scale
DTSTART:20210218T130000Z
DTEND:20210218T141500Z
DTSTAMP:20260421T113944Z
UID:session/RzdhUjJv2XV2GLfKyVn9SN@hasgeek.com
SEQUENCE:2
CREATED:20210202T082758Z
DESCRIPTION:\n\n### Speaker bio\n\nAjey Gore is Operating Partner at Sequo
 ia Capital. \n\nMajot Pahwa is Product Manager at Stripe. \n\nPuneet Khand
 uri is the CEO of sn126. \n\nAnand Chitipothu is a software developer\, co
 ntributor to the Indian python community and Rootconf alumni.\n
LAST-MODIFIED:20230810T072606Z
LOCATION:Online
ORGANIZER;CN=Rootconf:MAILTO:no-reply@hasgeek.com
BEGIN:VALARM
ACTION:display
DESCRIPTION:Building products for scale in 5 minutes
TRIGGER:-PT5M
END:VALARM
END:VEVENT
END:VCALENDAR
