BEGIN:VCALENDAR
VERSION:2.0
PRODID:-//HasGeek//NONSGML Funnel//EN
DESCRIPTION:Building data security hygiene for risk mitigation
X-WR-CALDESC:Building data security hygiene for risk mitigation
NAME:Building a network security practice in your organization
X-WR-CALNAME:Building a network security practice in your organization
REFRESH-INTERVAL;VALUE=DURATION:PT12H
SUMMARY:Building a network security practice in your organization
TIMEZONE-ID:Asia/Kolkata
X-PUBLISHED-TTL:PT12H
X-WR-TIMEZONE:Asia/Kolkata
BEGIN:VEVENT
SUMMARY:Building network security monitoring practice in your organization
DTSTART:20220724T090000Z
DTEND:20220724T094500Z
DTSTAMP:20260421T114034Z
UID:session/LBKq1AxRpxLeatsACpUvEF@hasgeek.com
SEQUENCE:3
CREATED:20220716T113331Z
LAST-MODIFIED:20220720T142132Z
LOCATION:Audi 1 - NIMHANS Convention Centre\nBengaluru\nIN
ORGANIZER;CN=Rootconf:MAILTO:no-reply@hasgeek.com
BEGIN:VALARM
ACTION:display
DESCRIPTION:Building network security monitoring practice in your organiza
 tion in Audi 1 in 5 minutes
TRIGGER:-PT5M
END:VALARM
END:VEVENT
END:VCALENDAR
