BEGIN:VCALENDAR
VERSION:2.0
PRODID:-//HasGeek//NONSGML Funnel//EN
DESCRIPTION:Technical review
X-WR-CALDESC:Technical review
NAME:Automating TiDB maintenance with K8s at Flipkart - reducing manual in
 tervention\; minimizing downtime
X-WR-CALNAME:Automating TiDB maintenance with K8s at Flipkart - reducing m
 anual intervention\; minimizing downtime
REFRESH-INTERVAL;VALUE=DURATION:PT12H
SUMMARY:Automating TiDB maintenance with K8s at Flipkart - reducing manual
  intervention\; minimizing downtime
TIMEZONE-ID:Asia/Kolkata
X-PUBLISHED-TTL:PT12H
X-WR-TIMEZONE:Asia/Kolkata
BEGIN:VEVENT
SUMMARY:Automating TiDB maintenance with K8s at Flipkart
DTSTART:20250204T123000Z
DTEND:20250204T133000Z
DTSTAMP:20260420T002219Z
UID:session/E9ABcyfx3UenWzE2XusoJC@hasgeek.com
SEQUENCE:2
CREATED:20250206T062008Z
LAST-MODIFIED:20250206T063334Z
LOCATION:Online
ORGANIZER;CN=Rootconf:MAILTO:no-reply@hasgeek.com
BEGIN:VALARM
ACTION:display
DESCRIPTION:Automating TiDB maintenance with K8s at Flipkart in 5 minutes
TRIGGER:-PT5M
END:VALARM
END:VEVENT
END:VCALENDAR
