BEGIN:VCALENDAR
VERSION:2.0
PRODID:-//HasGeek//NONSGML Funnel//EN
DESCRIPTION:Culture of running effective remote teams
X-WR-CALDESC:Culture of running effective remote teams
NAME:Debunking falsehoods about async communications
X-WR-CALNAME:Debunking falsehoods about async communications
REFRESH-INTERVAL;VALUE=DURATION:PT12H
SUMMARY:Debunking falsehoods about async communications
TIMEZONE-ID:Asia/Kolkata
X-PUBLISHED-TTL:PT12H
X-WR-TIMEZONE:Asia/Kolkata
BEGIN:VEVENT
SUMMARY:Fireside chat - Debunking falsehoods about remote work and async c
 ommunications
DTSTART:20230405T113000Z
DTEND:20230405T130000Z
DTSTAMP:20260421T083329Z
UID:session/Cx5zFBvjVXm2BEyF28phLj@hasgeek.com
SEQUENCE:4
CREATED:20230401T074334Z
LAST-MODIFIED:20230404T044032Z
LOCATION:Bangalore
ORGANIZER;CN=Rootconf:MAILTO:no-reply@hasgeek.com
BEGIN:VALARM
ACTION:display
DESCRIPTION:Fireside chat - Debunking falsehoods about remote work and asy
 nc communications in 5 minutes
TRIGGER:-PT5M
END:VALARM
END:VEVENT
END:VCALENDAR
