BEGIN:VCALENDAR
VERSION:2.0
PRODID:-//HasGeek//NONSGML Funnel//EN
DESCRIPTION:Rootconf Container Orchestration Series
X-WR-CALDESC:Rootconf Container Orchestration Series
NAME:AMA on Kubernetes
X-WR-CALNAME:AMA on Kubernetes
REFRESH-INTERVAL;VALUE=DURATION:PT12H
SUMMARY:AMA on Kubernetes
TIMEZONE-ID:Asia/Kolkata
X-PUBLISHED-TTL:PT12H
X-WR-TIMEZONE:Asia/Kolkata
BEGIN:VEVENT
SUMMARY:Introduction to Container Orchestration related community efforts
DTSTART:20200910T133000Z
DTEND:20200910T133500Z
DTSTAMP:20260421T032713Z
UID:session/7gxS25X3rT2Zf1CPC7gCUZ@hasgeek.com
SEQUENCE:0
CREATED:20200904T054056Z
DESCRIPTION:\n
LAST-MODIFIED:20200904T054056Z
LOCATION:Online
ORGANIZER;CN=Rootconf:MAILTO:no-reply@hasgeek.com
BEGIN:VALARM
ACTION:display
DESCRIPTION:Introduction to Container Orchestration related community effo
 rts in 5 minutes
TRIGGER:-PT5M
END:VALARM
END:VEVENT
BEGIN:VEVENT
SUMMARY:AMA with Nabarun Pal on Community Contribution to Kubernetes
DTSTART:20200910T133500Z
DTEND:20200910T143500Z
DTSTAMP:20260421T032713Z
UID:session/YRvngm3Fp2tCoBRE2cMEbV@hasgeek.com
SEQUENCE:1
CREATED:20200904T054109Z
DESCRIPTION:\n
LAST-MODIFIED:20240123T122043Z
LOCATION:Online
ORGANIZER;CN=Rootconf:MAILTO:no-reply@hasgeek.com
BEGIN:VALARM
ACTION:display
DESCRIPTION:AMA with Nabarun Pal on Community Contribution to Kubernetes i
 n 5 minutes
TRIGGER:-PT5M
END:VALARM
END:VEVENT
BEGIN:VEVENT
SUMMARY:Summary and conclusion\; topics for upcoming sessions
DTSTART:20200910T143500Z
DTEND:20200910T144000Z
DTSTAMP:20260421T032713Z
UID:session/5zfSMLcoEYS3Jws1YWXKh2@hasgeek.com
SEQUENCE:0
CREATED:20200904T054138Z
DESCRIPTION:\n
LAST-MODIFIED:20200904T054138Z
LOCATION:Online
ORGANIZER;CN=Rootconf:MAILTO:no-reply@hasgeek.com
BEGIN:VALARM
ACTION:display
DESCRIPTION:Summary and conclusion\; topics for upcoming sessions in 5 min
 utes
TRIGGER:-PT5M
END:VALARM
END:VEVENT
END:VCALENDAR
