BEGIN:VCALENDAR
VERSION:2.0
PRODID:-//HasGeek//NONSGML Funnel//EN
DESCRIPTION:Post-conference run
X-WR-CALDESC:Post-conference run
NAME:Rootconf 5k
X-WR-CALNAME:Rootconf 5k
REFRESH-INTERVAL;VALUE=DURATION:PT12H
SUMMARY:Rootconf 5k
TIMEZONE-ID:Asia/Kolkata
X-PUBLISHED-TTL:PT12H
X-WR-TIMEZONE:Asia/Kolkata
BEGIN:VEVENT
SUMMARY:Rootconf 5k
DTSTART:20250518T021500Z
DTEND:20250518T034500Z
DTSTAMP:20260420T031702Z
UID:session/8vUSyAX9J113EMJZHb7mZ@hasgeek.com
SEQUENCE:12
CREATED:20250513T065516Z
DESCRIPTION:### What is Rootconf 5k\nFinished two days of deep-diving into
  `mdadm` configurations\, dissecting `pubsub` queue architectures\, and de
 bating the security of AI/GenAI models at Rootconf 2025? Feeling like your
  mental RAM is at full capacity after navigating the complexities of Platf
 orm Engineering\, Distributed Data Systems\, and Supply Chain Security?\n\
 nIt's time to `reboot` your system!\n\nThe Rootconf 5K is your chance to s
 witch contexts from `sudo su` on production servers to `sudo run` in the s
 erene environment of Cubbon Park. Join us on Sunday\, 18th May 2025\, from
  7:45 AM to 9:15 AM for a refreshing 5-kilometer run (or walk\, or a brisk
  `ls -l` of the park!).\n\nThis isn't about setting a new personal best or
  outrunning a `daemon` process (unless you want to!). It's a casual\, "go-
 at-your-own-pace" event designed for fun\, networking\, and stretching tho
 se legs after an intense conference. Think of it as a "graceful shutdown a
 nd reboot" for your body and mind\, a chance to sync up with fellow attend
 ees in a different kind of cluster.\n\nWhether you're a seasoned marathone
 r or your idea of a long-distance run is chasing down a memory leak\, ever
 yone is welcome. Let's trade war stories from the conference tracks\, disc
 uss the future of tech\, or just enjoy the Bangalore morning air together.
  It's the perfect cool-down process after the main event.\n\n### Prep for 
 the run AKA `./configure_your_run.sh`\n*   **`git clone` Your Spot (RSVP!)
 :**\n    This is a critical `dependency`! Please RSVP so we can get a head
 count for our aid stations.\n\n*   **Your `Gear` Stack:**\n    *   **Comfo
 rtable Attire & Footwear:** Dress in clothes and shoes that are happy to `
 execute` a 5K. Whether that’s your latest high-performance running gear 
 or just comfy threads\, it’s all good.\n    *   **BYO-Bottle (Bring Your
  Own Water Bottle):** We’ll have aid stations with water to refill and k
 eep your system hydrated. Help us reduce waste by bringing your own bottle
 !\n    *   **Your Conference Badge (Optional\, but cool!):** Flash your Ro
 otconf creds if you like!\n    *   **A `positive_attitude.so`:** Essential
  for maximum enjoyment and networking.\n\n*   **What to Expect on `D-Day` 
 (Deployment Day!):**\n    *   **Location:** The scenic Cubbon Park\, Banga
 lore. (Exact route details to be shared closer to the date - consider it a
  `dynamic link`.)\n    *   **Pace:** "Graceful shutdown and reboot." Walk\
 , jog\, run - the goal is to finish feeling refreshed\, not like you’ve 
 just wrestled a `kernel panic`.\n    *   **Support:** Aid stations will be
  available to provide hydration.\n    *   **Networking:** A fantastic oppo
 rtunity to connect with speakers\, organizers\, and fellow attendees. Disc
 uss your favorite `microservices` or `monoliths` on the move!\n\n*   **Pre
 -Run `Optimization` (Optional but Recommended):**\n    *   Get a good nigh
 t's `sleep` after the conference.\n    *   Maybe do a quick `apt-get updat
 e` on your energy levels with a light breakfast.\n\nWe can't wait to see y
 ou there\, ready to exchange `packets` of conversation and enjoy a morning
  `cron job` of a different kind!\n\n### How to register\nJust RSVP on this
  page. Bring your friends too!\n\n### Location - where we will assemble\nW
 e will assemble near the [gate to next to Kanteerava Stadium](https://maps
 .app.goo.gl/fPUWhrYDQYn9gzA89?g_st=com.google.maps.preview.copy).\n\n### L
 iability waiver\nYou will be required to fill out and sign a physical **Ac
 tivity Waiver** form before the run starts\, so bring along a pen! 
LAST-MODIFIED:20250517T020420Z
LOCATION:Cubbon Park\, Bangalore - https://hasgeek.com/rootconf/5k-run/
ORGANIZER;CN=Rootconf:MAILTO:no-reply@hasgeek.com
URL:https://hasgeek.com/rootconf/5k-run/
BEGIN:VALARM
ACTION:display
DESCRIPTION:Rootconf 5k in 5 minutes
TRIGGER:-PT5M
END:VALARM
END:VEVENT
END:VCALENDAR
