BEGIN:VCALENDAR
VERSION:2.0
PRODID:-//HasGeek//NONSGML Funnel//EN
DESCRIPTION:Learn how to do monitoring properly using modern tools
X-WR-CALDESC:Learn how to do monitoring properly using modern tools
NAME:Prometheus Training Workshop
X-WR-CALNAME:Prometheus Training Workshop
REFRESH-INTERVAL;VALUE=DURATION:PT12H
SUMMARY:Prometheus Training Workshop
TIMEZONE-ID:Asia/Kolkata
X-PUBLISHED-TTL:PT12H
X-WR-TIMEZONE:Asia/Kolkata
BEGIN:VEVENT
SUMMARY:Check-in and tea
DTSTART:20190920T034500Z
DTEND:20190920T040000Z
DTSTAMP:20260419T205101Z
UID:session/MJagfzuDV6RewXGYjWB5EU@hasgeek.com
SEQUENCE:0
CREATED:20190821T053430Z
DESCRIPTION:\n
GEO:18.53074996848104;73.91367942094804
LAST-MODIFIED:20190821T053438Z
LOCATION:Workshop area at CloudCover - CloudCover\nPune\nIN
ORGANIZER;CN=Rootconf:MAILTO:no-reply@hasgeek.com
BEGIN:VALARM
ACTION:display
DESCRIPTION:Check-in and tea in Workshop area at CloudCover in 5 minutes
TRIGGER:-PT5M
END:VALARM
END:VEVENT
BEGIN:VEVENT
SUMMARY:Introductions: ice-breakers
DTSTART:20190920T040000Z
DTEND:20190920T041000Z
DTSTAMP:20260419T205101Z
UID:session/YGGX9sjBRV1o3u5pGFJUkm@hasgeek.com
SEQUENCE:0
CREATED:20190821T053514Z
DESCRIPTION:\n
GEO:18.53074996848104;73.91367942094804
LAST-MODIFIED:20190821T053519Z
LOCATION:Workshop area at CloudCover - CloudCover\nPune\nIN
ORGANIZER;CN=Rootconf:MAILTO:no-reply@hasgeek.com
BEGIN:VALARM
ACTION:display
DESCRIPTION:Introductions: ice-breakers in Workshop area at CloudCover in 
 5 minutes
TRIGGER:-PT5M
END:VALARM
END:VEVENT
BEGIN:VEVENT
SUMMARY:Software installation
DTSTART:20190920T041000Z
DTEND:20190920T043000Z
DTSTAMP:20260419T205101Z
UID:session/WoUJs1EvHZvHagG94pmErM@hasgeek.com
SEQUENCE:0
CREATED:20190821T053529Z
DESCRIPTION:\n
GEO:18.53074996848104;73.91367942094804
LAST-MODIFIED:20190821T053535Z
LOCATION:Workshop area at CloudCover - CloudCover\nPune\nIN
ORGANIZER;CN=Rootconf:MAILTO:no-reply@hasgeek.com
BEGIN:VALARM
ACTION:display
DESCRIPTION:Software installation in Workshop area at CloudCover in 5 minu
 tes
TRIGGER:-PT5M
END:VALARM
END:VEVENT
BEGIN:VEVENT
SUMMARY:Introduction to Prometheus
DTSTART:20190920T043000Z
DTEND:20190920T050500Z
DTSTAMP:20260419T205101Z
UID:session/GTyYxcUvwvXrziHPmjJznm@hasgeek.com
SEQUENCE:1
CREATED:20190821T053638Z
DESCRIPTION:The introduction session will cover:\n\n1. What is Grafana\n2.
  Time Series and Metrics\n3. Graphite data model\n4. Prometheus intro\n5. 
 Prometheus data model\n6. Prometheus architecture\n7. Setup with Node expo
 rter\n
GEO:18.53074996848104;73.91367942094804
LAST-MODIFIED:20230108T103046Z
LOCATION:Workshop area at CloudCover - CloudCover\nPune\nIN
ORGANIZER;CN=Rootconf:MAILTO:no-reply@hasgeek.com
BEGIN:VALARM
ACTION:display
DESCRIPTION:Introduction to Prometheus in Workshop area at CloudCover in 5
  minutes
TRIGGER:-PT5M
END:VALARM
END:VEVENT
BEGIN:VEVENT
SUMMARY:Hands-on session: Deploy Prometheus locally and monitor local syst
 em
DTSTART:20190920T050500Z
DTEND:20190920T054500Z
DTSTAMP:20260419T205101Z
UID:session/9MTdA1217ozGJyA7qGTwaq@hasgeek.com
SEQUENCE:0
CREATED:20190821T053713Z
DESCRIPTION:\n
GEO:18.53074996848104;73.91367942094804
LAST-MODIFIED:20190821T054709Z
LOCATION:Workshop area at CloudCover - CloudCover\nPune\nIN
ORGANIZER;CN=Rootconf:MAILTO:no-reply@hasgeek.com
BEGIN:VALARM
ACTION:display
DESCRIPTION:Hands-on session: Deploy Prometheus locally and monitor local 
 system in Workshop area at CloudCover in 5 minutes
TRIGGER:-PT5M
END:VALARM
END:VEVENT
BEGIN:VEVENT
SUMMARY:Morning beverage break
DTSTART:20190920T054500Z
DTEND:20190920T061000Z
DTSTAMP:20260419T205101Z
UID:session/7zEXvcU7BKBNoKSAFQ7UU6@hasgeek.com
SEQUENCE:0
CREATED:20190821T053730Z
DESCRIPTION:\n
LAST-MODIFIED:20190821T053737Z
LOCATION:Pune
ORGANIZER;CN=Rootconf:MAILTO:no-reply@hasgeek.com
BEGIN:VALARM
ACTION:display
DESCRIPTION:Morning beverage break in 5 minutes
TRIGGER:-PT5M
END:VALARM
END:VEVENT
BEGIN:VEVENT
SUMMARY:About PromQL
DTSTART:20190920T061000Z
DTEND:20190920T064500Z
DTSTAMP:20260419T205101Z
UID:session/3g1e8UrRAJSiBhL2xXUiwT@hasgeek.com
SEQUENCE:1
CREATED:20190821T053819Z
DESCRIPTION:This session will cover: \n\n1. Data Model and PromQL\n2. Coun
 ters\, Gauges\, Histograms\, Summaries\n3. PromQL\n4. Vectors vs Range Vec
 tor\n5. Functions\n6. Joins\n7. Examples\n
GEO:18.53074996848104;73.91367942094804
LAST-MODIFIED:20230108T103046Z
LOCATION:Workshop area at CloudCover - CloudCover\nPune\nIN
ORGANIZER;CN=Rootconf:MAILTO:no-reply@hasgeek.com
BEGIN:VALARM
ACTION:display
DESCRIPTION:About PromQL in Workshop area at CloudCover in 5 minutes
TRIGGER:-PT5M
END:VALARM
END:VEVENT
BEGIN:VEVENT
SUMMARY:Hands-on session with PromQL
DTSTART:20190920T064500Z
DTEND:20190920T073000Z
DTSTAMP:20260419T205101Z
UID:session/ByJQABhwh5q1TK2YKqSGUu@hasgeek.com
SEQUENCE:1
CREATED:20190821T053909Z
DESCRIPTION:Hands-on exercises in this session include:\n\n1. Simple to ad
 vanced PromQL on public Prometheus server\n2. Queries on Node Exporter dat
 a\n
GEO:18.53074996848104;73.91367942094804
LAST-MODIFIED:20230108T103046Z
LOCATION:Workshop area at CloudCover - CloudCover\nPune\nIN
ORGANIZER;CN=Rootconf:MAILTO:no-reply@hasgeek.com
BEGIN:VALARM
ACTION:display
DESCRIPTION:Hands-on session with PromQL in Workshop area at CloudCover in
  5 minutes
TRIGGER:-PT5M
END:VALARM
END:VEVENT
BEGIN:VEVENT
SUMMARY:Q&A
DTSTART:20190920T073000Z
DTEND:20190920T074500Z
DTSTAMP:20260419T205101Z
UID:session/3kUXUoVWe23ZkU431idXsv@hasgeek.com
SEQUENCE:0
CREATED:20190821T053934Z
DESCRIPTION:\n
GEO:18.53074996848104;73.91367942094804
LAST-MODIFIED:20190821T053940Z
LOCATION:Workshop area at CloudCover - CloudCover\nPune\nIN
ORGANIZER;CN=Rootconf:MAILTO:no-reply@hasgeek.com
BEGIN:VALARM
ACTION:display
DESCRIPTION:Q&A in Workshop area at CloudCover in 5 minutes
TRIGGER:-PT5M
END:VALARM
END:VEVENT
BEGIN:VEVENT
SUMMARY:Lunch break
DTSTART:20190920T074500Z
DTEND:20190920T083000Z
DTSTAMP:20260419T205101Z
UID:session/X9Pe9avdjjL5vuEQxvJJz4@hasgeek.com
SEQUENCE:0
CREATED:20190821T053947Z
DESCRIPTION:\n
GEO:18.53074996848104;73.91367942094804
LAST-MODIFIED:20190821T054002Z
LOCATION:Workshop area at CloudCover - CloudCover\nPune\nIN
ORGANIZER;CN=Rootconf:MAILTO:no-reply@hasgeek.com
BEGIN:VALARM
ACTION:display
DESCRIPTION:Lunch break in Workshop area at CloudCover in 5 minutes
TRIGGER:-PT5M
END:VALARM
END:VEVENT
BEGIN:VEVENT
SUMMARY:On Alerting
DTSTART:20190920T083000Z
DTEND:20190920T090500Z
DTSTAMP:20260419T205101Z
UID:session/Ag36rrZdGrG8TFvTEdHFHJ@hasgeek.com
SEQUENCE:1
CREATED:20190821T054329Z
DESCRIPTION:This session will cover:\n\n1. Alerting\n2. Recording Rules\n3
 . Alerts\n4. Instrumentation\n5. Python (and/or GO\, if required)\n6. Maki
 ng Prometheus scrape it\n
GEO:18.53074996848104;73.91367942094804
LAST-MODIFIED:20230108T103046Z
LOCATION:Workshop area at CloudCover - CloudCover\nPune\nIN
ORGANIZER;CN=Rootconf:MAILTO:no-reply@hasgeek.com
BEGIN:VALARM
ACTION:display
DESCRIPTION:On Alerting in Workshop area at CloudCover in 5 minutes
TRIGGER:-PT5M
END:VALARM
END:VEVENT
BEGIN:VEVENT
SUMMARY:Hands-on session on Alerting
DTSTART:20190920T090500Z
DTEND:20190920T094500Z
DTSTAMP:20260419T205101Z
UID:session/YRXdUUeJWEuT2pdJWD84ZK@hasgeek.com
SEQUENCE:1
CREATED:20190821T054416Z
DESCRIPTION:Hands-on exercises include: \n\n1. Sample instrumented app\n2.
  Email / Slack alerting on failure of the app\n
GEO:18.53074996848104;73.91367942094804
LAST-MODIFIED:20230108T103046Z
LOCATION:Workshop area at CloudCover - CloudCover\nPune\nIN
ORGANIZER;CN=Rootconf:MAILTO:no-reply@hasgeek.com
BEGIN:VALARM
ACTION:display
DESCRIPTION:Hands-on session on Alerting in Workshop area at CloudCover in
  5 minutes
TRIGGER:-PT5M
END:VALARM
END:VEVENT
BEGIN:VEVENT
SUMMARY:On configuration and operations
DTSTART:20190920T094500Z
DTEND:20190920T103000Z
DTSTAMP:20260419T205101Z
UID:session/KnhubU14yy9eufxaMgv6d@hasgeek.com
SEQUENCE:1
CREATED:20190821T054521Z
DESCRIPTION:This session will cover: \n\n1. Simple config\n2. Globals\n3. 
 Targets\n4. Miscellaneous\n5. Service Discovery\n6. Relabelling rules\n7. 
 Dropping targets and metrics\n8. Deploying Prometheus\n9. Debugging Promet
 heus\n
GEO:18.53074996848104;73.91367942094804
LAST-MODIFIED:20230108T103046Z
LOCATION:Workshop area at CloudCover - CloudCover\nPune\nIN
ORGANIZER;CN=Rootconf:MAILTO:no-reply@hasgeek.com
BEGIN:VALARM
ACTION:display
DESCRIPTION:On configuration and operations in Workshop area at CloudCover
  in 5 minutes
TRIGGER:-PT5M
END:VALARM
END:VEVENT
BEGIN:VEVENT
SUMMARY:Evening beverage break
DTSTART:20190920T103000Z
DTEND:20190920T110000Z
DTSTAMP:20260419T205101Z
UID:session/U231kKxzc171cfPBqH3bZH@hasgeek.com
SEQUENCE:0
CREATED:20190821T054545Z
DESCRIPTION:\n
LAST-MODIFIED:20190821T054551Z
LOCATION:Pune
ORGANIZER;CN=Rootconf:MAILTO:no-reply@hasgeek.com
BEGIN:VALARM
ACTION:display
DESCRIPTION:Evening beverage break in 5 minutes
TRIGGER:-PT5M
END:VALARM
END:VEVENT
BEGIN:VEVENT
SUMMARY:Grafana and what to monitor
DTSTART:20190920T110000Z
DTEND:20190920T114500Z
DTSTAMP:20260419T205101Z
UID:session/Cuac5TmLUunGzGKLeJ57Q7@hasgeek.com
SEQUENCE:1
CREATED:20190821T054640Z
DESCRIPTION:This session will cover: \n\n1. Grafana basic usage with Prome
 theus\n2. RED/USE methods of what to monitor and alert on\n3. SLA/SLO/SLIs
 \n4. Example dashboards for existing services\n
GEO:18.53074996848104;73.91367942094804
LAST-MODIFIED:20230108T103046Z
LOCATION:Workshop area at CloudCover - CloudCover\nPune\nIN
ORGANIZER;CN=Rootconf:MAILTO:no-reply@hasgeek.com
BEGIN:VALARM
ACTION:display
DESCRIPTION:Grafana and what to monitor in Workshop area at CloudCover in 
 5 minutes
TRIGGER:-PT5M
END:VALARM
END:VEVENT
END:VCALENDAR
