BEGIN:VCALENDAR
VERSION:2.0
PRODID:-//HasGeek//NONSGML Funnel//EN
DESCRIPTION:build your DevOps-fu with a thorough understanding of DNS
X-WR-CALDESC:build your DevOps-fu with a thorough understanding of DNS
NAME:DNS Deep Dive Workshop
X-WR-CALNAME:DNS Deep Dive Workshop
REFRESH-INTERVAL;VALUE=DURATION:PT12H
SUMMARY:DNS Deep Dive Workshop
TIMEZONE-ID:Asia/Kolkata
X-PUBLISHED-TTL:PT12H
X-WR-TIMEZONE:Asia/Kolkata
BEGIN:VEVENT
SUMMARY:DNS Deep Dive Workshop
DTSTART:20190623T033000Z
DTEND:20190623T075000Z
DTSTAMP:20260421T071200Z
UID:session/ViNZgMsxRqFaDgyiTw5ZyU@hasgeek.com
SEQUENCE:2
CATEGORIES:Workshop,Intermediate,Workshop
CREATED:20190613T091811Z
DESCRIPTION:1. Grok DNS - What makes the Domain Naming System? How does it
  tick? What is the plumbing like underneath?\n2. DNS Resolution - How does
  your browser know what the address of google.com is? How does the query l
 ook like? How does it execute? How does the response come back? Lets talk 
 DNS Caching\n3. DNS Security issues - What are the ways you poison a DNS r
 equest? What happens when DNS / Cache is poisoned?\n4. Securing your DNS -
  DNSSEC\, DNSCrypt\, DOH - We’ll delve a little bit into each of the opt
 ions you have to make sure your DNS requests are secured\n5. Setup and run
  your own DNS Resolver - We’ll put all that we just saw into practice - 
 We’ll setup a DNS resolver on your local laptops to run secured DNS quer
 ies.\n\n### Speaker bio\n\nAshwin Murali heads the DevOps team at Zoomcar 
 - India’s largest Self drive Car rental platform. When he’s not handli
 ng scaling and optimising infrastructure\, Ashwin spends time working with
  the DNSCrypt project helping people setup Secure DNS Servers that encrypt
  your DNS queries\, block Ads and\npornography. He also runs his own email
  servers to prove that the world can operate without the likes of Google.\
 n
GEO:12.9615312;77.6443048
LAST-MODIFIED:20230810T072606Z
LOCATION:HasGeek House - HasGeek House\nBangalore\nIN
ORGANIZER;CN=Rootconf:MAILTO:no-reply@hasgeek.com
URL:https://hasgeek.com/rootconf/2019-dns-deep-dive-workshop/schedule/dns-
 deep-dive-workshop-ViNZgMsxRqFaDgyiTw5ZyU
BEGIN:VALARM
ACTION:display
DESCRIPTION:DNS Deep Dive Workshop in HasGeek House in 5 minutes
TRIGGER:-PT5M
END:VALARM
END:VEVENT
END:VCALENDAR
