BEGIN:VCALENDAR
VERSION:2.0
PRODID:-//HasGeek//NONSGML Funnel//EN
DESCRIPTION:Learn how to avoid censorship and online surveillance.
X-WR-CALDESC:Learn how to avoid censorship and online surveillance.
NAME:Digital Security Workshop with Tor Project
X-WR-CALNAME:Digital Security Workshop with Tor Project
REFRESH-INTERVAL;VALUE=DURATION:PT12H
SUMMARY:Digital Security Workshop with Tor Project
TIMEZONE-ID:Asia/Kolkata
X-PUBLISHED-TTL:PT12H
X-WR-TIMEZONE:Asia/Kolkata
BEGIN:VEVENT
SUMMARY:Digital Security Workshop with Tor Project
DTSTART:20190214T043000Z
DTEND:20190214T053000Z
DTSTAMP:20260419T170320Z
UID:session/HGS23gGVDKBqszbW8LZZ9u@hasgeek.com
SEQUENCE:0
CREATED:20190626T105703Z
DESCRIPTION:\n
GEO:12.961427407091765;77.6443144418352
LAST-MODIFIED:20190626T105703Z
LOCATION:Workshop Room - HasGeek House\nBangalore\nIN
ORGANIZER;CN=Rootconf:MAILTO:no-reply@hasgeek.com
BEGIN:VALARM
ACTION:display
DESCRIPTION:Digital Security Workshop with Tor Project in Workshop Room in
  5 minutes
TRIGGER:-PT5M
END:VALARM
END:VEVENT
END:VCALENDAR
