BEGIN:VCALENDAR
VERSION:2.0
PRODID:-//HasGeek//NONSGML Funnel//EN
DESCRIPTION:The Aadhaar project was declared Constitutional by the Supreme
  Court but is today linked with NPR and NRC - threatening our right to hav
 e rights.
X-WR-CALDESC:The Aadhaar project was declared Constitutional by the Suprem
 e Court but is today linked with NPR and NRC - threatening our right to ha
 ve rights.
NAME:People's tribunal on Aadhaar-related issues
X-WR-CALNAME:People's tribunal on Aadhaar-related issues
REFRESH-INTERVAL;VALUE=DURATION:PT12H
SUMMARY:People's tribunal on Aadhaar-related issues
TIMEZONE-ID:Asia/Kolkata
X-PUBLISHED-TTL:PT12H
X-WR-TIMEZONE:Asia/Kolkata
BEGIN:VEVENT
SUMMARY:REGISTRATION AND COFFEE
DTSTART:20200229T030000Z
DTEND:20200229T033000Z
DTSTAMP:20260421T032852Z
UID:session/5ZJM4PkvXM32RPb5YXFQJj@hasgeek.com
SEQUENCE:0
CREATED:20200209T144650Z
DESCRIPTION:\n
GEO:28.58962784377541;77.22807168960573
LAST-MODIFIED:20200212T083927Z
LOCATION:301\, 3rd Floor - Indian Social Institute\nNew Delhi\nIN
ORGANIZER;CN="Rethink Aadhaar":MAILTO:no-reply@hasgeek.com
BEGIN:VALARM
ACTION:display
DESCRIPTION:REGISTRATION AND COFFEE in 301\, 3rd Floor in 5 minutes
TRIGGER:-PT5M
END:VALARM
END:VEVENT
BEGIN:VEVENT
SUMMARY:Welcome & Introduction
DTSTART:20200229T033000Z
DTEND:20200229T034500Z
DTSTAMP:20260421T032852Z
UID:session/7zM8x1ZfWkTLTaSBCNcFEY@hasgeek.com
SEQUENCE:2
CREATED:20200209T144910Z
DESCRIPTION:The People's Tribunal on Aadhaar-related issues is only the la
 test effort in a long\, continuing story of resistance against the Aadhaar
  project.\n\n### Speaker bio\n\nPraavita is an advocate and a founding mem
 ber of the Rethink Aadhaar campaign.\n
GEO:28.58962784377541;77.22807168960573
LAST-MODIFIED:20230810T072606Z
LOCATION:301\, 3rd Floor - Indian Social Institute\nNew Delhi\nIN
ORGANIZER;CN="Rethink Aadhaar":MAILTO:no-reply@hasgeek.com
BEGIN:VALARM
ACTION:display
DESCRIPTION:Welcome & Introduction in 301\, 3rd Floor in 5 minutes
TRIGGER:-PT5M
END:VALARM
END:VEVENT
BEGIN:VEVENT
SUMMARY:A people's history of the Aadhaar project
DTSTART:20200229T034500Z
DTEND:20200229T043000Z
DTSTAMP:20260421T032852Z
UID:session/V8D3voS5W14BWB9nyPzFkA@hasgeek.com
SEQUENCE:2
CREATED:20200224T192600Z
DESCRIPTION:What did the SC judgment mean for the Aadhaar project\, for we
 lfare rights\, and the right to privacy?\n\n### Speaker bio\n\nNikhil Dey 
 is a convener of the Mazdoor Kisan Shakti Sangathan.\n
GEO:28.58962784377541;77.22807168960573
LAST-MODIFIED:20230810T072606Z
LOCATION:301\, 3rd Floor - Indian Social Institute\nNew Delhi\nIN
ORGANIZER;CN="Rethink Aadhaar":MAILTO:no-reply@hasgeek.com
BEGIN:VALARM
ACTION:display
DESCRIPTION:A people's history of the Aadhaar project in 301\, 3rd Floor i
 n 5 minutes
TRIGGER:-PT5M
END:VALARM
END:VEVENT
BEGIN:VEVENT
SUMMARY:Aadhaar and the Public Distribution System
DTSTART:20200229T043000Z
DTEND:20200229T053000Z
DTSTAMP:20260421T032852Z
UID:session/LvYfTVtX8TLg5xHmSHJGxu@hasgeek.com
SEQUENCE:2
CREATED:20200209T145259Z
DESCRIPTION:This critique of ABBA and Aadhaar seeding in the Public Distri
 bution System also reviews recent intiatives such as mandating Aadhaar lin
 king for renewing ration cards and the One Nation One Ration Card programm
 e.\n\n### Speaker bio\n\nNawasha Mishra works with the Right to Food campa
 ign\n
GEO:28.58962784377541;77.22807168960573
LAST-MODIFIED:20230810T072606Z
LOCATION:301\, 3rd Floor - Indian Social Institute\nNew Delhi\nIN
ORGANIZER;CN="Rethink Aadhaar":MAILTO:no-reply@hasgeek.com
BEGIN:VALARM
ACTION:display
DESCRIPTION:Aadhaar and the Public Distribution System in 301\, 3rd Floor 
 in 5 minutes
TRIGGER:-PT5M
END:VALARM
END:VEVENT
BEGIN:VEVENT
SUMMARY:Coffee / Tea Break
DTSTART:20200229T053000Z
DTEND:20200229T054500Z
DTSTAMP:20260421T032852Z
UID:session/RSujiqE1m1k25cXCCnDmQn@hasgeek.com
SEQUENCE:1
CREATED:20200209T152943Z
DESCRIPTION:Coffee/ Tea will be served in the cafeteria on the Fourth Floo
 r.\n
GEO:28.58962784377541;77.22807168960573
LAST-MODIFIED:20230108T103046Z
LOCATION:301\, 3rd Floor - Indian Social Institute\nNew Delhi\nIN
ORGANIZER;CN="Rethink Aadhaar":MAILTO:no-reply@hasgeek.com
BEGIN:VALARM
ACTION:display
DESCRIPTION:Coffee / Tea Break in 301\, 3rd Floor in 5 minutes
TRIGGER:-PT5M
END:VALARM
END:VEVENT
BEGIN:VEVENT
SUMMARY:Issues related to MGNREGA\, including from the use of ABPS & AePS
DTSTART:20200229T054500Z
DTEND:20200229T064500Z
DTSTAMP:20260421T032852Z
UID:session/GAsSHFyWDG5oRQDcaxf3pP@hasgeek.com
SEQUENCE:2
CREATED:20200223T025439Z
DESCRIPTION:We discuss the impact of the use of Aadhaar-based initiatives\
 , including the Aadhaar Payment Bridge System and Aadhaar-enabled Payment 
 Systems\, on employees under the MGNREGA.\n\n### Speaker bio\n\nSakina Dho
 rajiwala is a researcher with LibTech India\nRajendran Narayanan teaches a
 t Azim Premji University\, Bengaluru\n
GEO:28.58962784377541;77.22807168960573
LAST-MODIFIED:20230810T072606Z
LOCATION:301\, 3rd Floor - Indian Social Institute\nNew Delhi\nIN
ORGANIZER;CN="Rethink Aadhaar":MAILTO:no-reply@hasgeek.com
BEGIN:VALARM
ACTION:display
DESCRIPTION:Issues related to MGNREGA\, including from the use of ABPS & A
 ePS in 301\, 3rd Floor in 5 minutes
TRIGGER:-PT5M
END:VALARM
END:VEVENT
BEGIN:VEVENT
SUMMARY:Issues relating to Health care and DBT in Health care
DTSTART:20200229T064500Z
DTEND:20200229T074500Z
DTSTAMP:20260421T032852Z
UID:session/Ktdr5wmf9cnXd9MSeTBJNo@hasgeek.com
SEQUENCE:2
CREATED:20200209T163129Z
DESCRIPTION:Making Aadhaar linking mandatory for health schemes made acces
 s difficult\; now the creation of Electronic Health Records elevates the t
 hreat of profiling.\n\n### Speaker bio\n\nDeepika Joshi works with the Jan
  Swasthya Abhiyan in Chhattisgarh\nDr. Indranil Mukhopadhyay is an Associa
 te Professor at School of Government and Public Policy\, Jindal Global Uni
 versity\nSrinivas Kodali is an independent researcher working on data\, go
 vernance & the Internet\n
GEO:28.58962784377541;77.22807168960573
LAST-MODIFIED:20230810T072606Z
LOCATION:301\, 3rd Floor - Indian Social Institute\nNew Delhi\nIN
ORGANIZER;CN="Rethink Aadhaar":MAILTO:no-reply@hasgeek.com
BEGIN:VALARM
ACTION:display
DESCRIPTION:Issues relating to Health care and DBT in Health care in 301\,
  3rd Floor in 5 minutes
TRIGGER:-PT5M
END:VALARM
END:VEVENT
BEGIN:VEVENT
SUMMARY:LUNCH
DTSTART:20200229T074500Z
DTEND:20200229T083000Z
DTSTAMP:20260421T032852Z
UID:session/Et9RtUbFEYeUHBAVCEev4S@hasgeek.com
SEQUENCE:1
CREATED:20200209T163151Z
DESCRIPTION:Lunch will be served in ISI's residence building located adjac
 ent to the conference venue.\n
LAST-MODIFIED:20230108T103046Z
LOCATION:301\, ISI\, 10 Lodhi Institutional Area\, New Delhi
ORGANIZER;CN="Rethink Aadhaar":MAILTO:no-reply@hasgeek.com
BEGIN:VALARM
ACTION:display
DESCRIPTION:LUNCH in 5 minutes
TRIGGER:-PT5M
END:VALARM
END:VEVENT
BEGIN:VEVENT
SUMMARY:Aadhaar's impact on farmers
DTSTART:20200229T083000Z
DTEND:20200229T094500Z
DTSTAMP:20260421T032852Z
UID:session/R14WpUXtVSiamzVJ6o3w6u@hasgeek.com
SEQUENCE:2
CREATED:20200209T163255Z
DESCRIPTION:This session examines the issues faced by farmers\, in particu
 lar those from tribal communities\, as a result of the Aadhaar project and
  digitization overall.\n\n### Speaker bio\n\nNachiket Udupa is a social en
 trepreneur\n
GEO:28.58962784377541;77.22807168960573
LAST-MODIFIED:20230810T072606Z
LOCATION:301\, 3rd Floor - Indian Social Institute\nNew Delhi\nIN
ORGANIZER;CN="Rethink Aadhaar":MAILTO:no-reply@hasgeek.com
BEGIN:VALARM
ACTION:display
DESCRIPTION:Aadhaar's impact on farmers in 301\, 3rd Floor in 5 minutes
TRIGGER:-PT5M
END:VALARM
END:VEVENT
BEGIN:VEVENT
SUMMARY:The Aadhaar experience for persons with disabilities
DTSTART:20200229T094500Z
DTEND:20200229T103000Z
DTSTAMP:20260421T032852Z
UID:session/7v4qhTXj21a9qwv8FS7biR@hasgeek.com
SEQUENCE:2
CREATED:20200209T163328Z
DESCRIPTION:Getting an Aadhaar number has been described as a harrowing pr
 ocess for persons with disabilities and those needing support.\n\n### Spea
 ker bio\n\nDr. Anita Ghai is a Professor at the School of Human Studies\, 
 Ambedkar University\, and a disability rights activist working in the area
 s of sexuality\, gender\, health and education rights. \nRajiv Rajan is th
 e Executive Director of Ektha\, an organisation that works for people with
  disabilities. He has been an accessibility rights activist for the past 2
 0 years.\n
GEO:28.58962784377541;77.22807168960573
LAST-MODIFIED:20230810T072606Z
LOCATION:301\, 3rd Floor - Indian Social Institute\nNew Delhi\nIN
ORGANIZER;CN="Rethink Aadhaar":MAILTO:no-reply@hasgeek.com
BEGIN:VALARM
ACTION:display
DESCRIPTION:The Aadhaar experience for persons with disabilities in 301\, 
 3rd Floor in 5 minutes
TRIGGER:-PT5M
END:VALARM
END:VEVENT
BEGIN:VEVENT
SUMMARY:Coffee / Tea Break
DTSTART:20200229T103000Z
DTEND:20200229T104500Z
DTSTAMP:20260421T032852Z
UID:session/Ljk3TBQq6q4GuxdCkgQ7ah@hasgeek.com
SEQUENCE:1
CREATED:20200209T163405Z
DESCRIPTION:Coffee/ Tea will be served in the cafeteria on the Fourth Floo
 r.\n
GEO:28.58962784377541;77.22807168960573
LAST-MODIFIED:20230108T103046Z
LOCATION:301\, 3rd Floor - Indian Social Institute\nNew Delhi\nIN
ORGANIZER;CN="Rethink Aadhaar":MAILTO:no-reply@hasgeek.com
BEGIN:VALARM
ACTION:display
DESCRIPTION:Coffee / Tea Break in 301\, 3rd Floor in 5 minutes
TRIGGER:-PT5M
END:VALARM
END:VEVENT
BEGIN:VEVENT
SUMMARY:Childrens' rights and entitlements
DTSTART:20200229T104500Z
DTEND:20200229T114500Z
DTSTAMP:20260421T032852Z
UID:session/JYFMk68eNznvnCSLFgB3bJ@hasgeek.com
SEQUENCE:2
CREATED:20200209T163458Z
DESCRIPTION:Children continue to be perversely targeted despite the SC jud
 gment explicitly making Aadhaar enrolment voluntary for children.\n\n### S
 peaker bio\n\nDipa Sinha is Assistant Professor\, School of Liberal Studie
 s\, Ambedkar University\, New Delhi\nKoyli Devi lives in Kaarimaati villag
 e\, in Jharkhand’s Simdega district. She lost her daughter Santoshi Kuma
 ri to starvation.\nTaramani Sahu is an activist with the Right to Food Cam
 paign.\nSiraj Dutta is member of the Right to Food campaign and the Jharkh
 and Janadhikar Mahasabha.\nKritika Bhardwaj is an advocate and a Fellow wi
 th the Centre for Communication Governance at the National Law University\
 , Delhi\n
GEO:28.58962784377541;77.22807168960573
LAST-MODIFIED:20230810T072606Z
LOCATION:301\, 3rd Floor - Indian Social Institute\nNew Delhi\nIN
ORGANIZER;CN="Rethink Aadhaar":MAILTO:no-reply@hasgeek.com
BEGIN:VALARM
ACTION:display
DESCRIPTION:Childrens' rights and entitlements in 301\, 3rd Floor in 5 min
 utes
TRIGGER:-PT5M
END:VALARM
END:VEVENT
BEGIN:VEVENT
SUMMARY:Gender rights
DTSTART:20200229T114500Z
DTEND:20200229T124500Z
DTSTAMP:20260421T032852Z
UID:session/F1v9yK8eb2sWi2LhsEoNpv@hasgeek.com
SEQUENCE:2
CREATED:20200209T163526Z
DESCRIPTION:In the name of data-driven development\, the Aadhaar project h
 as become an additional structure for oppression and exclusion of gender m
 inorities.\n\n### Speaker bio\n\nSweta Dash is pursuing a Master's degree 
 in Gender Studies from Ambedkar University\, Delhi\, and is associated wit
 h the Right to Food campaign.\nMeera Sanghamitra is a rights activist and 
 convener of National Alliance of People's Movements.\n
GEO:28.58962784377541;77.22807168960573
LAST-MODIFIED:20230810T072606Z
LOCATION:301\, 3rd Floor - Indian Social Institute\nNew Delhi\nIN
ORGANIZER;CN="Rethink Aadhaar":MAILTO:no-reply@hasgeek.com
BEGIN:VALARM
ACTION:display
DESCRIPTION:Gender rights in 301\, 3rd Floor in 5 minutes
TRIGGER:-PT5M
END:VALARM
END:VEVENT
BEGIN:VEVENT
SUMMARY:Day 1 Closing Remarks
DTSTART:20200229T124500Z
DTEND:20200229T130000Z
DTSTAMP:20260421T032852Z
UID:session/UotemnqY2L6gxAZHpePzXJ@hasgeek.com
SEQUENCE:2
CREATED:20200209T163552Z
DESCRIPTION:A round-up of the Aadhaar project's impact on welfare\, and on
  civil liberties.\n\n### Speaker bio\n\nKavita Srivastava is a social acti
 vist and the National Secretary of the People's Union for Civil Liberties\
 n
GEO:28.58962784377541;77.22807168960573
LAST-MODIFIED:20230810T072606Z
LOCATION:301\, 3rd Floor - Indian Social Institute\nNew Delhi\nIN
ORGANIZER;CN="Rethink Aadhaar":MAILTO:no-reply@hasgeek.com
BEGIN:VALARM
ACTION:display
DESCRIPTION:Day 1 Closing Remarks in 301\, 3rd Floor in 5 minutes
TRIGGER:-PT5M
END:VALARM
END:VEVENT
BEGIN:VEVENT
SUMMARY:Aadhaar\, Biometrics\, and Security
DTSTART:20200301T033000Z
DTEND:20200301T043000Z
DTSTAMP:20260421T032852Z
UID:session/WAdHyuCQc3WEnggXWgX9Kz@hasgeek.com
SEQUENCE:2
CREATED:20200209T163717Z
DESCRIPTION:An overview and analysis of the security posture of the Aadhaa
 r project\, as well as on biometric authentication and the problems that c
 ome with it. This session will also feature a discussion of 360-degree pro
 filing.\n\n### Speaker bio\n\nKaran Saini is a security analyst and consul
 tant. He writes on issues relating to web security\, privacy and open sour
 ce intelligence on his blog.\nAnand Venkatanarayanan is a cybersecurity ex
 pert.\nSrinivas Kodali is an independent researcher working on data\, gove
 rnance & the Internet\n
GEO:28.58962784377541;77.22807168960573
LAST-MODIFIED:20230810T072606Z
LOCATION:301\, 3rd Floor - Indian Social Institute\nNew Delhi\nIN
ORGANIZER;CN="Rethink Aadhaar":MAILTO:no-reply@hasgeek.com
BEGIN:VALARM
ACTION:display
DESCRIPTION:Aadhaar\, Biometrics\, and Security in 301\, 3rd Floor in 5 mi
 nutes
TRIGGER:-PT5M
END:VALARM
END:VEVENT
BEGIN:VEVENT
SUMMARY:Aadhaar's Function Creep: Financial and Voting Rights
DTSTART:20200301T043000Z
DTEND:20200301T053000Z
DTSTAMP:20260421T032852Z
UID:session/JrJEuCidrnpZsuooUMCqdn@hasgeek.com
SEQUENCE:2
CREATED:20200209T163809Z
DESCRIPTION:\n\n### Speaker bio\n\nAnivar Aravind is public interest techn
 ologist & executive director of Indic project. He closely tracking/resisti
 ng centralized biometric people databasing efforts of Indian state from 20
 09 onwards. He is part of various collectives resisting Aadhaar\, NPR etc.
 \n\nPrasanna S is a Delhi based advocate who assisted the Petitioners in t
 he Aadhaar case.\n
GEO:28.58962784377541;77.22807168960573
LAST-MODIFIED:20230810T072606Z
LOCATION:301\, 3rd Floor - Indian Social Institute\nNew Delhi\nIN
ORGANIZER;CN="Rethink Aadhaar":MAILTO:no-reply@hasgeek.com
BEGIN:VALARM
ACTION:display
DESCRIPTION:Aadhaar's Function Creep: Financial and Voting Rights in 301\,
  3rd Floor in 5 minutes
TRIGGER:-PT5M
END:VALARM
END:VEVENT
BEGIN:VEVENT
SUMMARY:Coffee / Tea Break
DTSTART:20200301T053000Z
DTEND:20200301T054500Z
DTSTAMP:20260421T032852Z
UID:session/G9xhKbu5WJ2xW7sQiogD96@hasgeek.com
SEQUENCE:0
CREATED:20200209T163739Z
DESCRIPTION:\n
LAST-MODIFIED:20200223T030002Z
LOCATION:301\, ISI\, 10 Lodhi Institutional Area\, New Delhi
ORGANIZER;CN="Rethink Aadhaar":MAILTO:no-reply@hasgeek.com
BEGIN:VALARM
ACTION:display
DESCRIPTION:Coffee / Tea Break in 5 minutes
TRIGGER:-PT5M
END:VALARM
END:VEVENT
BEGIN:VEVENT
SUMMARY:Keynote Address
DTSTART:20200301T054500Z
DTEND:20200301T063000Z
DTSTAMP:20260421T032852Z
UID:session/6UZxaLuTmQniz98fp3ujNQ@hasgeek.com
SEQUENCE:2
CREATED:20200223T034440Z
DESCRIPTION:\n\n### Speaker bio\n\nUsha Ramanathan is a legal researcher a
 nd an internationally recognized expert on law and poverty.\n
GEO:28.58962784377541;77.22807168960573
LAST-MODIFIED:20230810T072606Z
LOCATION:301\, 3rd Floor - Indian Social Institute\nNew Delhi\nIN
ORGANIZER;CN="Rethink Aadhaar":MAILTO:no-reply@hasgeek.com
BEGIN:VALARM
ACTION:display
DESCRIPTION:Keynote Address in 301\, 3rd Floor in 5 minutes
TRIGGER:-PT5M
END:VALARM
END:VEVENT
BEGIN:VEVENT
SUMMARY:Legislating Technology
DTSTART:20200301T063000Z
DTEND:20200301T073000Z
DTSTAMP:20260421T032852Z
UID:session/GPMD7CUZwgUdZ13g2p7CnL@hasgeek.com
SEQUENCE:2
CREATED:20200223T034751Z
DESCRIPTION:What has been the Indian experience in terms of technology-rel
 ated lawmaking?\n\n### Speaker bio\n\nRaman Jit Singh Chima serves as Asia
  Policy Director and Senior International Counsel at Access Now.\nApar Gup
 ta\, Executive Director of the Internet Freedom Foundation\, is a Delhi-ba
 sed lawyer.\nAshish Ranjan is a member of the Jan Jagran Shakti Sangathan\
 n
GEO:28.58962784377541;77.22807168960573
LAST-MODIFIED:20230810T072606Z
LOCATION:301\, 3rd Floor - Indian Social Institute\nNew Delhi\nIN
ORGANIZER;CN="Rethink Aadhaar":MAILTO:no-reply@hasgeek.com
BEGIN:VALARM
ACTION:display
DESCRIPTION:Legislating Technology in 301\, 3rd Floor in 5 minutes
TRIGGER:-PT5M
END:VALARM
END:VEVENT
BEGIN:VEVENT
SUMMARY:LUNCH
DTSTART:20200301T073000Z
DTEND:20200301T083000Z
DTSTAMP:20260421T032852Z
UID:session/CTLqBjD8od3VNddfucyqY@hasgeek.com
SEQUENCE:0
CREATED:20200209T163906Z
DESCRIPTION:\n
LAST-MODIFIED:20200212T084236Z
LOCATION:301\, ISI\, 10 Lodhi Institutional Area\, New Delhi
ORGANIZER;CN="Rethink Aadhaar":MAILTO:no-reply@hasgeek.com
BEGIN:VALARM
ACTION:display
DESCRIPTION:LUNCH in 5 minutes
TRIGGER:-PT5M
END:VALARM
END:VEVENT
BEGIN:VEVENT
SUMMARY:Aadhaar Challenged
DTSTART:20200301T083000Z
DTEND:20200301T093000Z
DTSTAMP:20260421T032852Z
UID:session/BJnjadvu3WF1FhTJ5v42dX@hasgeek.com
SEQUENCE:2
CREATED:20200209T163925Z
DESCRIPTION:This session reviews the Supreme Court's Aadhaar judgment\, an
 d also looks at the continuing challenges in other courts as well as resis
 tance in other fora.\n\n### Speaker bio\n\nVrinda Bhandari is an Advocate.
  She appeared for one of the Petitioners in the Aadhaar case.\nKalyani Men
 on-Sen is a feminist researcher and activist whose has been working for ov
 er twenty-five years on issues of women's rights\, particularly the impact
 s of neoliberal economic policies on women.\n
GEO:28.58962784377541;77.22807168960573
LAST-MODIFIED:20230810T072606Z
LOCATION:301\, 3rd Floor - Indian Social Institute\nNew Delhi\nIN
ORGANIZER;CN="Rethink Aadhaar":MAILTO:no-reply@hasgeek.com
BEGIN:VALARM
ACTION:display
DESCRIPTION:Aadhaar Challenged in 301\, 3rd Floor in 5 minutes
TRIGGER:-PT5M
END:VALARM
END:VEVENT
BEGIN:VEVENT
SUMMARY:Aadhaar-ed Rights
DTSTART:20200301T093000Z
DTEND:20200301T103000Z
DTSTAMP:20260421T032852Z
UID:session/YRBV4oyZgDPXy6Js3Xvo2m@hasgeek.com
SEQUENCE:2
CREATED:20200209T164238Z
DESCRIPTION:Recounting the ways in which the Aadhaar project threatens our
  right to have rights.\n\n### Speaker bio\n\nSrinivas Kodali is an indepen
 dent researcher working on data\, governance & the Internet.\nUjjwala Uppa
 luri is a lawyer working on technology and the Indian Constitution\, and e
 specially on censorship and surveillance.\n
GEO:28.58962784377541;77.22807168960573
LAST-MODIFIED:20230810T072606Z
LOCATION:301\, 3rd Floor - Indian Social Institute\nNew Delhi\nIN
ORGANIZER;CN="Rethink Aadhaar":MAILTO:no-reply@hasgeek.com
BEGIN:VALARM
ACTION:display
DESCRIPTION:Aadhaar-ed Rights in 301\, 3rd Floor in 5 minutes
TRIGGER:-PT5M
END:VALARM
END:VEVENT
BEGIN:VEVENT
SUMMARY:Coffee / Tea Break
DTSTART:20200301T103000Z
DTEND:20200301T104500Z
DTSTAMP:20260421T032852Z
UID:session/8mcJJntaK3CVsYUqDBX3kC@hasgeek.com
SEQUENCE:0
CREATED:20200209T164210Z
DESCRIPTION:\n
LAST-MODIFIED:20200223T035128Z
LOCATION:301\, ISI\, 10 Lodhi Institutional Area\, New Delhi
ORGANIZER;CN="Rethink Aadhaar":MAILTO:no-reply@hasgeek.com
BEGIN:VALARM
ACTION:display
DESCRIPTION:Coffee / Tea Break in 5 minutes
TRIGGER:-PT5M
END:VALARM
END:VEVENT
BEGIN:VEVENT
SUMMARY:Jury Deliberation\; Aadhaar in the Arts
DTSTART:20200301T104500Z
DTEND:20200301T113000Z
DTSTAMP:20260421T032852Z
UID:session/J1etutVX6PBj1EE6X1r2QY@hasgeek.com
SEQUENCE:0
CREATED:20200209T164350Z
DESCRIPTION:\n
GEO:28.58962784377541;77.22807168960573
LAST-MODIFIED:20200223T035149Z
LOCATION:301\, 3rd Floor - Indian Social Institute\nNew Delhi\nIN
ORGANIZER;CN="Rethink Aadhaar":MAILTO:no-reply@hasgeek.com
BEGIN:VALARM
ACTION:display
DESCRIPTION:Jury Deliberation\; Aadhaar in the Arts in 301\, 3rd Floor in 
 5 minutes
TRIGGER:-PT5M
END:VALARM
END:VEVENT
BEGIN:VEVENT
SUMMARY:Pronouncement of Jury Summary
DTSTART:20200301T113000Z
DTEND:20200301T124500Z
DTSTAMP:20260421T032852Z
UID:session/LCXdg1dJYakVQChfgyzGpR@hasgeek.com
SEQUENCE:0
CREATED:20200209T164426Z
DESCRIPTION:\n
GEO:28.58962784377541;77.22807168960573
LAST-MODIFIED:20200223T035155Z
LOCATION:301\, 3rd Floor - Indian Social Institute\nNew Delhi\nIN
ORGANIZER;CN="Rethink Aadhaar":MAILTO:no-reply@hasgeek.com
BEGIN:VALARM
ACTION:display
DESCRIPTION:Pronouncement of Jury Summary in 301\, 3rd Floor in 5 minutes
TRIGGER:-PT5M
END:VALARM
END:VEVENT
BEGIN:VEVENT
SUMMARY:Vote of Thanks & Tribunal Conclusion
DTSTART:20200301T124500Z
DTEND:20200301T130000Z
DTSTAMP:20260421T032852Z
UID:session/6HZyUJpaRntH1ojUWq9JAK@hasgeek.com
SEQUENCE:0
CREATED:20200223T035259Z
DESCRIPTION:\n
GEO:28.58962784377541;77.22807168960573
LAST-MODIFIED:20200223T035304Z
LOCATION:301\, 3rd Floor - Indian Social Institute\nNew Delhi\nIN
ORGANIZER;CN="Rethink Aadhaar":MAILTO:no-reply@hasgeek.com
BEGIN:VALARM
ACTION:display
DESCRIPTION:Vote of Thanks & Tribunal Conclusion in 301\, 3rd Floor in 5 m
 inutes
TRIGGER:-PT5M
END:VALARM
END:VEVENT
END:VCALENDAR
