BEGIN:VCALENDAR
VERSION:2.0
PRODID:-//HasGeek//NONSGML Funnel//EN
DESCRIPTION:Create mobile applications for iOS and Android from scratch us
 ing React Native.
X-WR-CALDESC:Create mobile applications for iOS and Android from scratch u
 sing React Native.
NAME:Workshop: Building Mobile apps with React Native
X-WR-CALNAME:Workshop: Building Mobile apps with React Native
REFRESH-INTERVAL;VALUE=DURATION:PT12H
SUMMARY:Workshop: Building Mobile apps with React Native
TIMEZONE-ID:Asia/Kolkata
X-PUBLISHED-TTL:PT12H
X-WR-TIMEZONE:Asia/Kolkata
BEGIN:VEVENT
SUMMARY:Workshop: Building Mobile apps with React Native
DTSTART:20190301T043000Z
DTEND:20190301T053000Z
DTSTAMP:20260421T111610Z
UID:session/K22i44LNwvXRLGxx6pncng@hasgeek.com
SEQUENCE:0
CREATED:20190626T105922Z
DESCRIPTION:\n
GEO:12.96008048452058;77.64318850357087
LAST-MODIFIED:20190626T105922Z
LOCATION:Workshop Room - ThoughtFactory\nBangalore\nIN
ORGANIZER;CN=ReactFoo:MAILTO:no-reply@hasgeek.com
BEGIN:VALARM
ACTION:display
DESCRIPTION:Workshop: Building Mobile apps with React Native in Workshop R
 oom in 5 minutes
TRIGGER:-PT5M
END:VALARM
END:VEVENT
END:VCALENDAR
