BEGIN:VCALENDAR
VERSION:2.0
PRODID:-//HasGeek//NONSGML Funnel//EN
DESCRIPTION:Learn React Hooks while building a game
X-WR-CALDESC:Learn React Hooks while building a game
NAME:Workshop: React Hooks - Rethinking the component model
X-WR-CALNAME:Workshop: React Hooks - Rethinking the component model
REFRESH-INTERVAL;VALUE=DURATION:PT12H
SUMMARY:Workshop: React Hooks - Rethinking the component model
TIMEZONE-ID:Asia/Kolkata
X-PUBLISHED-TTL:PT12H
X-WR-TIMEZONE:Asia/Kolkata
BEGIN:VEVENT
SUMMARY:Workshop: React Hooks - Rethinking the component model
DTSTART:20190310T043000Z
DTEND:20190310T053000Z
DTSTAMP:20260421T112702Z
UID:session/NyYTrPPiJP9y2RFArhmXpb@hasgeek.com
SEQUENCE:0
CREATED:20190626T110215Z
DESCRIPTION:\n
LAST-MODIFIED:20190626T110218Z
LOCATION:Bangalore
ORGANIZER;CN=ReactFoo:MAILTO:no-reply@hasgeek.com
BEGIN:VALARM
ACTION:display
DESCRIPTION:Workshop: React Hooks - Rethinking the component model in 5 mi
 nutes
TRIGGER:-PT5M
END:VALARM
END:VEVENT
END:VCALENDAR
