BEGIN:VCALENDAR
VERSION:2.0
PRODID:-//HasGeek//NONSGML Funnel//EN
DESCRIPTION:On React\, alternatives to React\, ReactNative and front-end e
 ngineering
X-WR-CALDESC:On React\, alternatives to React\, ReactNative and front-end 
 engineering
NAME:ReactFoo Mumbai
X-WR-CALNAME:ReactFoo Mumbai
REFRESH-INTERVAL;VALUE=DURATION:PT12H
SUMMARY:ReactFoo Mumbai
TIMEZONE-ID:Asia/Kolkata
X-PUBLISHED-TTL:PT12H
X-WR-TIMEZONE:Asia/Kolkata
BEGIN:VEVENT
SUMMARY:Check-in and registrations
DTSTART:20180526T031500Z
DTEND:20180526T035000Z
DTSTAMP:20260424T201913Z
UID:session/MPbCM8NJ5hkTqayZThaPgL@hasgeek.com
SEQUENCE:0
CREATED:20180330T060856Z
DESCRIPTION:\n
LAST-MODIFIED:20180411T004753Z
LOCATION:Mumbai
ORGANIZER;CN=ReactFoo:MAILTO:no-reply@hasgeek.com
BEGIN:VALARM
ACTION:display
DESCRIPTION:Check-in and registrations in 5 minutes
TRIGGER:-PT5M
END:VALARM
END:VEVENT
BEGIN:VEVENT
SUMMARY:Introduction to ReactFoo Mumbai and how to navigate the schedule 
DTSTART:20180526T035000Z
DTEND:20180526T040000Z
DTSTAMP:20260424T201913Z
UID:session/LQdXdUSKrMuuXt1nWj76rR@hasgeek.com
SEQUENCE:0
CREATED:20180330T060918Z
DESCRIPTION:\n
LAST-MODIFIED:20180411T004750Z
LOCATION:Co-Lab - ISDI ACE\nMumbai\nIN
ORGANIZER;CN=ReactFoo:MAILTO:no-reply@hasgeek.com
BEGIN:VALARM
ACTION:display
DESCRIPTION:Introduction to ReactFoo Mumbai and how to navigate the schedu
 le  in Co-Lab in 5 minutes
TRIGGER:-PT5M
END:VALARM
END:VEVENT
BEGIN:VEVENT
SUMMARY:Talking to React: The Mindset
DTSTART:20180526T040000Z
DTEND:20180526T042500Z
DTSTAMP:20260424T201913Z
UID:session/CJzUuKpi3JDb15zWspEf6M@hasgeek.com
SEQUENCE:2
CATEGORIES:Flash talks – 5 min presentations from audience,Beginner
CREATED:20180430T074553Z
DESCRIPTION:Lets understand the ideas of Explicit Mutation well enough to 
 can get the importance of State and how one can use it smartly. Understand
 ing Explicit Mutation really teaches us why react has a feature like State
  and importance of library like Redux for the state management in your app
 . This also helps us to know when to use Redux or atleast gives the ideas 
 when we will need it.\nFor those coming from a web background how the idea
  of Single Responsiblity Principle could amaze us as we are so use to with
  the idea of sepration of Concerns.React is not just a library with which 
 we can create UI\, it makes the developing of front End smart\, by giving 
 direction to our thougts and helping us to keep the control of UI.\n\n### 
 Speaker bio\n\nI am currently working as freelancer.I have two years of we
 b experience and just finished with my React bootcamp.Organiser at Mumbai 
 Women Coder and Speaker at Mumbai Js meetup.\n
LAST-MODIFIED:20230810T072606Z
LOCATION:Co-Lab - ISDI ACE\nMumbai\nIN
ORGANIZER;CN=ReactFoo:MAILTO:no-reply@hasgeek.com
URL:https://hasgeek.com/reactfoo/2018-mumbai/schedule/talking-to-react-the
 -mindset-CJzUuKpi3JDb15zWspEf6M
BEGIN:VALARM
ACTION:display
DESCRIPTION:Talking to React: The Mindset in Co-Lab in 5 minutes
TRIGGER:-PT5M
END:VALARM
END:VEVENT
BEGIN:VEVENT
SUMMARY:Future of React
DTSTART:20180526T042500Z
DTEND:20180526T050000Z
DTSTAMP:20260424T201913Z
UID:session/WhqkSyfThPCT9BkaEM92aN@hasgeek.com
SEQUENCE:2
CATEGORIES:Beginner
CREATED:20180519T104420Z
DESCRIPTION:* Fragments\n* React Portals\n* Context API\n* Error Boundary\
 n* Render props\n* refs\n\n### Speaker bio\n\nDeveloper @fyndx\, Loves ope
 n source and helping codesandbox\n
LAST-MODIFIED:20230810T072606Z
LOCATION:Co-Lab - ISDI ACE\nMumbai\nIN
ORGANIZER;CN=ReactFoo:MAILTO:no-reply@hasgeek.com
URL:https://hasgeek.com/reactfoo/2018-mumbai/schedule/future-of-react-Whqk
 SyfThPCT9BkaEM92aN
BEGIN:VALARM
ACTION:display
DESCRIPTION:Future of React in Co-Lab in 5 minutes
TRIGGER:-PT5M
END:VALARM
END:VEVENT
BEGIN:VEVENT
SUMMARY:All about Context API
DTSTART:20180526T050000Z
DTEND:20180526T053500Z
DTSTAMP:20260424T201913Z
UID:session/GCSQkyRjbxXm6TnorfBw9U@hasgeek.com
SEQUENCE:2
CATEGORIES:Intermediate
CREATED:20180519T104506Z
DESCRIPTION:* What is Context API\n* How Context API helped redux and rout
 er\n* Why were developers warned against using it\n* Using Context API for
  our apps\n\n### Speaker bio\n\nSouvik is a JS enthusiasts with 15 years e
 xperience in the industry. His day job is to set up a team on React projec
 t in Tesco Bengaluru. He loves to code equally well in React as well as in
  Angular. Currently he is spending a lot of time exploring Conversational 
 UI.\n
LAST-MODIFIED:20230810T072606Z
LOCATION:Co-Lab - ISDI ACE\nMumbai\nIN
ORGANIZER;CN=ReactFoo:MAILTO:no-reply@hasgeek.com
URL:https://hasgeek.com/reactfoo/2018-mumbai/schedule/all-about-context-ap
 i-GCSQkyRjbxXm6TnorfBw9U
BEGIN:VALARM
ACTION:display
DESCRIPTION:All about Context API in Co-Lab in 5 minutes
TRIGGER:-PT5M
END:VALARM
END:VEVENT
BEGIN:VEVENT
SUMMARY:Morning beverage break
DTSTART:20180526T053500Z
DTEND:20180526T060500Z
DTSTAMP:20260424T201913Z
UID:session/QmE74hjtUqtWyAYrAXZJc5@hasgeek.com
SEQUENCE:0
CREATED:20180330T061044Z
DESCRIPTION:\n
LAST-MODIFIED:20180519T110318Z
LOCATION:Mumbai
ORGANIZER;CN=ReactFoo:MAILTO:no-reply@hasgeek.com
BEGIN:VALARM
ACTION:display
DESCRIPTION:Morning beverage break in 5 minutes
TRIGGER:-PT5M
END:VALARM
END:VEVENT
BEGIN:VEVENT
SUMMARY:How to leverage React for better front-end development: joint Q&A 
 between first set of speakers
DTSTART:20180526T060500Z
DTEND:20180526T062000Z
DTSTAMP:20260424T201913Z
UID:session/5RERP2wQhjCJbYbq5D4pCq@hasgeek.com
SEQUENCE:0
CREATED:20180330T061032Z
DESCRIPTION:\n
LAST-MODIFIED:20180519T110330Z
LOCATION:Co-Lab - ISDI ACE\nMumbai\nIN
ORGANIZER;CN=ReactFoo:MAILTO:no-reply@hasgeek.com
BEGIN:VALARM
ACTION:display
DESCRIPTION:How to leverage React for better front-end development: joint 
 Q&A between first set of speakers in Co-Lab in 5 minutes
TRIGGER:-PT5M
END:VALARM
END:VEVENT
BEGIN:VEVENT
SUMMARY:Why we should use React Canvas
DTSTART:20180526T062000Z
DTEND:20180526T064000Z
DTSTAMP:20260424T201913Z
UID:session/FVtd6V9PNiR9wYRrwzv6mi@hasgeek.com
SEQUENCE:2
CATEGORIES:Flash talks – 5 min presentations from audience,Beginner
CREATED:20180519T104803Z
DESCRIPTION:I would address on the following things:\n1) The jank problem 
 on the web while doing animations.\n2) How we can optimize the scrolling p
 erformance.\n3) How React Canvas does it.\n4) Benefits of React Canvas.\n5
 ) When to use it?\n6) Limitations \n7) Alternative libraries which lets yo
 u play with the canvas.\n7) Demo - The scenario at Bookmyshow where we wou
 ld be using react canvas to solve our problem of user experiencing a jank 
 when he/she tries to scroll through very big seat layout for boooking.\n\n
 ### Speaker bio\n\nI am passionate programmer and huge javascript lover wh
 o wants to create the best possible thing and deliver the best experience 
 which a user can ever have. I am currently working at BookMyShow as a Full
  Stack Developer responsible for delivering the best possible experience o
 n Mobile-Web/Desktop. Previous to this I was working for Jio as a Backend 
 developer\, responsible for handling Jio Cinemas and Jio XpressNews applic
 ation. I always try to find a better way of doing the existing thing and I
  would love to share some insights on what I have learned so far.\n
LAST-MODIFIED:20230810T072606Z
LOCATION:Co-Lab - ISDI ACE\nMumbai\nIN
ORGANIZER;CN=ReactFoo:MAILTO:no-reply@hasgeek.com
URL:https://hasgeek.com/reactfoo/2018-mumbai/schedule/why-we-should-use-re
 act-canvas-FVtd6V9PNiR9wYRrwzv6mi
BEGIN:VALARM
ACTION:display
DESCRIPTION:Why we should use React Canvas in Co-Lab in 5 minutes
TRIGGER:-PT5M
END:VALARM
END:VEVENT
BEGIN:VEVENT
SUMMARY:JSON Streaming and React
DTSTART:20180526T064000Z
DTEND:20180526T070500Z
DTSTAMP:20260424T201913Z
UID:session/D9yGms7zR4vye9k784dUCW@hasgeek.com
SEQUENCE:2
CATEGORIES:Flash talks – 5 min presentations from audience,Intermediate
CREATED:20180519T104843Z
DESCRIPTION:When JSON response is too big\, it takes time to render first 
 fold UI and which hinders UX. How bookmyshow is planning to enhance UX by 
 using JSON chunks rather than waiting for the entire JSON response and the
 n render. Which lowers bounce rate.\n\n### Speaker bio\n\nSenior Frontend 
 Developer @bookmyshow\n
LAST-MODIFIED:20230810T072606Z
LOCATION:Co-Lab - ISDI ACE\nMumbai\nIN
ORGANIZER;CN=ReactFoo:MAILTO:no-reply@hasgeek.com
URL:https://hasgeek.com/reactfoo/2018-mumbai/schedule/json-streaming-and-r
 eact-D9yGms7zR4vye9k784dUCW
BEGIN:VALARM
ACTION:display
DESCRIPTION:JSON Streaming and React in Co-Lab in 5 minutes
TRIGGER:-PT5M
END:VALARM
END:VEVENT
BEGIN:VEVENT
SUMMARY:Joint Q&A between Vihang Patel and Arwa Lokhandwala
DTSTART:20180526T070500Z
DTEND:20180526T071500Z
DTSTAMP:20260424T201913Z
UID:session/9qBFArMndg2whPE12C9YEz@hasgeek.com
SEQUENCE:0
CREATED:20180519T110302Z
DESCRIPTION:\n
LAST-MODIFIED:20180519T110334Z
LOCATION:Co-Lab - ISDI ACE\nMumbai\nIN
ORGANIZER;CN=ReactFoo:MAILTO:no-reply@hasgeek.com
BEGIN:VALARM
ACTION:display
DESCRIPTION:Joint Q&A between Vihang Patel and Arwa Lokhandwala in Co-Lab 
 in 5 minutes
TRIGGER:-PT5M
END:VALARM
END:VEVENT
BEGIN:VEVENT
SUMMARY:Lunch break
DTSTART:20180526T071500Z
DTEND:20180526T080000Z
DTSTAMP:20260424T201913Z
UID:session/8CiMh7Ee2QmDYhWZwB5spp@hasgeek.com
SEQUENCE:0
CREATED:20180330T061202Z
DESCRIPTION:\n
LAST-MODIFIED:20180519T110340Z
LOCATION:Mumbai
ORGANIZER;CN=ReactFoo:MAILTO:no-reply@hasgeek.com
BEGIN:VALARM
ACTION:display
DESCRIPTION:Lunch break in 5 minutes
TRIGGER:-PT5M
END:VALARM
END:VEVENT
BEGIN:VEVENT
SUMMARY:Dr. De Sign Systems - Or How I Learned to Stop Worrying and Remove
  the Chaos
DTSTART:20180526T080000Z
DTEND:20180526T084000Z
DTSTAMP:20260424T201913Z
UID:session/5NeAiad7QejUMjnaHritQe@hasgeek.com
SEQUENCE:2
CATEGORIES:Flash talks – 5 min presentations from audience,Intermediate
CREATED:20180519T105044Z
DESCRIPTION:https://docs.google.com/presentation/d/1G537NfJlt34VUFqLemzVjJ
 fyXUsC_9k2RYzmBgfltMI/edit?usp=sharing\n\n### Speaker bio\n\nMy name is Te
 jas\, & I have been a UX/UI designer for over 7 years. Before that I worke
 d as a Business Systems Analyst and lived merrily in the ignorance that wh
 at I was doing was also called Product Design and User Experience Design.\
 n\nI have been dabbling with design systems for over 2 years now. But I on
 ly realized their potential once it started getting mentioned in design co
 nversations recently. I have designed couple of products where the systems
  have been implemented and I want to share my learnings from those experie
 nces.\n
LAST-MODIFIED:20230810T072606Z
LOCATION:Co-Lab - ISDI ACE\nMumbai\nIN
ORGANIZER;CN=ReactFoo:MAILTO:no-reply@hasgeek.com
URL:https://hasgeek.com/reactfoo/2018-mumbai/schedule/dr-de-sign-systems-o
 r-how-i-learned-to-stop-worrying-and-remove-the-chaos-5NeAiad7QejUMjnaHrit
 Qe
BEGIN:VALARM
ACTION:display
DESCRIPTION:Dr. De Sign Systems - Or How I Learned to Stop Worrying and Re
 move the Chaos in Co-Lab in 5 minutes
TRIGGER:-PT5M
END:VALARM
END:VEVENT
BEGIN:VEVENT
SUMMARY:How initial designing for older apps helped  small team @Agrostar 
 deliver apps quickly
DTSTART:20180526T084000Z
DTEND:20180526T090500Z
DTSTAMP:20260424T201913Z
UID:session/74UGAQav4M7KPHeC5s7U4H@hasgeek.com
SEQUENCE:2
CATEGORIES:Flash talks – 5 min presentations from audience,Intermediate
CREATED:20180519T105025Z
DESCRIPTION:My talk we will be answering or rather putting my views which 
 have fairly worked with my journey @Agrostar\n a. How do we solve things o
 f reusability? - We chose React to reuse Components and build abstraction 
 layer       with CSS.\n    \n b. How do we accommodate desired changes to 
 abstractions yet giving individual projects to use different         varia
 tions?  - We used yarn workspaces to create tiny internal libraries and ma
 intaining versions by           pushing libraries to npm and using SEMVER.
 \n\nI gave a flash talk about yarn workspaces in ReactFoo2018 in January 2
 018. This proposal will get into details.\n\n### Speaker bio\n\nNewbie in 
 react environment. Quick learner. JSDev@Agrostar.\n
LAST-MODIFIED:20230810T072606Z
LOCATION:Co-Lab - ISDI ACE\nMumbai\nIN
ORGANIZER;CN=ReactFoo:MAILTO:no-reply@hasgeek.com
URL:https://hasgeek.com/reactfoo/2018-mumbai/schedule/how-initial-designin
 g-for-older-apps-helped-small-team-agrostar-deliver-apps-quickly-74UGAQav4
 M7KPHeC5s7U4H
BEGIN:VALARM
ACTION:display
DESCRIPTION:How initial designing for older apps helped  small team @Agros
 tar deliver apps quickly in Co-Lab in 5 minutes
TRIGGER:-PT5M
END:VALARM
END:VEVENT
BEGIN:VEVENT
SUMMARY:We need to talk about our frontend workflow
DTSTART:20180526T090500Z
DTEND:20180526T095000Z
DTSTAMP:20260424T201913Z
UID:session/FgkUFKNzHjvm9pqBxS4rF3@hasgeek.com
SEQUENCE:2
CATEGORIES:Intermediate
CREATED:20180519T104947Z
DESCRIPTION:Watch the preview video to get a good idea of the talk: https:
 //youtu.be/R6wsFkl1BN0\n\nCategories this talk fits in:\n\nSuccess and fai
 lure stories of implementing React and React Native for your use-case\nFro
 nt-end architecture patterns and approaches with React.\n\nCFP rules:\nI t
 alk about my work at auth0\, but only to share my experience. There is no 
 mention about it’s products or offering. All the things I talk about are
  open sourced.\n\n### Speaker bio\n\nBuilding design systems @auth0 ∙ pa
 st: javascript architect @practo ∙ Built bundlesize & cost-of-modules 
 ∙ Makes youtube videos ∙ Co-organises @ReactBangalore ∙ Plays footba
 ll\, Noob surfer/skateboarder\n
LAST-MODIFIED:20230810T072606Z
LOCATION:Co-Lab - ISDI ACE\nMumbai\nIN
ORGANIZER;CN=ReactFoo:MAILTO:no-reply@hasgeek.com
URL:https://hasgeek.com/reactfoo/2018-mumbai/schedule/we-need-to-talk-abou
 t-our-frontend-workflow-FgkUFKNzHjvm9pqBxS4rF3
BEGIN:VALARM
ACTION:display
DESCRIPTION:We need to talk about our frontend workflow in Co-Lab in 5 min
 utes
TRIGGER:-PT5M
END:VALARM
END:VEVENT
BEGIN:VEVENT
SUMMARY:Joint Q&A on improving front-end flows: Arwa Lokhandwala\, Basavar
 aj S\, Siddharth KP\, Tejas Bhatt
DTSTART:20180526T095000Z
DTEND:20180526T100500Z
DTSTAMP:20260424T201913Z
UID:session/KBgpzS3LvKXqzjoNPMBMvZ@hasgeek.com
SEQUENCE:0
CREATED:20180411T005158Z
DESCRIPTION:\n
LAST-MODIFIED:20180519T110346Z
LOCATION:Co-Lab - ISDI ACE\nMumbai\nIN
ORGANIZER;CN=ReactFoo:MAILTO:no-reply@hasgeek.com
BEGIN:VALARM
ACTION:display
DESCRIPTION:Joint Q&A on improving front-end flows: Arwa Lokhandwala\, Bas
 avaraj S\, Siddharth KP\, Tejas Bhatt in Co-Lab in 5 minutes
TRIGGER:-PT5M
END:VALARM
END:VEVENT
BEGIN:VEVENT
SUMMARY:Evening beverage break
DTSTART:20180526T100500Z
DTEND:20180526T103500Z
DTSTAMP:20260424T201913Z
UID:session/Wyr9Ua3oiZEWuQnxNmPvbz@hasgeek.com
SEQUENCE:0
CREATED:20180330T061348Z
DESCRIPTION:\n
LAST-MODIFIED:20180519T110358Z
LOCATION:Mumbai
ORGANIZER;CN=ReactFoo:MAILTO:no-reply@hasgeek.com
BEGIN:VALARM
ACTION:display
DESCRIPTION:Evening beverage break in 5 minutes
TRIGGER:-PT5M
END:VALARM
END:VEVENT
BEGIN:VEVENT
SUMMARY:Birds Of Feather (BOF) session: on state management
DTSTART:20180526T103500Z
DTEND:20180526T113500Z
DTSTAMP:20260424T201913Z
UID:session/BjEy7zxmwjfB9cWKrSspdj@hasgeek.com
SEQUENCE:0
CREATED:20180516T051257Z
DESCRIPTION:\n
LAST-MODIFIED:20180522T064340Z
LOCATION:BOF area - ISDI ACE\nMumbai\nIN
ORGANIZER;CN=ReactFoo:MAILTO:no-reply@hasgeek.com
BEGIN:VALARM
ACTION:display
DESCRIPTION:Birds Of Feather (BOF) session: on state management in BOF are
 a in 5 minutes
TRIGGER:-PT5M
END:VALARM
END:VEVENT
BEGIN:VEVENT
SUMMARY:Flash talks – by audience
DTSTART:20180526T103500Z
DTEND:20180526T105500Z
DTSTAMP:20260424T201913Z
UID:session/CYgkNKLgFFzVP32At4UiBP@hasgeek.com
SEQUENCE:0
CREATED:20180416T005446Z
DESCRIPTION:\n
LAST-MODIFIED:20180519T110400Z
LOCATION:Co-Lab - ISDI ACE\nMumbai\nIN
ORGANIZER;CN=ReactFoo:MAILTO:no-reply@hasgeek.com
BEGIN:VALARM
ACTION:display
DESCRIPTION:Flash talks – by audience in Co-Lab in 5 minutes
TRIGGER:-PT5M
END:VALARM
END:VEVENT
BEGIN:VEVENT
SUMMARY:React Native - the development flow
DTSTART:20180526T105500Z
DTEND:20180526T112500Z
DTSTAMP:20260424T201913Z
UID:session/Ky61bsXYX5ExySSiWRwDMV@hasgeek.com
SEQUENCE:2
CATEGORIES:Flash talks – 5 min presentations from audience,Intermediate
CREATED:20180411T005236Z
DESCRIPTION:This talk will involve the following:\n\n- Intro to RN (brief 
 intro)\n- The description of the options available on the developer menu.\
 n- Hot reloading vs Live Reloading. (when to use what)\n- debugging code u
 sing react native debugger/reactotron\n- Getting rid of performance bottle
 necks (identification and fix)\n- techniques to achieve the goal of faster
  release cycles.\n- The approach to fixing a production bug (codepush and 
 how it can help)\n\n### Speaker bio\n\nI am the Lead Frontend Developer @ 
 Anarock.\nex Housing. I love working on open source projects and performan
 ce. I have created open source projects like https://transform.now.sh\, em
 bed.js and snape. Also\, sometimes I can be found painting or playing keyb
 oard.\n
LAST-MODIFIED:20230810T072606Z
LOCATION:Co-Lab - ISDI ACE\nMumbai\nIN
ORGANIZER;CN=ReactFoo:MAILTO:no-reply@hasgeek.com
URL:https://hasgeek.com/reactfoo/2018-mumbai/schedule/react-native-the-dev
 elopment-flow-Ky61bsXYX5ExySSiWRwDMV
BEGIN:VALARM
ACTION:display
DESCRIPTION:React Native - the development flow in Co-Lab in 5 minutes
TRIGGER:-PT5M
END:VALARM
END:VEVENT
BEGIN:VEVENT
SUMMARY:Migrating from redux to apollo
DTSTART:20180526T112500Z
DTEND:20180526T120000Z
DTSTAMP:20260424T201913Z
UID:session/X5ZER9FCtQzyf8JBr7yaCB@hasgeek.com
SEQUENCE:2
CATEGORIES:Intermediate
CREATED:20180411T005222Z
DESCRIPTION:* Challenges of redux and complex network logic\n* How GraphQL
  and Apollo can simplify network logic\n* Methodology for incremental migr
 ation of app from redux to apollo\n* Local state management with apollo\n\
 n### Speaker bio\n\nKiran Abburi is a freelance developer with 6+ years of
  experience in web development. He primarily works on reactjs\, nodejs and
  GraphQL projects. He is also an organizer of the Reactjs Bangalore meetup
  group.\n
LAST-MODIFIED:20230810T072606Z
LOCATION:Co-Lab - ISDI ACE\nMumbai\nIN
ORGANIZER;CN=ReactFoo:MAILTO:no-reply@hasgeek.com
URL:https://hasgeek.com/reactfoo/2018-mumbai/schedule/migrating-from-redux
 -to-apollo-X5ZER9FCtQzyf8JBr7yaCB
BEGIN:VALARM
ACTION:display
DESCRIPTION:Migrating from redux to apollo in Co-Lab in 5 minutes
TRIGGER:-PT5M
END:VALARM
END:VEVENT
BEGIN:VEVENT
SUMMARY:Birds Of Feather (BOF) session: how to grow as a front-end develop
 er in 2018
DTSTART:20180526T120000Z
DTEND:20180526T130000Z
DTSTAMP:20260424T201913Z
UID:session/BQnzSbiDDA4Qnd3XVrCjcC@hasgeek.com
SEQUENCE:0
CREATED:20180516T051336Z
DESCRIPTION:\n
LAST-MODIFIED:20180519T110427Z
LOCATION:BOF area - ISDI ACE\nMumbai\nIN
ORGANIZER;CN=ReactFoo:MAILTO:no-reply@hasgeek.com
BEGIN:VALARM
ACTION:display
DESCRIPTION:Birds Of Feather (BOF) session: how to grow as a front-end dev
 eloper in 2018 in BOF area in 5 minutes
TRIGGER:-PT5M
END:VALARM
END:VEVENT
BEGIN:VEVENT
SUMMARY:A re-introduction to webpack
DTSTART:20180526T120000Z
DTEND:20180526T123000Z
DTSTAMP:20260424T201913Z
UID:session/MEmUnwjKisk31tVZLJ4jct@hasgeek.com
SEQUENCE:2
CATEGORIES:Beginner
CREATED:20180411T005253Z
DESCRIPTION:• How did it all start?\n\nBundling in JavaScript started wi
 th the aim to avoid the 6-connections-per-origin limit and the bottlenecks
  of HTTP/1.1. Concatenation was the primary way of bundling for a long lon
 g time. \n\n• The problems with concatenating\n\n• The need to reuse n
 odejs packages in browser.\n\n• How browserify came into the picture\n\n
 • Efforts browserify put into making things work.\n\n• Introduction of
  Webpack in 2015\n\n• How webpack broke the rules & why\n\n• The backl
 ash webpack gets about its configuration complexity\n\n• Live Demo - han
 dcoding a webpack configuration file\n  \n  - entry\n  - output\n  - rules
  & loaders\n  - plugins\n\n• What to do next?\n\n• What's new in webpa
 ck 4. \n\n• Resources to learn more.\n\n### Speaker bio\n\nGeek...ish! I
  love CSS and make CSS art at CodePen. VueJS fan!\n
LAST-MODIFIED:20230810T072606Z
LOCATION:Co-Lab - ISDI ACE\nMumbai\nIN
ORGANIZER;CN=ReactFoo:MAILTO:no-reply@hasgeek.com
URL:https://hasgeek.com/reactfoo/2018-mumbai/schedule/a-re-introduction-to
 -webpack-MEmUnwjKisk31tVZLJ4jct
BEGIN:VALARM
ACTION:display
DESCRIPTION:A re-introduction to webpack in Co-Lab in 5 minutes
TRIGGER:-PT5M
END:VALARM
END:VEVENT
BEGIN:VEVENT
SUMMARY:Joint Q&A on state management\, ReactNative and full stack web dev
 elopment 
DTSTART:20180526T123000Z
DTEND:20180526T124500Z
DTSTAMP:20260424T201913Z
UID:session/Dp8fo849ag2bCvwfTLvBnn@hasgeek.com
SEQUENCE:0
CREATED:20180411T005515Z
DESCRIPTION:\n
LAST-MODIFIED:20180519T110413Z
LOCATION:Co-Lab - ISDI ACE\nMumbai\nIN
ORGANIZER;CN=ReactFoo:MAILTO:no-reply@hasgeek.com
BEGIN:VALARM
ACTION:display
DESCRIPTION:Joint Q&A on state management\, ReactNative and full stack web
  development  in Co-Lab in 5 minutes
TRIGGER:-PT5M
END:VALARM
END:VEVENT
END:VCALENDAR
