BEGIN:VCALENDAR
VERSION:2.0
PRODID:-//HasGeek//NONSGML Funnel//EN
DESCRIPTION:On React\, alternatives to React\, ReactNative and front-end e
 ngineering
X-WR-CALDESC:On React\, alternatives to React\, ReactNative and front-end 
 engineering
NAME:ReactFoo Hyderabad
X-WR-CALNAME:ReactFoo Hyderabad
REFRESH-INTERVAL;VALUE=DURATION:PT12H
SUMMARY:ReactFoo Hyderabad
TIMEZONE-ID:Asia/Kolkata
X-PUBLISHED-TTL:PT12H
X-WR-TIMEZONE:Asia/Kolkata
BEGIN:VEVENT
SUMMARY:Check-in 
DTSTART:20180317T031500Z
DTEND:20180317T035000Z
DTSTAMP:20260420T094200Z
UID:session/QSyVqKTqWKiXxpFRdwPuUN@hasgeek.com
SEQUENCE:0
CREATED:20180222T045629Z
DESCRIPTION:\n
LAST-MODIFIED:20180316T171423Z
LOCATION:Hyderabad
ORGANIZER;CN=ReactFoo:MAILTO:no-reply@hasgeek.com
BEGIN:VALARM
ACTION:display
DESCRIPTION:Check-in  in 5 minutes
TRIGGER:-PT5M
END:VALARM
END:VEVENT
BEGIN:VEVENT
SUMMARY:Introduction to ReactFoo Hyderabad
DTSTART:20180317T035000Z
DTEND:20180317T040000Z
DTSTAMP:20260420T094200Z
UID:session/CL6fcETKReuMJZxLSkNLzn@hasgeek.com
SEQUENCE:0
CREATED:20180222T045649Z
DESCRIPTION:\n
LAST-MODIFIED:20180316T171421Z
LOCATION:Room 1 - T-Hub\nHyderabad\nIN
ORGANIZER;CN=ReactFoo:MAILTO:no-reply@hasgeek.com
BEGIN:VALARM
ACTION:display
DESCRIPTION:Introduction to ReactFoo Hyderabad in Room 1 in 5 minutes
TRIGGER:-PT5M
END:VALARM
END:VEVENT
BEGIN:VEVENT
SUMMARY:Future of React.
DTSTART:20180317T040000Z
DTEND:20180317T043500Z
DTSTAMP:20260420T094200Z
UID:session/S12qgjgsNd1RPMypYCoKR9@hasgeek.com
SEQUENCE:2
CATEGORIES:Full talk,Beginner
CREATED:20180222T051206Z
DESCRIPTION:* React Portals\n* Fragments\n* Context API\n* Error Boundary\
 n* Render props\n* and a little bit about GraphQL\n\n### Speaker bio\n\nDe
 veloper @fyndx\, Loves open source and helping codesandbox\n
LAST-MODIFIED:20230810T072606Z
LOCATION:Room 1 - T-Hub\nHyderabad\nIN
ORGANIZER;CN=ReactFoo:MAILTO:no-reply@hasgeek.com
URL:https://hasgeek.com/reactfoo/2018-hyd/schedule/future-of-react-S12qgjg
 sNd1RPMypYCoKR9
BEGIN:VALARM
ACTION:display
DESCRIPTION:Future of React. in Room 1 in 5 minutes
TRIGGER:-PT5M
END:VALARM
END:VEVENT
BEGIN:VEVENT
SUMMARY:Demystifying higher order components and render props.
DTSTART:20180317T043500Z
DTEND:20180317T050500Z
DTSTAMP:20260420T094200Z
UID:session/UKncbna9wr8zcb7ZLfHn1g@hasgeek.com
SEQUENCE:2
CATEGORIES:Intermediate
CREATED:20180222T065157Z
DESCRIPTION:Breaking down the talk into points and sub points\n### Outline
 \n1. What are higher order functions\, very minimal example to explain the
  concept\n2. What are Higher Order components\, when should you use a high
 er order component\n  a. Why did higher order components come into being\n
   b. Example of a Higher order Component as a presentational component for
  rendering initial data for server    side rendering\n  c. Common examples
 \, compose\, recompose of redux\n        \n3. What are Render props\, when
  should you use a render prop\n  a. Example of a render prop being used fo
 r rendering initial data for server side rendering   \n  b. Composing mult
 iple components together with Render props\n  c. Common examples\, withRou
 ter of react router\n        \n4. Differences between HOC and RPs\n  Pros 
 and Cons of each\, differences\, when to use either?\n\n### Speaker bio\n\
 nI am a senior developer at KyePot\, Mumbai. I work as a javascript for my
  team. I've had over 2 and a half years experience working with React and 
 React Native and Node and keep experimenting with React patterns and perf 
 improvement trends. At kyepot recently\, we rewrote and refactored an enti
 re chunk of our front end code converting most of our HOCs to render props
  as\, it served our purpose better and made the code more readable and reu
 sable. Hence i thought i'd like to share my learnings with everyone.\n
LAST-MODIFIED:20230810T072606Z
LOCATION:Room 1 - T-Hub\nHyderabad\nIN
ORGANIZER;CN=ReactFoo:MAILTO:no-reply@hasgeek.com
URL:https://hasgeek.com/reactfoo/2018-hyd/schedule/demystifying-higher-ord
 er-components-and-render-props-UKncbna9wr8zcb7ZLfHn1g
BEGIN:VALARM
ACTION:display
DESCRIPTION:Demystifying higher order components and render props. in Room
  1 in 5 minutes
TRIGGER:-PT5M
END:VALARM
END:VEVENT
BEGIN:VEVENT
SUMMARY:Transition
DTSTART:20180317T050500Z
DTEND:20180317T051000Z
DTSTAMP:20260420T094200Z
UID:session/YZnnFdMkWUtz3RgJXFCqfK@hasgeek.com
SEQUENCE:0
CREATED:20180316T171935Z
DESCRIPTION:\n
LAST-MODIFIED:20180316T172231Z
LOCATION:Room 1 - T-Hub\nHyderabad\nIN
ORGANIZER;CN=ReactFoo:MAILTO:no-reply@hasgeek.com
BEGIN:VALARM
ACTION:display
DESCRIPTION:Transition in Room 1 in 5 minutes
TRIGGER:-PT5M
END:VALARM
END:VEVENT
BEGIN:VEVENT
SUMMARY:Sponsored talk: We made it easy for you! Painlessly develop and de
 ploy your react app using Hasura.
DTSTART:20180317T051000Z
DTEND:20180317T053500Z
DTSTAMP:20260420T094200Z
UID:session/AUi4yzAHXfAuu3kBoa9Qs3@hasgeek.com
SEQUENCE:0
CREATED:20180226T011407Z
DESCRIPTION:\n
LAST-MODIFIED:20200619T062516Z
LOCATION:Room 1 - T-Hub\nHyderabad\nIN
ORGANIZER;CN=ReactFoo:MAILTO:no-reply@hasgeek.com
BEGIN:VALARM
ACTION:display
DESCRIPTION:Sponsored talk: We made it easy for you! Painlessly develop an
 d deploy your react app using Hasura. in Room 1 in 5 minutes
TRIGGER:-PT5M
END:VALARM
END:VEVENT
BEGIN:VEVENT
SUMMARY:Morning beverage break
DTSTART:20180317T053500Z
DTEND:20180317T055500Z
DTSTAMP:20260420T094200Z
UID:session/TfFCTpMY8wyyTAogEB3x6x@hasgeek.com
SEQUENCE:0
CREATED:20180222T045818Z
DESCRIPTION:\n
LAST-MODIFIED:20180316T172235Z
LOCATION:Hyderabad
ORGANIZER;CN=ReactFoo:MAILTO:no-reply@hasgeek.com
BEGIN:VALARM
ACTION:display
DESCRIPTION:Morning beverage break in 5 minutes
TRIGGER:-PT5M
END:VALARM
END:VEVENT
BEGIN:VEVENT
SUMMARY:Sponsored talk: Presto – building cross platform transactional a
 pps using functional programming.
DTSTART:20180317T055500Z
DTEND:20180317T062000Z
DTSTAMP:20260420T094200Z
UID:session/C3uyAJdtCGybKoXDtZuS51@hasgeek.com
SEQUENCE:2
CATEGORIES:Full talk,Beginner
CREATED:20180226T011220Z
DESCRIPTION:* Building transactional apps should be easy\n * Pixel perfect
  designs in code - How we solved the UI code problem\n * Being cross-platf
 orm is not a choice\n * App Flow as User Journey - Presto DSL\n * Demo  - 
 Presto With React\n * Future Roadmap\n\n### Speaker bio\n\nUI Developer at
  Juspay for 2+ years\n
LAST-MODIFIED:20230810T072606Z
LOCATION:Room 1 - T-Hub\nHyderabad\nIN
ORGANIZER;CN=ReactFoo:MAILTO:no-reply@hasgeek.com
URL:https://hasgeek.com/reactfoo/2018-hyd/schedule/presto-building-cross-p
 latform-transactional-apps-using-fp-works-with-react-C3uyAJdtCGybKoXDtZuS5
 1
BEGIN:VALARM
ACTION:display
DESCRIPTION:Sponsored talk: Presto – building cross platform transaction
 al apps using functional programming. in Room 1 in 5 minutes
TRIGGER:-PT5M
END:VALARM
END:VEVENT
BEGIN:VEVENT
SUMMARY:We need to talk about our front-end workflow.
DTSTART:20180317T062000Z
DTEND:20180317T065500Z
DTSTAMP:20260420T094200Z
UID:session/SFhwnZj2our6FroePJ8Thu@hasgeek.com
SEQUENCE:2
CATEGORIES:Full talk,Intermediate
CREATED:20180222T045717Z
DESCRIPTION:**Watch the preview video to get a good idea of the talk**: ht
 tps://youtu.be/R6wsFkl1BN0\n\n\n\nCategories this talk fits in:\n\n1. Succ
 ess and failure stories of implementing React and React Native for your us
 e-case\n2. Front-end architecture patterns and approaches with React.\n\nT
 hings I did not mention in the talk:\n\n1. I talk about auth0 a lot\, but 
 only to share my experience. There is no mention about it's products or of
 fering. All the things I talk about are open sourced.\n2. There are 2 deci
 sions I underplayed in the video\,\n  a. Should you build it from scratch 
 or adopt a library like bluekit?\n  b. What should you use for documentati
 on? react-docgen\, storybook\, styleguidist\, etc?\n\n### Speaker bio\n\nB
 uilding design systems @auth0 ∙ ex @practo ∙ Built bundlesize & cost-o
 f-modules ∙ Makes youtube videos ∙ Co-organises @ReactBangalore ∙ Pl
 ays football\, Noob surfer/skateboarder\n
LAST-MODIFIED:20230810T072606Z
LOCATION:Room 1 - T-Hub\nHyderabad\nIN
ORGANIZER;CN=ReactFoo:MAILTO:no-reply@hasgeek.com
URL:https://hasgeek.com/reactfoo/2018-hyd/schedule/we-need-to-talk-about-o
 ur-frontend-workflow-SFhwnZj2our6FroePJ8Thu
BEGIN:VALARM
ACTION:display
DESCRIPTION:We need to talk about our front-end workflow. in Room 1 in 5 m
 inutes
TRIGGER:-PT5M
END:VALARM
END:VEVENT
BEGIN:VEVENT
SUMMARY:Transition
DTSTART:20180317T065500Z
DTEND:20180317T070000Z
DTSTAMP:20260420T094200Z
UID:session/F2gNgbUVdrpuY1at2H4jcW@hasgeek.com
SEQUENCE:0
CREATED:20180316T172015Z
DESCRIPTION:\n
LAST-MODIFIED:20180316T172254Z
LOCATION:Room 1 - T-Hub\nHyderabad\nIN
ORGANIZER;CN=ReactFoo:MAILTO:no-reply@hasgeek.com
BEGIN:VALARM
ACTION:display
DESCRIPTION:Transition in Room 1 in 5 minutes
TRIGGER:-PT5M
END:VALARM
END:VEVENT
BEGIN:VEVENT
SUMMARY:React to Vue: why and how?
DTSTART:20180317T070000Z
DTEND:20180317T073000Z
DTSTAMP:20260420T094200Z
UID:session/9oaYWxZDKC1AeJHr38PFcU@hasgeek.com
SEQUENCE:2
CATEGORIES:Full talk,Intermediate
CREATED:20180222T045840Z
DESCRIPTION:### React to Vue\n\n- Myths & Misconceptions\n  We will talk a
 bout the misrepresentation of Vue in React community\, general beliefs\, a
 nd set biases.\n\n- Feature Comparision\n  We will find similarities betwe
 en the two and discuss how few design decisions put them on different path
 s.\n\n- How's How\n  We will compare some vue and react code examples.\n\n
 - The Vue Ideology\n  We will talk about unspoken precepts shaping and imp
 roving the Vue ecosystem.\n\n- Take Away\n  A quick summary and we will li
 st key takeaways.\n\n### Speaker bio\n\nI am open source enthusiast who ha
 ppened to work for Myntra as a software developer. I contribute to vue eco
 system\, and I am also a member of core team maintaining vue.\n
LAST-MODIFIED:20230810T072606Z
LOCATION:Room 1 - T-Hub\nHyderabad\nIN
ORGANIZER;CN=ReactFoo:MAILTO:no-reply@hasgeek.com
URL:https://hasgeek.com/reactfoo/2018-hyd/schedule/react-to-vue-9oaYWxZDKC
 1AeJHr38PFcU
BEGIN:VALARM
ACTION:display
DESCRIPTION:React to Vue: why and how? in Room 1 in 5 minutes
TRIGGER:-PT5M
END:VALARM
END:VEVENT
BEGIN:VEVENT
SUMMARY:Lunch break
DTSTART:20180317T073000Z
DTEND:20180317T082000Z
DTSTAMP:20260420T094200Z
UID:session/X3RFESgFw6iWEGUGxrjkr7@hasgeek.com
SEQUENCE:0
CREATED:20180222T050833Z
DESCRIPTION:\n
LAST-MODIFIED:20180316T172802Z
LOCATION:Hyderabad
ORGANIZER;CN=ReactFoo:MAILTO:no-reply@hasgeek.com
BEGIN:VALARM
ACTION:display
DESCRIPTION:Lunch break in 5 minutes
TRIGGER:-PT5M
END:VALARM
END:VEVENT
BEGIN:VEVENT
SUMMARY:Leveraging Redux in Angular2 application.
DTSTART:20180317T082000Z
DTEND:20180317T085000Z
DTSTAMP:20260420T094200Z
UID:session/K3cNZFcaNQSuNh9Bv9iLLC@hasgeek.com
SEQUENCE:2
CATEGORIES:Crisp talk,Beginner
CREATED:20180222T050321Z
DESCRIPTION:To give the outline of my proposal\, please go through the dra
 ft slides of the presentation.\nhttps://docs.google.com/presentation/d/1Zg
 GmQaLOcSwZZzJsUz9EKkqdk4cv1Ti1WtEWfIAtg5U/edit?usp=sharing\n\n### Speaker 
 bio\n\nTo start with\, I'm a front end developer and working in this field
  from last two years. I always have thrust to try and challenge myself wit
 h new opportunities and technologies. Being in a startup\, I have tried my
  hands-on trending technologies completely and was the first one to bring 
 React in this ecosystem. Recently\, I have started my hands-on experience 
 in React Native. I'm always keen to experiment and put the best deliverabl
 es out of the court.\n
LAST-MODIFIED:20230810T072606Z
LOCATION:Room 1 - T-Hub\nHyderabad\nIN
ORGANIZER;CN=ReactFoo:MAILTO:no-reply@hasgeek.com
URL:https://hasgeek.com/reactfoo/2018-hyd/schedule/leveraging-redux-in-ang
 ular-2-application-K3cNZFcaNQSuNh9Bv9iLLC
BEGIN:VALARM
ACTION:display
DESCRIPTION:Leveraging Redux in Angular2 application. in Room 1 in 5 minut
 es
TRIGGER:-PT5M
END:VALARM
END:VEVENT
BEGIN:VEVENT
SUMMARY:Birds Of Feather (BOF) session: How do you evaluate alternatives t
 o React?
DTSTART:20180317T085000Z
DTEND:20180317T093000Z
DTSTAMP:20260420T094201Z
UID:session/SsY15oqWtHnJCjTaMgyboT@hasgeek.com
SEQUENCE:0
CREATED:20180222T083805Z
DESCRIPTION:\n
LAST-MODIFIED:20180316T172856Z
LOCATION:Room 2 - T-Hub\nHyderabad\nIN
ORGANIZER;CN=ReactFoo:MAILTO:no-reply@hasgeek.com
BEGIN:VALARM
ACTION:display
DESCRIPTION:Birds Of Feather (BOF) session: How do you evaluate alternativ
 es to React? in Room 2 in 5 minutes
TRIGGER:-PT5M
END:VALARM
END:VEVENT
BEGIN:VEVENT
SUMMARY:Profiling and optimizing performance of React applications.
DTSTART:20180317T085000Z
DTEND:20180317T091500Z
DTSTAMP:20260420T094201Z
UID:session/Qkrmd2yV6FNJAWEmZMVwFF@hasgeek.com
SEQUENCE:2
CATEGORIES:Crisp talk,Beginner
CREATED:20180222T050854Z
DESCRIPTION:1. Profiling your react application.\n\n2. Identifying expensi
 ve reconciliation and excessive rerenders.\n\n3. shouldComponent Update an
 d PureComponents\n\n4. Passing arrow fns in props.\n\n6. Passing array / o
 bjects in props using literal syntax.\n\n7. Advantage of breaking into sub
 components.\n\n8. Demos\n\n### Speaker bio\n\nI am Sachin Chopra\, a Softw
 are Engineer @ Myntra\, working on Web platform. I am excited about the ne
 w and fast-paced innovations happening in web technologies and try to be a
  part of them.\n
LAST-MODIFIED:20230810T072606Z
LOCATION:Room 1 - T-Hub\nHyderabad\nIN
ORGANIZER;CN=ReactFoo:MAILTO:no-reply@hasgeek.com
URL:https://hasgeek.com/reactfoo/2018-hyd/schedule/profiling-and-optimizin
 g-performance-of-react-applications-Qkrmd2yV6FNJAWEmZMVwFF
BEGIN:VALARM
ACTION:display
DESCRIPTION:Profiling and optimizing performance of React applications. in
  Room 1 in 5 minutes
TRIGGER:-PT5M
END:VALARM
END:VEVENT
BEGIN:VEVENT
SUMMARY:Transition
DTSTART:20180317T091500Z
DTEND:20180317T092000Z
DTSTAMP:20260420T094201Z
UID:session/L8AW64usNHsCMoDLRFHgfp@hasgeek.com
SEQUENCE:0
CREATED:20180316T172039Z
DESCRIPTION:\n
LAST-MODIFIED:20180316T172821Z
LOCATION:Room 1 - T-Hub\nHyderabad\nIN
ORGANIZER;CN=ReactFoo:MAILTO:no-reply@hasgeek.com
BEGIN:VALARM
ACTION:display
DESCRIPTION:Transition in Room 1 in 5 minutes
TRIGGER:-PT5M
END:VALARM
END:VEVENT
BEGIN:VEVENT
SUMMARY:Next-gen React state management with MobX State Tree.
DTSTART:20180317T092000Z
DTEND:20180317T100000Z
DTSTAMP:20260420T094201Z
UID:session/G8yURqv8W4snL4J4t5eqik@hasgeek.com
SEQUENCE:2
CATEGORIES:Full talk,Intermediate
CREATED:20180222T075950Z
DESCRIPTION:https://docs.google.com/presentation/d/1pV-hJE_bgRfuLNKHz_POwh
 kc-wMteUgxGTwI1Z8ClRw/edit?usp=sharing\n\n### Speaker bio\n\nHead of Engin
 eering at Insider.in\n
LAST-MODIFIED:20230810T072606Z
LOCATION:Room 1 - T-Hub\nHyderabad\nIN
ORGANIZER;CN=ReactFoo:MAILTO:no-reply@hasgeek.com
URL:https://hasgeek.com/reactfoo/2018-hyd/schedule/next-gen-react-state-ma
 nagement-with-mobx-state-tree-G8yURqv8W4snL4J4t5eqik
BEGIN:VALARM
ACTION:display
DESCRIPTION:Next-gen React state management with MobX State Tree. in Room 
 1 in 5 minutes
TRIGGER:-PT5M
END:VALARM
END:VEVENT
BEGIN:VEVENT
SUMMARY:Birds Of Feather session: Challenges and advantages in migrating t
 o React Native.
DTSTART:20180317T093500Z
DTEND:20180317T102000Z
DTSTAMP:20260420T094201Z
UID:session/HwBWy9UXzQFsfETkirRAu3@hasgeek.com
SEQUENCE:0
CREATED:20180226T012246Z
DESCRIPTION:\n
LAST-MODIFIED:20180316T173001Z
LOCATION:Room 2 - T-Hub\nHyderabad\nIN
ORGANIZER;CN=ReactFoo:MAILTO:no-reply@hasgeek.com
BEGIN:VALARM
ACTION:display
DESCRIPTION:Birds Of Feather session: Challenges and advantages in migrati
 ng to React Native. in Room 2 in 5 minutes
TRIGGER:-PT5M
END:VALARM
END:VEVENT
BEGIN:VEVENT
SUMMARY:Evening beverage break
DTSTART:20180317T100000Z
DTEND:20180317T102000Z
DTSTAMP:20260420T094201Z
UID:session/TxnB235d3PohvhMicU5okv@hasgeek.com
SEQUENCE:0
CREATED:20180222T051310Z
DESCRIPTION:\n
LAST-MODIFIED:20180316T172901Z
LOCATION:Hyderabad
ORGANIZER;CN=ReactFoo:MAILTO:no-reply@hasgeek.com
BEGIN:VALARM
ACTION:display
DESCRIPTION:Evening beverage break in 5 minutes
TRIGGER:-PT5M
END:VALARM
END:VEVENT
BEGIN:VEVENT
SUMMARY:Journey of Cheapass.in: A side project to a DIY platform.
DTSTART:20180317T102000Z
DTEND:20180317T110000Z
DTSTAMP:20260420T094201Z
UID:session/57rYeBVXgUULVdycUGR7sU@hasgeek.com
SEQUENCE:2
CATEGORIES:Intermediate
CREATED:20180226T012840Z
DESCRIPTION:This talk would be variant of the talk presented during JSFoo 
 2016 titled - "Scaling Cheapass.in from 0 to 500\,000 price drop alerts". 
 It'll cover what was presented during JSFoo 2016 alongwith additional cont
 ent of creating a similar platform using serverless technologies which wou
 ld have been a natural progression for Cheapass\, had it been alive.\n\n##
 # Speaker bio\n\nI'm a product guy with ninja level skills for Full stack 
 Javascript development. I have led teams and built products for Instamojo.
 com\, Cleartax.in in the past.\n
LAST-MODIFIED:20230810T072606Z
LOCATION:Room 1 - T-Hub\nHyderabad\nIN
ORGANIZER;CN=ReactFoo:MAILTO:no-reply@hasgeek.com
URL:https://hasgeek.com/reactfoo/2018-hyd/schedule/journey-of-cheapass-in-
 a-side-project-to-a-diy-platform-57rYeBVXgUULVdycUGR7sU
BEGIN:VALARM
ACTION:display
DESCRIPTION:Journey of Cheapass.in: A side project to a DIY platform. in R
 oom 1 in 5 minutes
TRIGGER:-PT5M
END:VALARM
END:VEVENT
BEGIN:VEVENT
SUMMARY:Transition
DTSTART:20180317T110000Z
DTEND:20180317T110500Z
DTSTAMP:20260420T094201Z
UID:session/7LKbsoaNHgu9grLkk8rxWo@hasgeek.com
SEQUENCE:0
CREATED:20180316T173015Z
DESCRIPTION:\n
LAST-MODIFIED:20180316T173015Z
LOCATION:Room 1 - T-Hub\nHyderabad\nIN
ORGANIZER;CN=ReactFoo:MAILTO:no-reply@hasgeek.com
BEGIN:VALARM
ACTION:display
DESCRIPTION:Transition in Room 1 in 5 minutes
TRIGGER:-PT5M
END:VALARM
END:VEVENT
BEGIN:VEVENT
SUMMARY:Panel discussion: Building reusable UI: engineering\, maintenance 
 and team challenges.
DTSTART:20180317T110500Z
DTEND:20180317T115500Z
DTSTAMP:20260420T094201Z
UID:session/JLJ9nDUKUQnnXoY7V65pV@hasgeek.com
SEQUENCE:0
CREATED:20180222T051426Z
DESCRIPTION:\n
LAST-MODIFIED:20180316T172516Z
LOCATION:Room 1 - T-Hub\nHyderabad\nIN
ORGANIZER;CN=ReactFoo:MAILTO:no-reply@hasgeek.com
BEGIN:VALARM
ACTION:display
DESCRIPTION:Panel discussion: Building reusable UI: engineering\, maintena
 nce and team challenges. in Room 1 in 5 minutes
TRIGGER:-PT5M
END:VALARM
END:VEVENT
END:VCALENDAR
