BEGIN:VCALENDAR
VERSION:2.0
PRODID:-//HasGeek//NONSGML Funnel//EN
DESCRIPTION:Ideas behind building large scale latency tolerant distributed
  systems.
X-WR-CALDESC:Ideas behind building large scale latency tolerant distribute
 d systems.
NAME:PWL Sep 2020: "The Tail at Scale"
X-WR-CALNAME:PWL Sep 2020: "The Tail at Scale"
REFRESH-INTERVAL;VALUE=DURATION:PT12H
SUMMARY:PWL Sep 2020: "The Tail at Scale"
TIMEZONE-ID:Asia/Kolkata
X-PUBLISHED-TTL:PT12H
X-WR-TIMEZONE:Asia/Kolkata
BEGIN:VEVENT
SUMMARY:Introduction to Tail at Scale
DTSTART:20200917T123000Z
DTEND:20200917T123500Z
DTSTAMP:20260421T141831Z
UID:session/VoycXoMamYAadrbPmX3gEF@hasgeek.com
SEQUENCE:0
CREATED:20200907T075223Z
DESCRIPTION:\n
LAST-MODIFIED:20201121T082521Z
LOCATION:Online
ORGANIZER;CN="Papers We Love Bangalore":MAILTO:no-reply@hasgeek.com
BEGIN:VALARM
ACTION:display
DESCRIPTION:Introduction to Tail at Scale in 5 minutes
TRIGGER:-PT5M
END:VALARM
END:VEVENT
BEGIN:VEVENT
SUMMARY:Techniques discussed in The Tail at Scale
DTSTART:20200917T123500Z
DTEND:20200917T125500Z
DTSTAMP:20260421T141831Z
UID:session/HJAPWZ9u7dtjXKAqYPWxZR@hasgeek.com
SEQUENCE:0
CREATED:20200907T075237Z
DESCRIPTION:\n
LAST-MODIFIED:20201121T083300Z
LOCATION:Online
ORGANIZER;CN="Papers We Love Bangalore":MAILTO:no-reply@hasgeek.com
BEGIN:VALARM
ACTION:display
DESCRIPTION:Techniques discussed in The Tail at Scale in 5 minutes
TRIGGER:-PT5M
END:VALARM
END:VEVENT
BEGIN:VEVENT
SUMMARY:Hedged Requests as discussed in The Tail at Scale
DTSTART:20200917T125500Z
DTEND:20200917T131000Z
DTSTAMP:20260421T141831Z
UID:session/AwkcyS9JnFPAr36HB7PsE9@hasgeek.com
SEQUENCE:0
CREATED:20201121T083316Z
DESCRIPTION:\n
LAST-MODIFIED:20201121T083337Z
LOCATION:Online
ORGANIZER;CN="Papers We Love Bangalore":MAILTO:no-reply@hasgeek.com
BEGIN:VALARM
ACTION:display
DESCRIPTION:Hedged Requests as discussed in The Tail at Scale in 5 minutes
TRIGGER:-PT5M
END:VALARM
END:VEVENT
BEGIN:VEVENT
SUMMARY:Cross requests and long-term adaptations
DTSTART:20200917T131000Z
DTEND:20200917T132500Z
DTSTAMP:20260421T141831Z
UID:session/XyFjXu11cL4GRYEdmWTc7M@hasgeek.com
SEQUENCE:0
CREATED:20201121T083825Z
DESCRIPTION:\n
LAST-MODIFIED:20201121T083843Z
LOCATION:Online
ORGANIZER;CN="Papers We Love Bangalore":MAILTO:no-reply@hasgeek.com
BEGIN:VALARM
ACTION:display
DESCRIPTION:Cross requests and long-term adaptations in 5 minutes
TRIGGER:-PT5M
END:VALARM
END:VEVENT
BEGIN:VEVENT
SUMMARY:Q&A session
DTSTART:20200917T132500Z
DTEND:20200917T133500Z
DTSTAMP:20260421T141831Z
UID:session/6JNjS2Sj9DpQQTzWppVamD@hasgeek.com
SEQUENCE:0
CREATED:20201121T084605Z
DESCRIPTION:\n
LAST-MODIFIED:20201121T084611Z
LOCATION:Online
ORGANIZER;CN="Papers We Love Bangalore":MAILTO:no-reply@hasgeek.com
BEGIN:VALARM
ACTION:display
DESCRIPTION:Q&A session in 5 minutes
TRIGGER:-PT5M
END:VALARM
END:VEVENT
BEGIN:VEVENT
SUMMARY:Hedge Requests in Practice
DTSTART:20200917T133500Z
DTEND:20200917T134000Z
DTSTAMP:20260421T141831Z
UID:session/APuGx3H933FoQ93KE9jpyR@hasgeek.com
SEQUENCE:0
CREATED:20200907T075302Z
DESCRIPTION:\n
LAST-MODIFIED:20201121T084713Z
LOCATION:Online
ORGANIZER;CN="Papers We Love Bangalore":MAILTO:no-reply@hasgeek.com
BEGIN:VALARM
ACTION:display
DESCRIPTION:Hedge Requests in Practice in 5 minutes
TRIGGER:-PT5M
END:VALARM
END:VEVENT
END:VCALENDAR
