BEGIN:VCALENDAR
VERSION:2.0
PRODID:-//HasGeek//NONSGML Funnel//EN
DESCRIPTION:Distributed Data Store for the Social Graph
X-WR-CALDESC:Distributed Data Store for the Social Graph
NAME:PWL Jun 2021: "Facebook's Tao"
X-WR-CALNAME:PWL Jun 2021: "Facebook's Tao"
REFRESH-INTERVAL;VALUE=DURATION:PT12H
SUMMARY:PWL Jun 2021: "Facebook's Tao"
TIMEZONE-ID:Asia/Kolkata
X-PUBLISHED-TTL:PT12H
X-WR-TIMEZONE:Asia/Kolkata
BEGIN:VEVENT
SUMMARY:PWL Jun 2021: "Facebook's Tao"
DTSTART:20210610T123000Z
DTEND:20210610T140000Z
DTSTAMP:20260421T120606Z
UID:session/5Diqh5QaqbKpzV6FSkuj7d@hasgeek.com
SEQUENCE:3
CREATED:20210521T032306Z
DESCRIPTION:# Tao: Distributed Data Store for the Social Graph\n\nWe will 
 discuss Facebook's seminal paper on TAO - their distributed data store for
  their social graph. TAO is a geographically distributed data store that p
 rovides efficient and timely access to the social graph for Facebook’s d
 emanding workload using a fixed set of queries. It is deployed at Facebook
 \, replacing memcache for many data types that fit its model. The system r
 uns on thousands of machines\, is widely distributed\, and provides access
  to many petabytes of data. TAO can process a billion reads and millions o
 f writes each second.\n\n**Paper Link:** https://github.com/papers-we-love
 /papers-we-love/blob/master/datastores/tao-facebook-distributed-datastore.
 pdf\n\n**Presenter:** Rohit Raveendran (https://www.linkedin.com/in/rohit-
 raveendran-1529b1131) \n\nRohit is a Principal Architect at Capillary Tech
 nologies\, and works across platform engineering\, systems design\, and in
 frastructure engineering. Having been introduced to computers by the local
  LUG\, he has transitioned from an enthusiast and a computational fluid dy
 namics practitioner to a software developer with a keen interest in Infras
 tructure Engineering. Cycling helps him keep away from the laptop every no
 w and then.\n\n**Format:** We will have about 45-60 mins for the paper wal
 kthrough\, and keep rest of the time open for Q&A. The participants are re
 quested to read the paper before the session to keep the discussion intera
 ctive\, and engaging. \n\n**Participation:** Zoom Link - https://zoom.us/j
 /93573252736?pwd=bEwyaVdjSXp6Yk11bEM1OGNHS2thQT09\n                       
           YouTube URL - https://www.youtube.com/watch?v=vG1XHzryh9A\n\n**S
 lides:**  https://github.com/rr0hit/presentations/blob/main/TAO.pdf\n
LAST-MODIFIED:20231121T064429Z
LOCATION:Online - https://hasgeek.com/pwl_bangalore/pwl-june-2021-meetup-f
 acebooks-tao/
ORGANIZER;CN="Papers We Love Bangalore":MAILTO:no-reply@hasgeek.com
URL:https://hasgeek.com/pwl_bangalore/pwl-june-2021-meetup-facebooks-tao/
BEGIN:VALARM
ACTION:display
DESCRIPTION:PWL Jun 2021: "Facebook's Tao" in 5 minutes
TRIGGER:-PT5M
END:VALARM
END:VEVENT
END:VCALENDAR
