BEGIN:VCALENDAR
VERSION:2.0
PRODID:-//HasGeek//NONSGML Funnel//EN
DESCRIPTION:Written by Pat Helland & Dave Campbell. Read by Shripad Agashe
X-WR-CALDESC:Written by Pat Helland & Dave Campbell. Read by Shripad Agash
 e
NAME:PWL Aug 2021: "Building on Quicksand"
X-WR-CALNAME:PWL Aug 2021: "Building on Quicksand"
REFRESH-INTERVAL;VALUE=DURATION:PT12H
SUMMARY:PWL Aug 2021: "Building on Quicksand"
TIMEZONE-ID:Asia/Kolkata
X-PUBLISHED-TTL:PT12H
X-WR-TIMEZONE:Asia/Kolkata
BEGIN:VEVENT
SUMMARY:Intro + Ice Breaker
DTSTART:20210820T133000Z
DTEND:20210820T133500Z
DTSTAMP:20260421T142313Z
UID:session/TUw3w5Ls8fZtDAQZkpqvWA@hasgeek.com
SEQUENCE:1
CREATED:20210809T154614Z
DESCRIPTION:We will do quick introductions and some ice breaker conversati
 ons.
LAST-MODIFIED:20230108T103046Z
LOCATION:Online
ORGANIZER;CN="Papers We Love Bangalore":MAILTO:no-reply@hasgeek.com
BEGIN:VALARM
ACTION:display
DESCRIPTION:Intro + Ice Breaker in 5 minutes
TRIGGER:-PT5M
END:VALARM
END:VEVENT
BEGIN:VEVENT
SUMMARY:Paper Discussion
DTSTART:20210820T133500Z
DTEND:20210820T144000Z
DTSTAMP:20260421T142313Z
UID:session/66boF9etGmypPrJgUXvRZ8@hasgeek.com
SEQUENCE:1
CREATED:20210809T154831Z
DESCRIPTION:* Shripad will present the paper and ideas from the paper\n* P
 lease read the paper and come\n* Have questions and your ideas ready\n* In
 tegrated Q&A
LAST-MODIFIED:20230108T103046Z
LOCATION:Online
ORGANIZER;CN="Papers We Love Bangalore":MAILTO:no-reply@hasgeek.com
BEGIN:VALARM
ACTION:display
DESCRIPTION:Paper Discussion in 5 minutes
TRIGGER:-PT5M
END:VALARM
END:VEVENT
END:VCALENDAR
