BEGIN:VCALENDAR
VERSION:2.0
PRODID:-//HasGeek//NONSGML Funnel//EN
DESCRIPTION:Google's Spanner Paper\, read by Unmesh Joshi
X-WR-CALDESC:Google's Spanner Paper\, read by Unmesh Joshi
NAME:PWL Dec 2021: "Spanner" by Google
X-WR-CALNAME:PWL Dec 2021: "Spanner" by Google
REFRESH-INTERVAL;VALUE=DURATION:PT12H
SUMMARY:PWL Dec 2021: "Spanner" by Google
TIMEZONE-ID:Asia/Kolkata
X-PUBLISHED-TTL:PT12H
X-WR-TIMEZONE:Asia/Kolkata
BEGIN:VEVENT
SUMMARY:Introductions and Icebreaker
DTSTART:20211217T124500Z
DTEND:20211217T130000Z
DTSTAMP:20260421T141837Z
UID:session/8TuHGCTAfjb28t7vREw86f@hasgeek.com
SEQUENCE:1
CREATED:20211202T032607Z
DESCRIPTION:* Meet and greet\n* Speaker and attendee intros\n* Light chat
LAST-MODIFIED:20230108T103046Z
LOCATION:Online
ORGANIZER;CN="Papers We Love Bangalore":MAILTO:no-reply@hasgeek.com
BEGIN:VALARM
ACTION:display
DESCRIPTION:Introductions and Icebreaker in 5 minutes
TRIGGER:-PT5M
END:VALARM
END:VEVENT
BEGIN:VEVENT
SUMMARY:Reading Google's Spanner
DTSTART:20211217T130000Z
DTEND:20211217T143500Z
DTSTAMP:20260421T141837Z
UID:session/WMPfzpdUcNVd1QsHcXGGCV@hasgeek.com
SEQUENCE:1
CREATED:20211202T032701Z
DESCRIPTION:* Unmesh will present the paper\n* Discussions will go hand-in
 -hand
LAST-MODIFIED:20230108T103046Z
LOCATION:Online
ORGANIZER;CN="Papers We Love Bangalore":MAILTO:no-reply@hasgeek.com
BEGIN:VALARM
ACTION:display
DESCRIPTION:Reading Google's Spanner in 5 minutes
TRIGGER:-PT5M
END:VALARM
END:VEVENT
END:VCALENDAR
